PDS_VERSION_ID = PDS3
/* FILE DATA ELEMENTS */
RECORD_TYPE = UNDEFINED
/* POINTERS TO DATA OBJECTS */
^IMAGE = ("HL083_0000_ND4.TIF")
/* IDENTIFICATION DATA ELEMENTS */
DATA_SET_ID = "MEX-M-HRSC-4-REFDR-MAPPROJECT-EXT7-V4.0"
DATA_SET_NAME = "MARS EXPRESS HRSC MAP PROJECTED REFDR EXTENSION7 V4.0"
DETECTOR_ID = MEX_HRSC_NADIR
EVENT_TYPE = "MARS-REGIONAL-MAPPING-Im-Fl-Pf"
INSTRUMENT_HOST_ID = MEX
INSTRUMENT_HOST_NAME = "MARS EXPRESS"
INSTRUMENT_ID = HRSC
INSTRUMENT_NAME = "HIGH RESOLUTION STEREO CAMERA"
MISSION_NAME = "MARS EXPRESS"
MISSION_PHASE_NAME = ME_Phase_43
PROCESSING_LEVEL_ID = 4
PRODUCT_CREATION_TIME = 2023-01-29T17:38:44.000Z
PRODUCT_ID = "HL083_0000_ND4.TIF"
RELEASE_ID = 0005
REVISION_ID = 0000
/* QUALITY DATA ELEMENTS */
DATA_QUALITY_ID = 1
DATA_QUALITY_DESC = "Data calculated based on original SPICE kernels"
/* TIME DATA ELEMENTS */
SPACECRAFT_CLOCK_START_COUNT = "1/0547358891.25668"
SPACECRAFT_CLOCK_STOP_COUNT = "1/0547359124.24146"
START_TIME = 2020-09-05T04:09:17.622Z
STOP_TIME = 2020-09-05T04:12:05.620Z
/* ORBITAL DATA ELEMENTS */
ASCENDING_NODE_LONGITUDE = 179.74
MAXIMUM_RESOLUTION = 0.0132
FOOTPRINT_POINT_LATITUDE = (-61.3362,-61.3104,-61.2858,-61.2555, -61.2545,-61.2511,-61.0304,-60.8095, -60.5885,-60.3673,-60.1461,-59.9247, -59.7032,-59.4816,-59.2599,-59.0381, -58.8162,-58.5942,-58.3721,-58.1499, -57.9276,-57.7052,-57.4828,-57.2602, -57.0376,-56.8149,-56.5921,-56.3703, -55.9389,-55.5071,-55.0752,-54.5349, -54.1025,-53.6699,-53.2373,-52.8045, -52.5881,-52.3716,-52.047,-51.614, -51.2894,-51.0728,-50.8563,-50.4234, -50.3152,-50.3064,-50.3181,-50.331, -50.3393,-50.3475,-50.3477,-50.3481, -50.5652,-50.7823,-50.9994,-51.2165, -51.5421,-51.8678,-52.0849,-52.302, -52.6277,-52.9533,-53.1704,-53.3874, -53.6044,-53.8214,-54.0384,-54.2554, -54.4723,-54.6892,-54.9061,-55.123, -55.3398,-55.5565,-55.7732,-55.9899, -56.4231,-56.7574,-56.981,-57.2046, -57.4282,-57.6517,-57.8751,-58.0984, -58.3217,-58.5449,-58.768,-58.991, -59.2139,-59.4368,-59.6596,-59.8823, -60.1049,-60.3273,-60.5497,-60.772, -60.9942,-61.2163,-61.3273,-61.3362)
FOOTPRINT_POINT_LONGITUDE = (146.783,145.851,145.123,144.354,144.33 ,144.296,144.34,144.382,144.424,144.465 ,144.506,144.545,144.584,144.622, 144.659,144.696,144.732,144.767,144.801 ,144.835,144.868,144.901,144.933, 144.964,144.995,145.025,145.055,145.084 ,145.139,145.191,145.242,145.302, 145.348,145.392,145.435,145.476,145.496 ,145.516,145.545,145.582,145.609, 145.626,145.643,145.677,145.685,145.685 ,146.093,146.613,147.01,147.482,147.501 ,147.51,147.501,147.492,147.484,147.475 ,147.462,147.447,147.438,147.429, 147.414,147.398,147.388,147.377,147.368 ,147.357,147.346,147.334,147.323, 147.312,147.3,147.289,147.277,147.265, 147.253,147.241,147.214,147.196,147.183 ,147.169,147.156,147.141,147.126, 147.111,147.096,147.08,147.065,147.049, 147.032,147.015,146.999,146.981,146.963 ,146.945,146.926,146.907,146.888, 146.868,146.858,146.783)
ORBIT_NUMBER = 21083
ORBITAL_ECCENTRICITY = 0.577
ORBITAL_INCLINATION = 86.98
ORBITAL_SEMIMAJOR_AXIS = 8789.05
PERIAPSIS_ALTITUDE = 333.37
PERIAPSIS_ARGUMENT_ANGLE = 307.64
PERIAPSIS_TIME = 2020-09-05T04:11:37.000Z
SPACECRAFT_ORIENTATION = (0.0,1.0,0.0)
^MEX_ORIENTATION_DESC = "MEX_ORIENTATION_DESC.TXT"
SPACECRAFT_POINTING_MODE = ACROSSTRACK
^MEX_POINTING_DESC = "MEX_POINTING_DESC.TXT"
RIGHT_ASCENSION = -1e+32
DECLINATION = -1e+32
OFFSET_ANGLE = -0.31
SPACECRAFT_SOLAR_DISTANCE = 2.07802e+08
TARGET_NAME = MARS
/* CAMERA DATA ELEMENTS */
DETECTOR_TEMPERATURE = 17.7588
FOCAL_PLANE_TEMPERATURE = 7.9716
INST_CMPRS_NAME = "DISCRETE COSINE TRANSFORMATION (DCT)"
INST_CMPRS_RATIO = 5.86963
INST_CMPRS_QUALITY = 0
INST_CMPRS_QUANTZ_TBL_ID = 0
INSTRUMENT_TEMPERATURE = 11.0301
LENS_TEMPERATURE = 9.195
MACROPIXEL_SIZE = 1
MISSING_FRAMES = 0
PIXEL_SUBSAMPLING_FLAG = N
SIGNAL_CHAIN_ID = 0
/* RADIOMETRIC DATA ELEMENTS */
BANDWIDTH = 177.0
CENTER_FILTER_WAVELENGTH = 677.5
RADIANCE_OFFSET = 4.83513
RADIANCE_SCALING_FACTOR = 0.0128937
REFLECTANCE_SCALING_FACTOR = 0.000295773
MEX:REFLECTANCE_OFFSET = 0.110915
/* IMAGE OBJECT DEFINITIONS */
OBJECT = IMAGE
  INTERCHANGE_FORMAT = BINARY
  LINES = 52301
  LINE_SAMPLES = 8455
  SAMPLE_TYPE = UNSIGNED_INTEGER
  SAMPLE_BITS = 8
  BANDS = 1
  BAND_STORAGE_TYPE = BAND_SEQUENTIAL
  MAXIMUM = 255
  MEAN = 111.201
  MINIMUM = 1
  STANDARD_DEVIATION = 31.4699
END_OBJECT = IMAGE
/* MAP OBJECT DEFINITIONS */
OBJECT = IMAGE_MAP_PROJECTION
  ^DATA_SET_MAP_PROJECTION_CATALOG= "DSMAP.CAT"
  A_AXIS_RADIUS = 3396.0
  B_AXIS_RADIUS = 3396.0
  C_AXIS_RADIUS = 3396.0
  CENTER_LATITUDE = 0.0
  CENTER_LONGITUDE = 146.0
  COORDINATE_SYSTEM_NAME = PLANETOGRAPHIC
  COORDINATE_SYSTEM_TYPE = "BODY-FIXED ROTATING"
  EASTERNMOST_LONGITUDE = 147.51
  FIRST_STANDARD_PARALLEL = "N/A"
  LINE_FIRST_PIXEL = 1
  LINE_LAST_PIXEL = 52301
  LINE_PROJECTION_OFFSET = -238540.0
  MAP_PROJECTION_ROTATION = 0.0
  MAP_PROJECTION_TYPE = SINUSOIDAL
  MAP_RESOLUTION = 4741.71043093333
  MAP_SCALE = 0.0125
  MAXIMUM_LATITUDE = -50.3064
  MINIMUM_LATITUDE = -61.3362
  POSITIVE_LONGITUDE_DIRECTION = EAST
  REFERENCE_LATITUDE = "N/A"
  REFERENCE_LONGITUDE = "N/A"
  SAMPLE_FIRST_PIXEL = 1
  SAMPLE_LAST_PIXEL = 8455
  SAMPLE_PROJECTION_OFFSET = 3885.0
  SECOND_STANDARD_PARALLEL = "N/A"
  WESTERNMOST_LONGITUDE = 144.296
END_OBJECT = IMAGE_MAP_PROJECTION
END
