PDS_VERSION_ID = PDS3
/* FILE DATA ELEMENTS */
RECORD_TYPE = UNDEFINED
/* POINTERS TO DATA OBJECTS */
^IMAGE = ("HL082_0000_S24.TIF")
/* IDENTIFICATION DATA ELEMENTS */
DATA_SET_ID = "MEX-M-HRSC-4-REFDR-MAPPROJECT-EXT7-V4.0"
DATA_SET_NAME = "MARS EXPRESS HRSC MAP PROJECTED REFDR EXTENSION7 V4.0"
DETECTOR_ID = MEX_HRSC_S2
EVENT_TYPE = "MARS-REGIONAL-MAPPING-Te-Im-Pf"
INSTRUMENT_HOST_ID = MEX
INSTRUMENT_HOST_NAME = "MARS EXPRESS"
INSTRUMENT_ID = HRSC
INSTRUMENT_NAME = "HIGH RESOLUTION STEREO CAMERA"
MISSION_NAME = "MARS EXPRESS"
MISSION_PHASE_NAME = ME_Phase_43
PROCESSING_LEVEL_ID = 4
PRODUCT_CREATION_TIME = 2023-01-29T17:38:44.000Z
PRODUCT_ID = "HL082_0000_S24.TIF"
RELEASE_ID = 0005
REVISION_ID = 0000
/* QUALITY DATA ELEMENTS */
DATA_QUALITY_ID = 1
DATA_QUALITY_DESC = "Data calculated based on original SPICE kernels"
/* TIME DATA ELEMENTS */
SPACECRAFT_CLOCK_START_COUNT = "1/0547333915.25676"
SPACECRAFT_CLOCK_STOP_COUNT = "1/0547334168.24749"
START_TIME = 2020-09-04T21:12:28.488Z
STOP_TIME = 2020-09-04T21:15:39.382Z
/* ORBITAL DATA ELEMENTS */
ASCENDING_NODE_LONGITUDE = 179.76
MAXIMUM_RESOLUTION = 0.0269
FOOTPRINT_POINT_LATITUDE = (-51.4376,-51.4015,-51.3621,-51.3412, -51.311,-51.3095,-51.2754,-50.8614, -50.5915,-50.1866,-49.9175,-49.6589, -49.2491,-48.9767,-48.711,-48.2996, -48.0268,-47.6195,-47.2112,-46.8022, -46.3925,-46.1172,-45.844,-45.4341, -45.0246,-44.6121,-44.3358,-44.0607, -43.7864,-43.5032,-43.2268,-42.9351, -42.501,-42.2162,-41.9381,-41.6513, -41.2217,-40.9351,-40.6478,-40.2164, -39.785,-39.4973,-39.2086,-38.9189, -38.6317,-38.2018,-37.9211,-37.4758, -37.3286,-37.2871,-37.3232,-37.3532, -37.378,-37.3968,-37.4149,-37.416, -37.4169,-37.7073,-38.1422,-38.4328, -38.7215,-39.1538,-39.4422,-39.7303, -40.1622,-40.4497,-40.7376,-41.0247, -41.3131,-41.747,-42.1683,-42.5959, -42.8811,-43.3084,-43.7348,-44.0154, -44.2902,-44.702,-44.9762,-45.2492, -45.5229,-45.9331,-46.2066,-46.4831, -46.7559,-47.1646,-47.4373,-47.846, -48.1188,-48.5283,-48.7997,-49.0709, -49.4767,-49.8828,-50.1534,-50.4225, -50.8271,-51.2315,-51.3666,-51.4376)
FOOTPRINT_POINT_LONGITUDE = (248.402,247.872,247.338,247.068, 246.696,246.679,246.635,246.668,246.697 ,246.739,246.767,246.805,246.839, 246.862,246.891,246.922,246.943,246.976 ,247.008,247.038,247.066,247.083, 247.102,247.128,247.155,247.178,247.193 ,247.208,247.223,247.239,247.258, 247.268,247.284,247.298,247.314,247.326 ,247.343,247.354,247.365,247.38,247.395 ,247.404,247.413,247.421,247.43,247.443 ,247.454,247.46,247.463,247.463,247.893 ,248.256,248.57,248.819,249.067,249.083 ,249.088,249.08,249.066,249.057,249.048 ,249.034,249.024,249.014,248.999, 248.989,248.978,248.968,248.957,248.939 ,248.924,248.906,248.894,248.876, 248.857,248.845,248.832,248.813,248.8, 248.787,248.773,248.753,248.738,248.723 ,248.709,248.686,248.671,248.647, 248.631,248.606,248.589,248.572,248.546 ,248.519,248.501,248.482,248.454, 248.425,248.414,248.402)
ORBIT_NUMBER = 21082
ORBITAL_ECCENTRICITY = 0.577
ORBITAL_INCLINATION = 86.98
ORBITAL_SEMIMAJOR_AXIS = 8788.66
PERIAPSIS_ALTITUDE = 332.09
PERIAPSIS_ARGUMENT_ANGLE = 307.77
PERIAPSIS_TIME = 2020-09-04T21:12:34.000Z
SPACECRAFT_ORIENTATION = (0.0,1.0,0.0)
^MEX_ORIENTATION_DESC = "MEX_ORIENTATION_DESC.TXT"
SPACECRAFT_POINTING_MODE = INERT
^MEX_POINTING_DESC = "MEX_POINTING_DESC.TXT"
RIGHT_ASCENSION = 18.865
DECLINATION = 35.717
OFFSET_ANGLE = -1e+32
SPACECRAFT_SOLAR_DISTANCE = 2.07782e+08
TARGET_NAME = MARS
/* CAMERA DATA ELEMENTS */
DETECTOR_TEMPERATURE = 18.9822
FOCAL_PLANE_TEMPERATURE = 9.195
INST_CMPRS_NAME = "DISCRETE COSINE TRANSFORMATION (DCT)"
INST_CMPRS_RATIO = 11.3723
INST_CMPRS_QUALITY = 0
INST_CMPRS_QUANTZ_TBL_ID = 0
INSTRUMENT_TEMPERATURE = 11.6418
LENS_TEMPERATURE = 9.3989
MACROPIXEL_SIZE = 2
MISSING_FRAMES = 0
PIXEL_SUBSAMPLING_FLAG = N
SIGNAL_CHAIN_ID = 1
/* RADIOMETRIC DATA ELEMENTS */
BANDWIDTH = 178.0
CENTER_FILTER_WAVELENGTH = 679.0
RADIANCE_OFFSET = 4.8116
RADIANCE_SCALING_FACTOR = 0.0218342
REFLECTANCE_SCALING_FACTOR = 0.000499208
MEX:REFLECTANCE_OFFSET = 0.110011
/* IMAGE OBJECT DEFINITIONS */
OBJECT = IMAGE
  INTERCHANGE_FORMAT = BINARY
  LINES = 33387
  LINE_SAMPLES = 4112
  SAMPLE_TYPE = UNSIGNED_INTEGER
  SAMPLE_BITS = 8
  BANDS = 1
  BAND_STORAGE_TYPE = BAND_SEQUENTIAL
  MAXIMUM = 255
  MEAN = 110.725
  MINIMUM = 1
  STANDARD_DEVIATION = 27.7936
END_OBJECT = IMAGE
/* MAP OBJECT DEFINITIONS */
OBJECT = IMAGE_MAP_PROJECTION
  ^DATA_SET_MAP_PROJECTION_CATALOG= "DSMAP.CAT"
  A_AXIS_RADIUS = 3396.0
  B_AXIS_RADIUS = 3396.0
  C_AXIS_RADIUS = 3396.0
  CENTER_LATITUDE = 0.0
  CENTER_LONGITUDE = 248.0
  COORDINATE_SYSTEM_NAME = PLANETOGRAPHIC
  COORDINATE_SYSTEM_TYPE = "BODY-FIXED ROTATING"
  EASTERNMOST_LONGITUDE = 249.088
  FIRST_STANDARD_PARALLEL = "N/A"
  LINE_FIRST_PIXEL = 1
  LINE_LAST_PIXEL = 33387
  LINE_PROJECTION_OFFSET = -88409.25
  MAP_PROJECTION_ROTATION = 0.0
  MAP_PROJECTION_TYPE = SINUSOIDAL
  MAP_RESOLUTION = 2370.85521546667
  MAP_SCALE = 0.025
  MAXIMUM_LATITUDE = -37.2871
  MINIMUM_LATITUDE = -51.4376
  POSITIVE_LONGITUDE_DIRECTION = EAST
  REFERENCE_LATITUDE = "N/A"
  REFERENCE_LONGITUDE = "N/A"
  SAMPLE_FIRST_PIXEL = 1
  SAMPLE_LAST_PIXEL = 4112
  SAMPLE_PROJECTION_OFFSET = 2266.25
  SECOND_STANDARD_PARALLEL = "N/A"
  WESTERNMOST_LONGITUDE = 246.635
END_OBJECT = IMAGE_MAP_PROJECTION
END
