PDS_VERSION_ID = PDS3
/* FILE DATA ELEMENTS */
RECORD_TYPE = UNDEFINED
/* POINTERS TO DATA OBJECTS */
^IMAGE = ("HL072_0000_P14.TIF")
/* IDENTIFICATION DATA ELEMENTS */
DATA_SET_ID = "MEX-M-HRSC-4-REFDR-MAPPROJECT-EXT7-V4.0"
DATA_SET_NAME = "MARS EXPRESS HRSC MAP PROJECTED REFDR EXTENSION7 V4.0"
DETECTOR_ID = MEX_HRSC_P1
EVENT_TYPE = "MARS-REGIONAL-MAPPING-Im-Fl-Lc"
INSTRUMENT_HOST_ID = MEX
INSTRUMENT_HOST_NAME = "MARS EXPRESS"
INSTRUMENT_ID = HRSC
INSTRUMENT_NAME = "HIGH RESOLUTION STEREO CAMERA"
MISSION_NAME = "MARS EXPRESS"
MISSION_PHASE_NAME = ME_Phase_43
PROCESSING_LEVEL_ID = 4
PRODUCT_CREATION_TIME = 2023-01-29T17:38:44.000Z
PRODUCT_ID = "HL072_0000_P14.TIF"
RELEASE_ID = 0005
REVISION_ID = 0000
/* QUALITY DATA ELEMENTS */
DATA_QUALITY_ID = 1
DATA_QUALITY_DESC = "Data calculated based on original SPICE kernels"
/* TIME DATA ELEMENTS */
SPACECRAFT_CLOCK_START_COUNT = "1/0547082451.25683"
SPACECRAFT_CLOCK_STOP_COUNT = "1/0547082683.25932"
START_TIME = 2020-09-01T23:22:15.355Z
STOP_TIME = 2020-09-01T23:25:03.231Z
/* ORBITAL DATA ELEMENTS */
ASCENDING_NODE_LONGITUDE = 179.94
MAXIMUM_RESOLUTION = 0.0273
FOOTPRINT_POINT_LATITUDE = (-52.9041,-52.877,-52.852,-52.8253, -52.8244,-52.8639,-52.5329,-52.3174, -52.102,-51.6723,-51.457,-51.0277, -50.7048,-50.4897,-50.2743,-50.0591, -49.8438,-49.4137,-49.0911,-48.6612, -48.4424,-48.2206,-47.9986,-47.666, -47.4448,-47.2235,-47.0016,-46.7802, -46.4478,-46.2255,-45.9964,-45.7778, -45.5604,-45.344,-45.1242,-44.9046, -44.5752,-44.3557,-44.1363,-43.9172, -43.5887,-43.2604,-43.0413,-42.8226, -42.6047,-42.278,-42.0597,-41.9509, -41.9501,-41.9738,-41.9879,-42.0001, -42.0114,-42.0119,-42.0125,-42.2305, -42.5576,-42.7758,-42.9941,-43.2137, -43.4324,-43.6514,-43.8707,-44.0901, -44.3095,-44.5294,-44.749,-44.9692, -45.2989,-45.6315,-45.8513,-46.0698, -46.2933,-46.6267,-46.8496,-47.0711, -47.2932,-47.5156,-47.7385,-47.9609, -48.2942,-48.5165,-48.7357,-49.0585, -49.2738,-49.4891,-49.8123,-50.0277, -50.2433,-50.4586,-50.889,-51.3125, -51.5284,-51.7514,-52.1813,-52.3992, -52.6151,-52.8333,-52.9453,-52.9041)
FOOTPRINT_POINT_LONGITUDE = (191.999,191.266,190.669,190.088,190.07 ,190.086,190.106,190.12,190.133,190.16, 190.173,190.197,190.215,190.226,190.237 ,190.247,190.258,190.277,190.292, 190.309,190.318,190.327,190.335,190.347 ,190.355,190.363,190.37,190.377,190.386 ,190.392,190.395,190.402,190.409, 190.417,190.422,190.428,190.436,190.441 ,190.445,190.45,190.456,190.462,190.466 ,190.469,190.473,190.478,190.481, 190.482,190.482,191.09,191.483,191.803, 192.16,192.178,192.184,192.183,192.181, 192.179,192.178,192.178,192.176,192.175 ,192.174,192.172,192.171,192.17,192.168 ,192.167,192.163,192.165,192.161, 192.156,192.159,192.16,192.161,192.16, 192.159,192.158,192.159,192.158,192.156 ,192.154,192.152,192.149,192.146, 192.144,192.14,192.138,192.135,192.131, 192.123,192.1,192.097,192.108,192.096, 192.096,192.091,192.089,192.087, 191.999)
ORBIT_NUMBER = 21072
ORBITAL_ECCENTRICITY = 0.577
ORBITAL_INCLINATION = 86.99
ORBITAL_SEMIMAJOR_AXIS = 8788.73
PERIAPSIS_ALTITUDE = 333.0
PERIAPSIS_ARGUMENT_ANGLE = 309.49
PERIAPSIS_TIME = 2020-09-01T23:22:34.000Z
SPACECRAFT_ORIENTATION = (0.0,1.0,0.0)
^MEX_ORIENTATION_DESC = "MEX_ORIENTATION_DESC.TXT"
SPACECRAFT_POINTING_MODE = ACROSSTRACK
^MEX_POINTING_DESC = "MEX_POINTING_DESC.TXT"
RIGHT_ASCENSION = -1e+32
DECLINATION = -1e+32
OFFSET_ANGLE = -1.0
SPACECRAFT_SOLAR_DISTANCE = 2.0759e+08
TARGET_NAME = MARS
/* CAMERA DATA ELEMENTS */
DETECTOR_TEMPERATURE = 16.3315
FOCAL_PLANE_TEMPERATURE = 8.5833
INST_CMPRS_NAME = "DISCRETE COSINE TRANSFORMATION (DCT)"
INST_CMPRS_RATIO = 7.30712
INST_CMPRS_QUALITY = 0
INST_CMPRS_QUANTZ_TBL_ID = 0
INSTRUMENT_TEMPERATURE = 11.234
LENS_TEMPERATURE = 8.9911
MACROPIXEL_SIZE = 2
MISSING_FRAMES = 0
PIXEL_SUBSAMPLING_FLAG = N
SIGNAL_CHAIN_ID = 3
/* RADIOMETRIC DATA ELEMENTS */
BANDWIDTH = 174.0
CENTER_FILTER_WAVELENGTH = 675.0
RADIANCE_OFFSET = 5.59083
RADIANCE_SCALING_FACTOR = 0.0192042
REFLECTANCE_SCALING_FACTOR = 0.00044514
MEX:REFLECTANCE_OFFSET = 0.129591
/* IMAGE OBJECT DEFINITIONS */
OBJECT = IMAGE
  INTERCHANGE_FORMAT = BINARY
  LINES = 25977
  LINE_SAMPLES = 3378
  SAMPLE_TYPE = UNSIGNED_INTEGER
  SAMPLE_BITS = 8
  BANDS = 1
  BAND_STORAGE_TYPE = BAND_SEQUENTIAL
  MAXIMUM = 255
  MEAN = 135.201
  MINIMUM = 1
  STANDARD_DEVIATION = 32.8015
END_OBJECT = IMAGE
/* MAP OBJECT DEFINITIONS */
OBJECT = IMAGE_MAP_PROJECTION
  ^DATA_SET_MAP_PROJECTION_CATALOG= "DSMAP.CAT"
  A_AXIS_RADIUS = 3396.0
  B_AXIS_RADIUS = 3396.0
  C_AXIS_RADIUS = 3396.0
  CENTER_LATITUDE = 0.0
  CENTER_LONGITUDE = 191.0
  COORDINATE_SYSTEM_NAME = PLANETOGRAPHIC
  COORDINATE_SYSTEM_TYPE = "BODY-FIXED ROTATING"
  EASTERNMOST_LONGITUDE = 192.184
  FIRST_STANDARD_PARALLEL = "N/A"
  LINE_FIRST_PIXEL = 1
  LINE_LAST_PIXEL = 25977
  LINE_PROJECTION_OFFSET = -99528.25
  MAP_PROJECTION_ROTATION = 0.0
  MAP_PROJECTION_TYPE = SINUSOIDAL
  MAP_RESOLUTION = 2370.85521546667
  MAP_SCALE = 0.025
  MAXIMUM_LATITUDE = -41.9501
  MINIMUM_LATITUDE = -52.9453
  POSITIVE_LONGITUDE_DIRECTION = EAST
  REFERENCE_LATITUDE = "N/A"
  REFERENCE_LONGITUDE = "N/A"
  SAMPLE_FIRST_PIXEL = 1
  SAMPLE_LAST_PIXEL = 3378
  SAMPLE_PROJECTION_OFFSET = 1322.75
  SECOND_STANDARD_PARALLEL = "N/A"
  WESTERNMOST_LONGITUDE = 190.07
END_OBJECT = IMAGE_MAP_PROJECTION
END
