PDS_VERSION_ID = PDS3
/* FILE DATA ELEMENTS */
RECORD_TYPE = UNDEFINED
/* POINTERS TO DATA OBJECTS */
^IMAGE = ("HL071_0000_S14.TIF")
/* IDENTIFICATION DATA ELEMENTS */
DATA_SET_ID = "MEX-M-HRSC-4-REFDR-MAPPROJECT-EXT7-V4.0"
DATA_SET_NAME = "MARS EXPRESS HRSC MAP PROJECTED REFDR EXTENSION7 V4.0"
DETECTOR_ID = MEX_HRSC_S1
EVENT_TYPE = "MARS-REGIONAL-MAPPING-Eb-La-Ts"
INSTRUMENT_HOST_ID = MEX
INSTRUMENT_HOST_NAME = "MARS EXPRESS"
INSTRUMENT_ID = HRSC
INSTRUMENT_NAME = "HIGH RESOLUTION STEREO CAMERA"
MISSION_NAME = "MARS EXPRESS"
MISSION_PHASE_NAME = ME_Phase_43
PROCESSING_LEVEL_ID = 4
PRODUCT_CREATION_TIME = 2023-01-29T17:38:44.000Z
PRODUCT_ID = "HL071_0000_S14.TIF"
RELEASE_ID = 0005
REVISION_ID = 0000
/* QUALITY DATA ELEMENTS */
DATA_QUALITY_ID = 1
DATA_QUALITY_DESC = "Data calculated based on original SPICE kernels"
/* TIME DATA ELEMENTS */
SPACECRAFT_CLOCK_START_COUNT = "1/0547057427.25662"
SPACECRAFT_CLOCK_STOP_COUNT = "1/0547057623.01171"
START_TIME = 2020-09-01T16:25:22.461Z
STOP_TIME = 2020-09-01T16:27:34.129Z
/* ORBITAL DATA ELEMENTS */
ASCENDING_NODE_LONGITUDE = 179.96
MAXIMUM_RESOLUTION = 0.029
FOOTPRINT_POINT_LATITUDE = (-45.3749,-45.3516,-45.3344,-45.317, -45.2996,-45.282,-45.2642,-45.2631, -45.3078,-45.1476,-44.9863,-44.8267, -44.6664,-44.5061,-44.347,-44.1887, -44.0297,-43.7909,-43.6316,-43.4731, -43.3146,-43.0758,-42.9163,-42.7571, -42.5183,-42.3596,-42.2011,-41.9641, -41.806,-41.5698,-41.2548,-41.0189, -40.7829,-40.5486,-40.2384,-40.0776, -39.9194,-39.6092,-39.3332,-39.1487, -38.964,-38.7801,-38.5954,-38.4101, -38.1329,-37.9483,-37.7639,-37.5798, -37.395,-37.1232,-37.031,-36.9931, -37.0062,-37.028,-37.0427,-37.064, -37.0787,-37.094,-37.0949,-37.0958, -37.2795,-37.4634,-37.6475,-37.8317, -38.0161,-38.293,-38.4778,-38.7537, -38.9379,-39.1244,-39.3115,-39.4987, -39.6852,-40.0016,-40.2351,-40.4678, -40.7041,-40.8626,-41.1739,-41.4107, -41.8055,-42.1211,-42.2796,-42.5172, -42.7536,-42.9124,-43.1507,-43.4679, -43.7068,-43.8669,-44.0273,-44.1883, -44.349,-44.5093,-44.7496,-44.9895, -45.1497,-45.3106,-45.3907,-45.3749)
FOOTPRINT_POINT_LONGITUDE = (294.683,294.291,294.013,293.739,293.47 ,293.207,292.947,292.931,292.949, 292.952,292.954,292.956,292.959,292.961 ,292.963,292.966,292.968,292.971, 292.973,292.975,292.977,292.979,292.98, 292.981,292.983,292.984,292.985,292.986 ,292.987,292.989,292.99,292.991,292.992 ,292.993,292.995,292.993,292.992, 292.993,292.994,292.994,292.994,292.994 ,292.994,292.993,292.992,292.991,292.99 ,292.989,292.988,292.988,292.987, 292.987,293.274,293.602,293.836,294.177 ,294.437,294.701,294.719,294.725, 294.726,294.727,294.727,294.728,294.728 ,294.729,294.729,294.728,294.727, 294.728,294.73,294.732,294.733,294.734, 294.733,294.731,294.733,294.735,294.732 ,294.734,294.736,294.736,294.737, 294.738,294.737,294.738,294.739,294.738 ,294.739,294.741,294.743,294.745, 294.747,294.748,294.75,294.75,294.75, 294.752,294.752,294.683)
ORBIT_NUMBER = 21071
ORBITAL_ECCENTRICITY = 0.577
ORBITAL_INCLINATION = 86.98
ORBITAL_SEMIMAJOR_AXIS = 8790.94
PERIAPSIS_ALTITUDE = 333.0
PERIAPSIS_ARGUMENT_ANGLE = 309.67
PERIAPSIS_TIME = 2020-09-01T16:23:38.000Z
SPACECRAFT_ORIENTATION = (0.0,1.0,0.0)
^MEX_ORIENTATION_DESC = "MEX_ORIENTATION_DESC.TXT"
SPACECRAFT_POINTING_MODE = ACROSSTRACK
^MEX_POINTING_DESC = "MEX_POINTING_DESC.TXT"
RIGHT_ASCENSION = -1e+32
DECLINATION = -1e+32
OFFSET_ANGLE = -1.3
SPACECRAFT_SOLAR_DISTANCE = 2.07572e+08
TARGET_NAME = MARS
/* CAMERA DATA ELEMENTS */
DETECTOR_TEMPERATURE = 17.351
FOCAL_PLANE_TEMPERATURE = 8.1755
INST_CMPRS_NAME = "DISCRETE COSINE TRANSFORMATION (DCT)"
INST_CMPRS_RATIO = 11.3082
INST_CMPRS_QUALITY = 0
INST_CMPRS_QUANTZ_TBL_ID = 0
INSTRUMENT_TEMPERATURE = 11.4379
LENS_TEMPERATURE = 8.7872
MACROPIXEL_SIZE = 2
MISSING_FRAMES = 0
PIXEL_SUBSAMPLING_FLAG = N
SIGNAL_CHAIN_ID = 1
/* RADIOMETRIC DATA ELEMENTS */
BANDWIDTH = 180.0
CENTER_FILTER_WAVELENGTH = 677.0
RADIANCE_OFFSET = 5.42181
RADIANCE_SCALING_FACTOR = 0.0118366
REFLECTANCE_SCALING_FACTOR = 0.000266076
MEX:REFLECTANCE_OFFSET = 0.121878
/* IMAGE OBJECT DEFINITIONS */
OBJECT = IMAGE
  INTERCHANGE_FORMAT = BINARY
  LINES = 19764
  LINE_SAMPLES = 3167
  SAMPLE_TYPE = UNSIGNED_INTEGER
  SAMPLE_BITS = 8
  BANDS = 1
  BAND_STORAGE_TYPE = BAND_SEQUENTIAL
  MAXIMUM = 255
  MEAN = 145.582
  MINIMUM = 1
  STANDARD_DEVIATION = 34.2941
END_OBJECT = IMAGE
/* MAP OBJECT DEFINITIONS */
OBJECT = IMAGE_MAP_PROJECTION
  ^DATA_SET_MAP_PROJECTION_CATALOG= "DSMAP.CAT"
  A_AXIS_RADIUS = 3396.0
  B_AXIS_RADIUS = 3396.0
  C_AXIS_RADIUS = 3396.0
  CENTER_LATITUDE = 0.0
  CENTER_LONGITUDE = 294.0
  COORDINATE_SYSTEM_NAME = PLANETOGRAPHIC
  COORDINATE_SYSTEM_TYPE = "BODY-FIXED ROTATING"
  EASTERNMOST_LONGITUDE = 294.752
  FIRST_STANDARD_PARALLEL = "N/A"
  LINE_FIRST_PIXEL = 1
  LINE_LAST_PIXEL = 19764
  LINE_PROJECTION_OFFSET = -87832.25
  MAP_PROJECTION_ROTATION = 0.0
  MAP_PROJECTION_TYPE = SINUSOIDAL
  MAP_RESOLUTION = 2370.85521546667
  MAP_SCALE = 0.025
  MAXIMUM_LATITUDE = -36.9931
  MINIMUM_LATITUDE = -45.3907
  POSITIVE_LONGITUDE_DIRECTION = EAST
  REFERENCE_LATITUDE = "N/A"
  REFERENCE_LONGITUDE = "N/A"
  SAMPLE_FIRST_PIXEL = 1
  SAMPLE_LAST_PIXEL = 3167
  SAMPLE_PROJECTION_OFFSET = 1885.25
  SECOND_STANDARD_PARALLEL = "N/A"
  WESTERNMOST_LONGITUDE = 292.931
END_OBJECT = IMAGE_MAP_PROJECTION
END
