PDS_VERSION_ID = PDS3
/* FILE DATA ELEMENTS */
RECORD_TYPE = UNDEFINED
/* POINTERS TO DATA OBJECTS */
^IMAGE = ("HL065_0000_BL4.TIF")
/* IDENTIFICATION DATA ELEMENTS */
DATA_SET_ID = "MEX-M-HRSC-4-REFDR-MAPPROJECT-EXT7-V4.0"
DATA_SET_NAME = "MARS EXPRESS HRSC MAP PROJECTED REFDR EXTENSION7 V4.0"
DETECTOR_ID = MEX_HRSC_BLUE
EVENT_TYPE = "MARS-REGIONAL-MAPPING-Te-Fl-La"
INSTRUMENT_HOST_ID = MEX
INSTRUMENT_HOST_NAME = "MARS EXPRESS"
INSTRUMENT_ID = HRSC
INSTRUMENT_NAME = "HIGH RESOLUTION STEREO CAMERA"
MISSION_NAME = "MARS EXPRESS"
MISSION_PHASE_NAME = ME_Phase_43
PROCESSING_LEVEL_ID = 4
PRODUCT_CREATION_TIME = 2023-01-29T17:38:44.000Z
PRODUCT_ID = "HL065_0000_BL4.TIF"
RELEASE_ID = 0005
REVISION_ID = 0000
/* QUALITY DATA ELEMENTS */
DATA_QUALITY_ID = 1
DATA_QUALITY_DESC = "Data calculated based on original SPICE kernels"
/* TIME DATA ELEMENTS */
SPACECRAFT_CLOCK_START_COUNT = "1/0546906350.23961"
SPACECRAFT_CLOCK_STOP_COUNT = "1/0546906667.16120"
START_TIME = 2020-08-30T22:26:51.867Z
STOP_TIME = 2020-08-30T22:31:02.349Z
/* ORBITAL DATA ELEMENTS */
ASCENDING_NODE_LONGITUDE = 180.07
MAXIMUM_RESOLUTION = 0.0528
FOOTPRINT_POINT_LATITUDE = (-59.6151,-59.591,-59.5587,-59.5579, -59.5429,-59.2172,-58.7273,-58.4009, -58.0741,-57.7465,-57.2549,-56.7624, -56.434,-56.1054,-55.7765,-55.4471, -55.1175,-54.6229,-54.293,-53.9626, -53.6323,-53.3018,-52.8057,-52.3125, -51.9918,-51.6718,-51.3508,-50.8694, -50.548,-50.0647,-49.4226,-48.9409, -48.6188,-48.1359,-47.814,-47.331, -46.8477,-46.5258,-46.2022,-45.8815, -45.5595,-45.2378,-44.9151,-44.4321, -44.1097,-43.7879,-43.4659,-43.3041, -43.2296,-43.2352,-43.2395,-43.2404, -43.2404,-43.2413,-43.7287,-44.0517, -44.5353,-45.0191,-45.3418,-45.6644, -45.9872,-46.4713,-46.794,-47.1169, -47.4399,-47.7625,-48.2464,-48.5687, -48.8911,-49.2135,-49.5358,-49.8583, -50.1807,-50.5029,-50.9861,-51.4691, -51.7911,-52.1128,-52.4344,-52.7656, -53.0974,-53.5943,-53.9257,-54.2569, -54.5881,-54.9191,-55.2499,-55.5805, -55.9108,-56.406,-56.8999,-57.2293, -57.5592,-57.8887,-58.2173,-58.71, -59.0378,-59.3646,-59.5281,-59.6151)
FOOTPRINT_POINT_LONGITUDE = (185.909,184.661,183.534,183.512, 183.509,183.56,183.633,183.68,183.726, 183.77,183.834,183.896,183.935,183.974, 184.011,184.047,184.082,184.133,184.166 ,184.197,184.228,184.258,184.301, 184.342,184.367,184.392,184.416,184.451 ,184.473,184.505,184.546,184.574, 184.593,184.619,184.636,184.661,184.684 ,184.698,184.713,184.726,184.74,184.752 ,184.765,184.782,184.793,184.804, 184.814,184.819,184.821,185.298,185.905 ,186.431,186.447,186.452,186.443, 186.436,186.43,186.423,186.418,186.413, 186.408,186.399,186.394,186.387,186.38, 186.374,186.366,186.361,186.355,186.349 ,186.342,186.335,186.327,186.32,186.308 ,186.295,186.286,186.277,186.268, 186.258,186.25,186.24,186.231,186.222, 186.211,186.2,186.188,186.177,186.165, 186.146,186.132,186.118,186.099,186.081 ,186.067,186.042,186.027,186.016,186.01 ,185.909)
ORBIT_NUMBER = 21065
ORBITAL_ECCENTRICITY = 0.577
ORBITAL_INCLINATION = 86.99
ORBITAL_SEMIMAJOR_AXIS = 8790.64
PERIAPSIS_ALTITUDE = 333.17
PERIAPSIS_ARGUMENT_ANGLE = 310.68
PERIAPSIS_TIME = 2020-08-30T22:29:37.000Z
SPACECRAFT_ORIENTATION = (0.0,1.0,0.0)
^MEX_ORIENTATION_DESC = "MEX_ORIENTATION_DESC.TXT"
SPACECRAFT_POINTING_MODE = ACROSSTRACK
^MEX_POINTING_DESC = "MEX_POINTING_DESC.TXT"
RIGHT_ASCENSION = -1e+32
DECLINATION = -1e+32
OFFSET_ANGLE = -0.6
SPACECRAFT_SOLAR_DISTANCE = 2.07467e+08
TARGET_NAME = MARS
/* CAMERA DATA ELEMENTS */
DETECTOR_TEMPERATURE = 18.3705
FOCAL_PLANE_TEMPERATURE = 8.7872
INST_CMPRS_NAME = "DISCRETE COSINE TRANSFORMATION (DCT)"
INST_CMPRS_RATIO = 6.42848
INST_CMPRS_QUALITY = 0
INST_CMPRS_QUANTZ_TBL_ID = 0
INSTRUMENT_TEMPERATURE = 11.234
LENS_TEMPERATURE = 9.6028
MACROPIXEL_SIZE = 4
MISSING_FRAMES = 0
PIXEL_SUBSAMPLING_FLAG = N
SIGNAL_CHAIN_ID = 2
/* RADIOMETRIC DATA ELEMENTS */
BANDWIDTH = 76.0
CENTER_FILTER_WAVELENGTH = 444.0
RADIANCE_OFFSET = 0.789723
RADIANCE_SCALING_FACTOR = 0.00156149
REFLECTANCE_SCALING_FACTOR = 6.90544e-05
MEX:REFLECTANCE_OFFSET = 0.0349242
/* IMAGE OBJECT DEFINITIONS */
OBJECT = IMAGE
  INTERCHANGE_FORMAT = BINARY
  LINES = 19410
  LINE_SAMPLES = 2156
  SAMPLE_TYPE = UNSIGNED_INTEGER
  SAMPLE_BITS = 8
  BANDS = 1
  BAND_STORAGE_TYPE = BAND_SEQUENTIAL
  MAXIMUM = 255
  MEAN = 129.04
  MINIMUM = 1
  STANDARD_DEVIATION = 24.4669
END_OBJECT = IMAGE
/* MAP OBJECT DEFINITIONS */
OBJECT = IMAGE_MAP_PROJECTION
  ^DATA_SET_MAP_PROJECTION_CATALOG= "DSMAP.CAT"
  A_AXIS_RADIUS = 3396.0
  B_AXIS_RADIUS = 3396.0
  C_AXIS_RADIUS = 3396.0
  CENTER_LATITUDE = 0.0
  CENTER_LONGITUDE = 185.0
  COORDINATE_SYSTEM_NAME = PLANETOGRAPHIC
  COORDINATE_SYSTEM_TYPE = "BODY-FIXED ROTATING"
  EASTERNMOST_LONGITUDE = 186.452
  FIRST_STANDARD_PARALLEL = "N/A"
  LINE_FIRST_PIXEL = 1
  LINE_LAST_PIXEL = 19410
  LINE_PROJECTION_OFFSET = -51245.375
  MAP_PROJECTION_ROTATION = 0.0
  MAP_PROJECTION_TYPE = SINUSOIDAL
  MAP_RESOLUTION = 1185.42760773333
  MAP_SCALE = 0.05
  MAXIMUM_LATITUDE = -43.2296
  MINIMUM_LATITUDE = -59.6151
  POSITIVE_LONGITUDE_DIRECTION = EAST
  REFERENCE_LATITUDE = "N/A"
  REFERENCE_LONGITUDE = "N/A"
  SAMPLE_FIRST_PIXEL = 1
  SAMPLE_LAST_PIXEL = 2156
  SAMPLE_PROJECTION_OFFSET = 900.875
  SECOND_STANDARD_PARALLEL = "N/A"
  WESTERNMOST_LONGITUDE = 183.509
END_OBJECT = IMAGE_MAP_PROJECTION
END
