PDS_VERSION_ID = PDS3
/* FILE DATA ELEMENTS */
RECORD_TYPE = UNDEFINED
/* POINTERS TO DATA OBJECTS */
^IMAGE = ("HL061_0000_RE4.TIF")
/* IDENTIFICATION DATA ELEMENTS */
DATA_SET_ID = "MEX-M-HRSC-4-REFDR-MAPPROJECT-EXT7-V4.0"
DATA_SET_NAME = "MARS EXPRESS HRSC MAP PROJECTED REFDR EXTENSION7 V4.0"
DETECTOR_ID = MEX_HRSC_RED
EVENT_TYPE = "MARS-REGIONAL-MAPPING-Te-Im-Pf"
INSTRUMENT_HOST_ID = MEX
INSTRUMENT_HOST_NAME = "MARS EXPRESS"
INSTRUMENT_ID = HRSC
INSTRUMENT_NAME = "HIGH RESOLUTION STEREO CAMERA"
MISSION_NAME = "MARS EXPRESS"
MISSION_PHASE_NAME = ME_Phase_43
PROCESSING_LEVEL_ID = 4
PRODUCT_CREATION_TIME = 2023-01-29T17:38:44.000Z
PRODUCT_ID = "HL061_0000_RE4.TIF"
RELEASE_ID = 0005
REVISION_ID = 0000
/* QUALITY DATA ELEMENTS */
DATA_QUALITY_ID = 1
DATA_QUALITY_DESC = "Data calculated based on original SPICE kernels"
/* TIME DATA ELEMENTS */
SPACECRAFT_CLOCK_START_COUNT = "1/0546805701.24907"
SPACECRAFT_CLOCK_STOP_COUNT = "1/0546806042.00301"
START_TIME = 2020-08-29T18:29:01.220Z
STOP_TIME = 2020-08-29T18:33:38.853Z
/* ORBITAL DATA ELEMENTS */
ASCENDING_NODE_LONGITUDE = 180.15
MAXIMUM_RESOLUTION = 0.055
FOOTPRINT_POINT_LATITUDE = (-64.3531,-64.3272,-64.284,-64.2238, -64.2222,-64.1484,-63.7642,-63.1865, -62.8011,-62.4115,-62.0246,-61.6332, -61.0468,-60.654,-60.063,-59.6685, -59.1015,-58.7685,-58.268,-57.7656, -57.4302,-57.0942,-56.7575,-56.4204, -56.0826,-55.7444,-55.2369,-54.8949, -54.5588,-54.0448,-53.7026,-53.1902, -52.8481,-52.5052,-52.1626,-51.6526, -51.1524,-50.8187,-50.3226,-49.8169, -49.4818,-49.1464,-48.641,-48.3002, -47.9674,-47.6274,-47.1265,-46.7881, -46.6188,-46.6138,-46.6417,-46.6541, -46.6543,-46.6552,-46.9934,-47.5004, -48.0074,-48.3451,-48.6824,-49.1873, -49.5238,-49.8611,-50.3662,-50.7032, -51.0391,-51.5407,-51.875,-52.2186, -52.563,-52.8996,-53.4143,-53.7574, -54.102,-54.4511,-54.7914,-55.1326, -55.4734,-55.8135,-56.3236,-56.663, -57.0013,-57.3393,-57.6774,-58.0147, -58.5186,-58.8541,-59.189,-59.5597, -59.9599,-60.3474,-60.7434,-61.1404, -61.7423,-62.3295,-62.7213,-63.3073, -63.6971,-64.0855,-64.2791,-64.3531)
FOOTPRINT_POINT_LONGITUDE = (232.763,231.976,230.902,229.686, 229.658,229.614,229.729,229.894,230.001 ,230.103,230.203,230.298,230.436, 230.524,230.651,230.733,230.844,230.908 ,230.999,231.087,231.143,231.198, 231.252,231.304,231.355,231.404,231.476 ,231.521,231.568,231.632,231.673, 231.734,231.774,231.812,231.849,231.903 ,231.953,231.985,232.034,232.077, 232.106,232.134,232.173,232.197,232.224 ,232.248,232.285,232.308,232.319, 232.319,233.302,233.975,233.991,233.996 ,233.985,233.968,233.95,233.938,233.925 ,233.906,233.893,233.879,233.857, 233.842,233.827,233.804,233.789,233.774 ,233.757,233.745,233.719,233.701, 233.681,233.657,233.639,233.619,233.599 ,233.578,233.545,233.523,233.5,233.477, 233.453,233.428,233.391,233.365,233.338 ,233.308,233.273,233.247,233.212, 233.174,233.108,233.051,233.01,232.946, 232.901,232.856,232.832,232.763)
ORBIT_NUMBER = 21061
ORBITAL_ECCENTRICITY = 0.577
ORBITAL_INCLINATION = 86.99
ORBITAL_SEMIMAJOR_AXIS = 8793.66
PERIAPSIS_ALTITUDE = 332.25
PERIAPSIS_ARGUMENT_ANGLE = 311.33
PERIAPSIS_TIME = 2020-08-29T18:33:34.000Z
SPACECRAFT_ORIENTATION = (0.0,1.0,0.0)
^MEX_ORIENTATION_DESC = "MEX_ORIENTATION_DESC.TXT"
SPACECRAFT_POINTING_MODE = NADIR
^MEX_POINTING_DESC = "MEX_POINTING_DESC.TXT"
RIGHT_ASCENSION = -1e+32
DECLINATION = -1e+32
OFFSET_ANGLE = -1e+32
SPACECRAFT_SOLAR_DISTANCE = 2.074e+08
TARGET_NAME = MARS
/* CAMERA DATA ELEMENTS */
DETECTOR_TEMPERATURE = 18.5744
FOCAL_PLANE_TEMPERATURE = 10.0106
INST_CMPRS_NAME = "DISCRETE COSINE TRANSFORMATION (DCT)"
INST_CMPRS_RATIO = 18.9819
INST_CMPRS_QUALITY = 0
INST_CMPRS_QUANTZ_TBL_ID = 0
INSTRUMENT_TEMPERATURE = 11.234
LENS_TEMPERATURE = 8.7872
MACROPIXEL_SIZE = 4
MISSING_FRAMES = 0
PIXEL_SUBSAMPLING_FLAG = N
SIGNAL_CHAIN_ID = 2
/* RADIOMETRIC DATA ELEMENTS */
BANDWIDTH = 48.0
CENTER_FILTER_WAVELENGTH = 748.0
RADIANCE_OFFSET = 1.20797
RADIANCE_SCALING_FACTOR = 0.00473714
REFLECTANCE_SCALING_FACTOR = 0.000465006
MEX:REFLECTANCE_OFFSET = 0.118576
/* IMAGE OBJECT DEFINITIONS */
OBJECT = IMAGE
  INTERCHANGE_FORMAT = BINARY
  LINES = 20920
  LINE_SAMPLES = 2531
  SAMPLE_TYPE = UNSIGNED_INTEGER
  SAMPLE_BITS = 8
  BANDS = 1
  BAND_STORAGE_TYPE = BAND_SEQUENTIAL
  MAXIMUM = 255
  MEAN = 126.496
  MINIMUM = 1
  STANDARD_DEVIATION = 33.1497
END_OBJECT = IMAGE
/* MAP OBJECT DEFINITIONS */
OBJECT = IMAGE_MAP_PROJECTION
  ^DATA_SET_MAP_PROJECTION_CATALOG= "DSMAP.CAT"
  A_AXIS_RADIUS = 3396.0
  B_AXIS_RADIUS = 3396.0
  C_AXIS_RADIUS = 3396.0
  CENTER_LATITUDE = 0.0
  CENTER_LONGITUDE = 233.0
  COORDINATE_SYSTEM_NAME = PLANETOGRAPHIC
  COORDINATE_SYSTEM_TYPE = "BODY-FIXED ROTATING"
  EASTERNMOST_LONGITUDE = 233.996
  FIRST_STANDARD_PARALLEL = "N/A"
  LINE_FIRST_PIXEL = 1
  LINE_LAST_PIXEL = 20920
  LINE_PROJECTION_OFFSET = -55244.875
  MAP_PROJECTION_ROTATION = 0.0
  MAP_PROJECTION_TYPE = SINUSOIDAL
  MAP_RESOLUTION = 1185.42760773333
  MAP_SCALE = 0.05
  MAXIMUM_LATITUDE = -46.6138
  MINIMUM_LATITUDE = -64.3531
  POSITIVE_LONGITUDE_DIRECTION = EAST
  REFERENCE_LATITUDE = "N/A"
  REFERENCE_LONGITUDE = "N/A"
  SAMPLE_FIRST_PIXEL = 1
  SAMPLE_LAST_PIXEL = 2531
  SAMPLE_PROJECTION_OFFSET = 1721.125
  SECOND_STANDARD_PARALLEL = "N/A"
  WESTERNMOST_LONGITUDE = 229.614
END_OBJECT = IMAGE_MAP_PROJECTION
END
