PDS_VERSION_ID = PDS3
/* FILE DATA ELEMENTS */
RECORD_TYPE = UNDEFINED
/* POINTERS TO DATA OBJECTS */
^IMAGE = ("HL047_0000_BL4.TIF")
/* IDENTIFICATION DATA ELEMENTS */
DATA_SET_ID = "MEX-M-HRSC-4-REFDR-MAPPROJECT-EXT7-V4.0"
DATA_SET_NAME = "MARS EXPRESS HRSC MAP PROJECTED REFDR EXTENSION7 V4.0"
DETECTOR_ID = MEX_HRSC_BLUE
EVENT_TYPE = "MARS-REGIONAL-MAPPING-Vo-Te-Im"
INSTRUMENT_HOST_ID = MEX
INSTRUMENT_HOST_NAME = "MARS EXPRESS"
INSTRUMENT_ID = HRSC
INSTRUMENT_NAME = "HIGH RESOLUTION STEREO CAMERA"
MISSION_NAME = "MARS EXPRESS"
MISSION_PHASE_NAME = ME_Phase_43
PROCESSING_LEVEL_ID = 4
PRODUCT_CREATION_TIME = 2023-01-29T17:38:44.000Z
PRODUCT_ID = "HL047_0000_BL4.TIF"
RELEASE_ID = 0005
REVISION_ID = 0000
/* QUALITY DATA ELEMENTS */
DATA_QUALITY_ID = 1
DATA_QUALITY_DESC = "Data calculated based on original SPICE kernels"
/* TIME DATA ELEMENTS */
SPACECRAFT_CLOCK_START_COUNT = "1/0546453939.25677"
SPACECRAFT_CLOCK_STOP_COUNT = "1/0546454283.01943"
START_TIME = 2020-08-25T16:46:38.246Z
STOP_TIME = 2020-08-25T16:51:14.026Z
/* ORBITAL DATA ELEMENTS */
ASCENDING_NODE_LONGITUDE = 180.4
MAXIMUM_RESOLUTION = 0.0528
FOOTPRINT_POINT_LATITUDE = (-51.1038,-51.0972,-51.0785,-51.0781, -51.0669,-50.7019,-50.3366,-49.9711, -49.6053,-49.2497,-48.7185,-48.0099, -47.3004,-46.59,-46.234,-45.7011, -45.3457,-44.9892,-44.4566,-43.923, -43.5674,-43.2122,-42.8566,-42.3237, -41.79,-41.4334,-40.9012,-40.5456, -40.1808,-39.8136,-39.4474,-39.0802, -38.7134,-38.3468,-37.9803,-37.4304, -37.0645,-36.6987,-36.3333,-35.9679, -35.6028,-35.2395,-34.8736,-34.3269, -33.7815,-33.4177,-33.236,-33.0561, -33.056,-33.0537,-33.0497,-33.0495, -33.0503,-33.4142,-33.7783,-34.1426, -34.5074,-34.8725,-35.4187,-35.7859, -36.152,-36.5169,-36.8831,-37.2507, -37.6171,-37.9823,-38.5335,-38.9012, -39.2676,-39.6351,-40.0033,-40.3708, -40.7302,-41.2648,-41.6211,-41.9773, -42.5113,-42.8671,-43.4015,-43.758, -44.1142,-44.4705,-45.0043,-45.3612, -45.8955,-46.2515,-46.6077,-46.9637, -47.3193,-47.6751,-48.0307,-48.3861, -48.7415,-49.2744,-49.6314,-49.998, -50.364,-50.7292,-50.9128,-51.1038)
FOOTPRINT_POINT_LONGITUDE = (224.579,223.844,222.755,222.738, 222.739,222.765,222.79,222.815,222.839, 222.861,222.893,222.932,222.97,223.004, 223.021,223.044,223.059,223.073,223.093 ,223.112,223.124,223.136,223.147, 223.162,223.176,223.186,223.198,223.206 ,223.214,223.221,223.228,223.234,223.24 ,223.245,223.25,223.257,223.261,223.265 ,223.268,223.271,223.273,223.275, 223.277,223.279,223.28,223.281,223.281, 223.281,223.836,224.33,224.776,224.791, 224.796,224.794,224.793,224.792,224.79, 224.788,224.793,224.785,224.782,224.785 ,224.784,224.777,224.776,224.781, 224.775,224.77,224.772,224.77,224.765, 224.764,224.76,224.754,224.75,224.747, 224.745,224.744,224.739,224.735,224.732 ,224.728,224.726,224.719,224.712, 224.708,224.703,224.698,224.694,224.689 ,224.684,224.679,224.673,224.664, 224.656,224.65,224.646,224.645,224.639, 224.579)
ORBIT_NUMBER = 21047
ORBITAL_ECCENTRICITY = 0.577
ORBITAL_INCLINATION = 87.0
ORBITAL_SEMIMAJOR_AXIS = 8796.63
PERIAPSIS_ALTITUDE = 332.79
PERIAPSIS_ARGUMENT_ANGLE = 313.73
PERIAPSIS_TIME = 2020-08-25T16:47:59.000Z
SPACECRAFT_ORIENTATION = (0.0,1.0,0.0)
^MEX_ORIENTATION_DESC = "MEX_ORIENTATION_DESC.TXT"
SPACECRAFT_POINTING_MODE = ACROSSTRACK
^MEX_POINTING_DESC = "MEX_POINTING_DESC.TXT"
RIGHT_ASCENSION = -1e+32
DECLINATION = -1e+32
OFFSET_ANGLE = -0.65
SPACECRAFT_SOLAR_DISTANCE = 2.07188e+08
TARGET_NAME = MARS
/* CAMERA DATA ELEMENTS */
DETECTOR_TEMPERATURE = 17.9627
FOCAL_PLANE_TEMPERATURE = 8.5833
INST_CMPRS_NAME = "DISCRETE COSINE TRANSFORMATION (DCT)"
INST_CMPRS_RATIO = 8.13178
INST_CMPRS_QUALITY = 0
INST_CMPRS_QUANTZ_TBL_ID = 0
INSTRUMENT_TEMPERATURE = 10.8262
LENS_TEMPERATURE = 8.7872
MACROPIXEL_SIZE = 4
MISSING_FRAMES = 0
PIXEL_SUBSAMPLING_FLAG = N
SIGNAL_CHAIN_ID = 2
/* RADIOMETRIC DATA ELEMENTS */
BANDWIDTH = 76.0
CENTER_FILTER_WAVELENGTH = 444.0
RADIANCE_OFFSET = 0.772104
RADIANCE_SCALING_FACTOR = 0.00155085
REFLECTANCE_SCALING_FACTOR = 6.83999e-05
MEX:REFLECTANCE_OFFSET = 0.0340534
/* IMAGE OBJECT DEFINITIONS */
OBJECT = IMAGE
  INTERCHANGE_FORMAT = BINARY
  LINES = 21376
  LINE_SAMPLES = 1741
  SAMPLE_TYPE = UNSIGNED_INTEGER
  SAMPLE_BITS = 8
  BANDS = 1
  BAND_STORAGE_TYPE = BAND_SEQUENTIAL
  MAXIMUM = 255
  MEAN = 141.697
  MINIMUM = 1
  STANDARD_DEVIATION = 18.5502
END_OBJECT = IMAGE
/* MAP OBJECT DEFINITIONS */
OBJECT = IMAGE_MAP_PROJECTION
  ^DATA_SET_MAP_PROJECTION_CATALOG= "DSMAP.CAT"
  A_AXIS_RADIUS = 3396.0
  B_AXIS_RADIUS = 3396.0
  C_AXIS_RADIUS = 3396.0
  CENTER_LATITUDE = 0.0
  CENTER_LONGITUDE = 224.0
  COORDINATE_SYSTEM_NAME = PLANETOGRAPHIC
  COORDINATE_SYSTEM_TYPE = "BODY-FIXED ROTATING"
  EASTERNMOST_LONGITUDE = 224.796
  FIRST_STANDARD_PARALLEL = "N/A"
  LINE_FIRST_PIXEL = 1
  LINE_LAST_PIXEL = 21376
  LINE_PROJECTION_OFFSET = -39194.125
  MAP_PROJECTION_ROTATION = 0.0
  MAP_PROJECTION_TYPE = SINUSOIDAL
  MAP_RESOLUTION = 1185.42760773333
  MAP_SCALE = 0.05
  MAXIMUM_LATITUDE = -33.0495
  MINIMUM_LATITUDE = -51.1038
  POSITIVE_LONGITUDE_DIRECTION = EAST
  REFERENCE_LATITUDE = "N/A"
  REFERENCE_LONGITUDE = "N/A"
  SAMPLE_FIRST_PIXEL = 1
  SAMPLE_LAST_PIXEL = 1741
  SAMPLE_PROJECTION_OFFSET = 946.375
  SECOND_STANDARD_PARALLEL = "N/A"
  WESTERNMOST_LONGITUDE = 222.738
END_OBJECT = IMAGE_MAP_PROJECTION
END
