PDS_VERSION_ID = PDS3
/* FILE DATA ELEMENTS */
RECORD_TYPE = UNDEFINED
/* POINTERS TO DATA OBJECTS */
^IMAGE = ("HL045_0000_P24.TIF")
/* IDENTIFICATION DATA ELEMENTS */
DATA_SET_ID = "MEX-M-HRSC-4-REFDR-MAPPROJECT-EXT7-V4.0"
DATA_SET_NAME = "MARS EXPRESS HRSC MAP PROJECTED REFDR EXTENSION7 V4.0"
DETECTOR_ID = MEX_HRSC_P2
EVENT_TYPE = "MARS-REGIONAL-MAPPING-Fl-Gl-Mw"
INSTRUMENT_HOST_ID = MEX
INSTRUMENT_HOST_NAME = "MARS EXPRESS"
INSTRUMENT_ID = HRSC
INSTRUMENT_NAME = "HIGH RESOLUTION STEREO CAMERA"
MISSION_NAME = "MARS EXPRESS"
MISSION_PHASE_NAME = ME_Phase_43
PROCESSING_LEVEL_ID = 4
PRODUCT_CREATION_TIME = 2023-01-29T17:38:44.000Z
PRODUCT_ID = "HL045_0000_P24.TIF"
RELEASE_ID = 0005
REVISION_ID = 0000
/* QUALITY DATA ELEMENTS */
DATA_QUALITY_ID = 1
DATA_QUALITY_DESC = "Data calculated based on original SPICE kernels"
/* TIME DATA ELEMENTS */
SPACECRAFT_CLOCK_START_COUNT = "1/0546403689.24917"
SPACECRAFT_CLOCK_STOP_COUNT = "1/0546403892.49747"
START_TIME = 2020-08-25T02:48:53.070Z
STOP_TIME = 2020-08-25T02:51:13.304Z
/* ORBITAL DATA ELEMENTS */
ASCENDING_NODE_LONGITUDE = 180.43
MAXIMUM_RESOLUTION = 0.0278
FOOTPRINT_POINT_LATITUDE = (-49.4965,-49.4988,-49.4996,-49.4985, -49.4943,-49.4941,-49.4218,-49.2356, -49.049,-48.8624,-48.6765,-48.4901, -48.3046,-47.9429,-47.579,-47.3055, -46.9417,-46.668,-46.3063,-46.032, -45.8491,-45.6665,-45.4843,-45.3027, -44.9414,-44.7586,-44.5756,-44.394, -44.2105,-43.9355,-43.7524,-43.4782, -43.2948,-43.1121,-42.9292,-42.7461, -42.5639,-42.2887,-42.1053,-41.831, -41.6482,-41.4641,-41.2803,-41.0964, -40.9131,-40.7303,-40.5464,-40.3629, -40.271,-40.2617,-40.2598,-40.2579, -40.2546,-40.2501,-40.2463,-40.2459, -40.2463,-40.5215,-40.7059,-40.8887, -41.0725,-41.2561,-41.4399,-41.7156, -41.899,-42.0832,-42.3594,-42.5413, -42.724,-42.9079,-43.1823,-43.3656, -43.5512,-43.7347,-43.9175,-44.1914, -44.3741,-44.5576,-44.7412,-45.0132, -45.2864,-45.5603,-45.7427,-45.926, -46.1105,-46.2932,-46.5656,-46.7484, -47.1116,-47.3832,-47.7478,-47.9308, -48.2923,-48.4811,-48.7627,-48.9483, -49.1365,-49.325,-49.4185,-49.4965)
FOOTPRINT_POINT_LONGITUDE = (68.7403,68.3501,68.0693,67.5143, 66.9676,66.9507,66.9515,66.9638,66.9759 ,66.9878,66.9995,67.0109,67.0221, 67.0434,67.064,67.0791,67.0984,67.1126, 67.1305,67.1438,67.1524,67.1608,67.169, 67.177,67.1924,67.2001,67.2076,67.2148, 67.222,67.2325,67.2393,67.2492,67.2557, 67.2619,67.2681,67.2741,67.2799,67.2885 ,67.294,67.302,67.3072,67.3123,67.3173, 67.3222,67.3269,67.3314,67.3359,67.3402 ,67.3423,67.3426,67.7815,68.0264, 68.3198,68.6469,68.9136,68.9295,68.9352 ,68.9341,68.9323,68.9322,68.931,68.9299 ,68.9285,68.9264,68.9253,68.9231,68.92, 68.9205,68.9201,68.9178,68.9164,68.9149 ,68.9103,68.9082,68.9071,68.9053,68.904 ,68.9016,68.8989,68.899,68.8975,68.8946 ,68.8929,68.8897,68.8849,68.8824, 68.8805,68.8776,68.8743,68.8726,68.8666 ,68.8623,68.8595,68.8546,68.8497, 68.8494,68.8451,68.8401,68.8388, 68.7403)
ORBIT_NUMBER = 21045
ORBITAL_ECCENTRICITY = 0.577
ORBITAL_INCLINATION = 87.0
ORBITAL_SEMIMAJOR_AXIS = 8799.79
PERIAPSIS_ALTITUDE = 332.9
PERIAPSIS_ARGUMENT_ANGLE = 314.09
PERIAPSIS_TIME = 2020-08-25T02:50:09.000Z
SPACECRAFT_ORIENTATION = (0.0,1.0,0.0)
^MEX_ORIENTATION_DESC = "MEX_ORIENTATION_DESC.TXT"
SPACECRAFT_POINTING_MODE = ACROSSTRACK
^MEX_POINTING_DESC = "MEX_POINTING_DESC.TXT"
RIGHT_ASCENSION = -1e+32
DECLINATION = -1e+32
OFFSET_ANGLE = -0.59
SPACECRAFT_SOLAR_DISTANCE = 2.0716e+08
TARGET_NAME = MARS
/* CAMERA DATA ELEMENTS */
DETECTOR_TEMPERATURE = 19.1861
FOCAL_PLANE_TEMPERATURE = 9.6028
INST_CMPRS_NAME = "DISCRETE COSINE TRANSFORMATION (DCT)"
INST_CMPRS_RATIO = 7.31636
INST_CMPRS_QUALITY = 0
INST_CMPRS_QUANTZ_TBL_ID = 0
INSTRUMENT_TEMPERATURE = 11.8457
LENS_TEMPERATURE = 9.6028
MACROPIXEL_SIZE = 2
MISSING_FRAMES = 0
PIXEL_SUBSAMPLING_FLAG = N
SIGNAL_CHAIN_ID = 3
/* RADIOMETRIC DATA ELEMENTS */
BANDWIDTH = 177.0
CENTER_FILTER_WAVELENGTH = 676.5
RADIANCE_OFFSET = 7.3828
RADIANCE_SCALING_FACTOR = 0.0104673
REFLECTANCE_SCALING_FACTOR = 0.000238181
MEX:REFLECTANCE_OFFSET = 0.167994
/* IMAGE OBJECT DEFINITIONS */
OBJECT = IMAGE
  INTERCHANGE_FORMAT = BINARY
  LINES = 21795
  LINE_SAMPLES = 3299
  SAMPLE_TYPE = UNSIGNED_INTEGER
  SAMPLE_BITS = 8
  BANDS = 1
  BAND_STORAGE_TYPE = BAND_SEQUENTIAL
  MAXIMUM = 255
  MEAN = 155.132
  MINIMUM = 1
  STANDARD_DEVIATION = 39.017
END_OBJECT = IMAGE
/* MAP OBJECT DEFINITIONS */
OBJECT = IMAGE_MAP_PROJECTION
  ^DATA_SET_MAP_PROJECTION_CATALOG= "DSMAP.CAT"
  A_AXIS_RADIUS = 3396.0
  B_AXIS_RADIUS = 3396.0
  C_AXIS_RADIUS = 3396.0
  CENTER_LATITUDE = 0.0
  CENTER_LONGITUDE = 68.0
  COORDINATE_SYSTEM_NAME = PLANETOGRAPHIC
  COORDINATE_SYSTEM_TYPE = "BODY-FIXED ROTATING"
  EASTERNMOST_LONGITUDE = 68.93519999999999
  FIRST_STANDARD_PARALLEL = "N/A"
  LINE_FIRST_PIXEL = 1
  LINE_LAST_PIXEL = 21795
  LINE_PROJECTION_OFFSET = -95472.25
  MAP_PROJECTION_ROTATION = 0.0
  MAP_PROJECTION_TYPE = SINUSOIDAL
  MAP_RESOLUTION = 2370.85521546667
  MAP_SCALE = 0.025
  MAXIMUM_LATITUDE = -40.2459
  MINIMUM_LATITUDE = -49.4996
  POSITIVE_LONGITUDE_DIRECTION = EAST
  REFERENCE_LATITUDE = "N/A"
  REFERENCE_LONGITUDE = "N/A"
  SAMPLE_FIRST_PIXEL = 1
  SAMPLE_LAST_PIXEL = 3299
  SAMPLE_PROJECTION_OFFSET = 1607.25
  SECOND_STANDARD_PARALLEL = "N/A"
  WESTERNMOST_LONGITUDE = 66.9507
END_OBJECT = IMAGE_MAP_PROJECTION
END
