PDS_VERSION_ID = PDS3
/* FILE DATA ELEMENTS */
RECORD_TYPE = UNDEFINED
/* POINTERS TO DATA OBJECTS */
^IMAGE = ("HL024_0000_BL4.TIF")
/* IDENTIFICATION DATA ELEMENTS */
DATA_SET_ID = "MEX-M-HRSC-4-REFDR-MAPPROJECT-EXT7-V4.0"
DATA_SET_NAME = "MARS EXPRESS HRSC MAP PROJECTED REFDR EXTENSION7 V4.0"
DETECTOR_ID = MEX_HRSC_BLUE
EVENT_TYPE = "MARS-REGIONAL-MAPPING-Vo-Fl-Gl"
INSTRUMENT_HOST_ID = MEX
INSTRUMENT_HOST_NAME = "MARS EXPRESS"
INSTRUMENT_ID = HRSC
INSTRUMENT_NAME = "HIGH RESOLUTION STEREO CAMERA"
MISSION_NAME = "MARS EXPRESS"
MISSION_PHASE_NAME = ME_Phase_43
PROCESSING_LEVEL_ID = 4
PRODUCT_CREATION_TIME = 2023-01-29T17:38:44.000Z
PRODUCT_ID = "HL024_0000_BL4.TIF"
RELEASE_ID = 0005
REVISION_ID = 0000
/* QUALITY DATA ELEMENTS */
DATA_QUALITY_ID = 1
DATA_QUALITY_DESC = "Data calculated based on original SPICE kernels"
/* TIME DATA ELEMENTS */
SPACECRAFT_CLOCK_START_COUNT = "1/0545875674.02175"
SPACECRAFT_CLOCK_STOP_COUNT = "1/0545875909.61156"
START_TIME = 2020-08-19T00:08:55.501Z
STOP_TIME = 2020-08-19T00:10:03.627Z
/* ORBITAL DATA ELEMENTS */
ASCENDING_NODE_LONGITUDE = 180.82
MAXIMUM_RESOLUTION = 0.056
FOOTPRINT_POINT_LATITUDE = (-53.0213,-53.018,-53.0151,-53.0112, -53.0079,-53.0044,-53.0007,-52.9968, -52.9928,-52.9885,-52.984,-52.9758, -52.9708,-52.9701,-52.9524,-52.7366, -52.5637,-52.3473,-52.1743,-52.0011, -51.8711,-51.7411,-51.5678,-51.3943, -51.1772,-50.96,-50.8296,-50.6558, -50.4819,-50.3949,-50.3078,-50.2207, -50.1336,-50.0465,-49.9595,-49.8724, -49.7853,-49.698,-49.6108,-49.48, -49.3927,-49.2619,-49.1745,-49.0872, -48.9997,-48.9123,-48.7813,-48.6501, -48.6062,-48.5633,-48.5696,-48.5739, -48.5809,-48.5869,-48.5912,-48.5937, -48.5962,-48.5984,-48.6006,-48.6008, -48.6017,-48.7332,-48.8209,-48.9085, -48.9961,-49.0838,-49.2153,-49.3029, -49.4343,-49.5656,-49.6968,-49.7842, -49.9153,-50.0028,-50.0902,-50.1776, -50.2649,-50.3959,-50.4832,-50.5705, -50.6579,-50.7451,-50.876,-50.9632, -51.094,-51.1811,-51.2682,-51.399, -51.4861,-51.6603,-51.7474,-51.9647, -52.1386,-52.269,-52.4428,-52.6164, -52.79,-52.9203,-52.9637,-53.0213)
FOOTPRINT_POINT_LONGITUDE = (52.6115,52.4203,52.2678,52.0774, 51.9253,51.7734,51.6218,51.4705,51.3195 ,51.1687,51.0182,50.7548,50.6047,50.586 ,50.557,50.5808,50.5994,50.6221,50.6402 ,50.6579,50.6711,50.6841,50.7013, 50.7183,50.739,50.7592,50.7713,50.7873, 50.8029,50.8107,50.8184,50.8259,50.8334 ,50.841,50.8486,50.8561,50.8634,50.8706 ,50.8778,50.8887,50.8957,50.9063, 50.9132,50.9201,50.9268,50.9336,50.9437 ,50.9536,50.9567,50.9598,51.1804, 51.3516,51.6256,51.918,52.1601,52.2984, 52.4544,52.6109,52.7852,52.8027,52.8085 ,52.805,52.8028,52.8004,52.7981,52.7956 ,52.7915,52.789,52.7852,52.7814,52.7778 ,52.7755,52.772,52.7694,52.7667,52.7642 ,52.7618,52.758,52.7555,52.7528,52.7501 ,52.7474,52.7432,52.7407,52.7367, 52.7341,52.7314,52.7271,52.7242,52.7184 ,52.7153,52.7087,52.7029,52.6985, 52.6924,52.6865,52.6805,52.6749,52.6734 ,52.6115)
ORBIT_NUMBER = 21024
ORBITAL_ECCENTRICITY = 0.577
ORBITAL_INCLINATION = 86.99
ORBITAL_SEMIMAJOR_AXIS = 8806.49
PERIAPSIS_ALTITUDE = 334.27
PERIAPSIS_ARGUMENT_ANGLE = 317.69
PERIAPSIS_TIME = 2020-08-19T00:11:47.000Z
SPACECRAFT_ORIENTATION = (0.0,1.0,0.0)
^MEX_ORIENTATION_DESC = "MEX_ORIENTATION_DESC.TXT"
SPACECRAFT_POINTING_MODE = ACROSSTRACK
^MEX_POINTING_DESC = "MEX_POINTING_DESC.TXT"
RIGHT_ASCENSION = -1e+32
DECLINATION = -1e+32
OFFSET_ANGLE = -0.229
SPACECRAFT_SOLAR_DISTANCE = 2.06915e+08
TARGET_NAME = MARS
/* CAMERA DATA ELEMENTS */
DETECTOR_TEMPERATURE = 0.0
FOCAL_PLANE_TEMPERATURE = 0.0
INST_CMPRS_NAME = "DISCRETE COSINE TRANSFORMATION (DCT)"
INST_CMPRS_RATIO = 8.80375
INST_CMPRS_QUALITY = 0
INST_CMPRS_QUANTZ_TBL_ID = 0
INSTRUMENT_TEMPERATURE = 0.0
LENS_TEMPERATURE = 0.0
MACROPIXEL_SIZE = 4
MISSING_FRAMES = 0
PIXEL_SUBSAMPLING_FLAG = N
SIGNAL_CHAIN_ID = 2
/* RADIOMETRIC DATA ELEMENTS */
BANDWIDTH = 76.0
CENTER_FILTER_WAVELENGTH = 444.0
RADIANCE_OFFSET = 0.904038
RADIANCE_SCALING_FACTOR = 0.00110789
REFLECTANCE_SCALING_FACTOR = 4.87346e-05
MEX:REFLECTANCE_OFFSET = 0.0397674
/* IMAGE OBJECT DEFINITIONS */
OBJECT = IMAGE
  INTERCHANGE_FORMAT = BINARY
  LINES = 4862
  LINE_SAMPLES = 1657
  SAMPLE_TYPE = UNSIGNED_INTEGER
  SAMPLE_BITS = 8
  BANDS = 1
  BAND_STORAGE_TYPE = BAND_SEQUENTIAL
  MAXIMUM = 251
  MEAN = 132.659
  MINIMUM = 1
  STANDARD_DEVIATION = 25.3258
END_OBJECT = IMAGE
/* MAP OBJECT DEFINITIONS */
OBJECT = IMAGE_MAP_PROJECTION
  ^DATA_SET_MAP_PROJECTION_CATALOG= "DSMAP.CAT"
  A_AXIS_RADIUS = 3396.0
  B_AXIS_RADIUS = 3396.0
  C_AXIS_RADIUS = 3396.0
  CENTER_LATITUDE = 0.0
  CENTER_LONGITUDE = 52.0
  COORDINATE_SYSTEM_NAME = PLANETOGRAPHIC
  COORDINATE_SYSTEM_TYPE = "BODY-FIXED ROTATING"
  EASTERNMOST_LONGITUDE = 52.8085
  FIRST_STANDARD_PARALLEL = "N/A"
  LINE_FIRST_PIXEL = 1
  LINE_LAST_PIXEL = 4862
  LINE_PROJECTION_OFFSET = -57976.625
  MAP_PROJECTION_ROTATION = 0.0
  MAP_PROJECTION_TYPE = SINUSOIDAL
  MAP_RESOLUTION = 1185.42760773333
  MAP_SCALE = 0.05
  MAXIMUM_LATITUDE = -48.5633
  MINIMUM_LATITUDE = -53.0213
  POSITIVE_LONGITUDE_DIRECTION = EAST
  REFERENCE_LATITUDE = "N/A"
  REFERENCE_LONGITUDE = "N/A"
  SAMPLE_FIRST_PIXEL = 1
  SAMPLE_LAST_PIXEL = 1657
  SAMPLE_PROJECTION_OFFSET = 1036.125
  SECOND_STANDARD_PARALLEL = "N/A"
  WESTERNMOST_LONGITUDE = 50.557
END_OBJECT = IMAGE_MAP_PROJECTION
END
