PDS_VERSION_ID = PDS3
/* FILE DATA ELEMENTS */
RECORD_TYPE = UNDEFINED
/* POINTERS TO DATA OBJECTS */
^IMAGE = ("HL020_0000_S14.TIF")
/* IDENTIFICATION DATA ELEMENTS */
DATA_SET_ID = "MEX-M-HRSC-4-REFDR-MAPPROJECT-EXT7-V4.0"
DATA_SET_NAME = "MARS EXPRESS HRSC MAP PROJECTED REFDR EXTENSION7 V4.0"
DETECTOR_ID = MEX_HRSC_S1
EVENT_TYPE = "MARS-REGIONAL-MAPPING-Im-Fl-Gl"
INSTRUMENT_HOST_ID = MEX
INSTRUMENT_HOST_NAME = "MARS EXPRESS"
INSTRUMENT_ID = HRSC
INSTRUMENT_NAME = "HIGH RESOLUTION STEREO CAMERA"
MISSION_NAME = "MARS EXPRESS"
MISSION_PHASE_NAME = ME_Phase_43
PROCESSING_LEVEL_ID = 4
PRODUCT_CREATION_TIME = 2023-01-29T17:38:44.000Z
PRODUCT_ID = "HL020_0000_S14.TIF"
RELEASE_ID = 0005
REVISION_ID = 0000
/* QUALITY DATA ELEMENTS */
DATA_QUALITY_ID = 1
DATA_QUALITY_DESC = "Data calculated based on original SPICE kernels"
/* TIME DATA ELEMENTS */
SPACECRAFT_CLOCK_START_COUNT = "1/0545775139.25698"
SPACECRAFT_CLOCK_STOP_COUNT = "1/0545775363.50772"
START_TIME = 2020-08-17T20:13:58.119Z
STOP_TIME = 2020-08-17T20:16:34.725Z
/* ORBITAL DATA ELEMENTS */
ASCENDING_NODE_LONGITUDE = 180.89
MAXIMUM_RESOLUTION = 0.0286
FOOTPRINT_POINT_LATITUDE = (-50.7556,-50.7147,-50.6788,-50.6419, -50.6407,-50.7049,-50.498,-50.2908, -49.9781,-49.7689,-49.3623,-49.1562, -48.8455,-48.6381,-48.4318,-48.2258, -48.0198,-47.8142,-47.6079,-47.4011, -47.1929,-46.9823,-46.5764,-46.2678, -45.9586,-45.7514,-45.5455,-45.2376, -44.9289,-44.7233,-44.5174,-44.313, -43.9127,-43.708,-43.4974,-43.2914, -42.9839,-42.7788,-42.5749,-42.3692, -42.1651,-41.9619,-41.7575,-41.3593, -41.0512,-40.841,-40.5357,-40.4331, -40.3996,-40.4243,-40.4536,-40.4748, -40.4938,-40.4948,-40.4956,-40.7925, -41.0025,-41.3161,-41.5201,-41.724, -41.9287,-42.1351,-42.344,-42.7496, -43.0548,-43.2602,-43.5694,-43.7773, -43.9816,-44.2844,-44.4907,-44.6963, -44.9029,-45.1087,-45.3143,-45.5205, -45.7264,-46.0349,-46.2411,-46.4481, -46.6538,-46.8589,-47.0647,-47.2717, -47.4787,-47.685,-47.9948,-48.2021, -48.4087,-48.6147,-48.924,-49.2278, -49.4343,-49.7454,-50.0572,-50.2653, -50.4732,-50.6802,-50.7837,-50.7556)
FOOTPRINT_POINT_LONGITUDE = (102.806,102.062,101.458,100.874, 100.856,100.88,100.891,100.902,100.916, 100.926,100.949,100.959,100.972,100.981 ,100.99,100.999,101.008,101.016,101.024 ,101.032,101.039,101.044,101.062, 101.072,101.082,101.088,101.094,101.103 ,101.111,101.117,101.122,101.128, 101.142,101.147,101.149,101.153,101.159 ,101.163,101.167,101.17,101.174,101.178 ,101.181,101.192,101.195,101.195, 101.199,101.2,101.2,101.58,102.048, 102.401,102.806,102.823,102.829,102.82, 102.83,102.842,102.844,102.845,102.847, 102.851,102.858,102.857,102.856,102.859 ,102.863,102.868,102.868,102.864, 102.866,102.868,102.871,102.872,102.873 ,102.875,102.876,102.878,102.879, 102.882,102.882,102.882,102.882,102.885 ,102.886,102.887,102.889,102.891, 102.892,102.892,102.893,102.885,102.885 ,102.888,102.891,102.893,102.895, 102.896,102.897,102.806)
ORBIT_NUMBER = 21020
ORBITAL_ECCENTRICITY = 0.578
ORBITAL_INCLINATION = 86.98
ORBITAL_SEMIMAJOR_AXIS = 8808.95
PERIAPSIS_ALTITUDE = 333.77
PERIAPSIS_ARGUMENT_ANGLE = 318.34
PERIAPSIS_TIME = 2020-08-17T20:15:47.000Z
SPACECRAFT_ORIENTATION = (0.0,1.0,0.0)
^MEX_ORIENTATION_DESC = "MEX_ORIENTATION_DESC.TXT"
SPACECRAFT_POINTING_MODE = ACROSSTRACK
^MEX_POINTING_DESC = "MEX_POINTING_DESC.TXT"
RIGHT_ASCENSION = -1e+32
DECLINATION = -1e+32
OFFSET_ANGLE = -1.2
SPACECRAFT_SOLAR_DISTANCE = 2.06878e+08
TARGET_NAME = MARS
/* CAMERA DATA ELEMENTS */
DETECTOR_TEMPERATURE = 17.7588
FOCAL_PLANE_TEMPERATURE = 9.6028
INST_CMPRS_NAME = "DISCRETE COSINE TRANSFORMATION (DCT)"
INST_CMPRS_RATIO = 11.7366
INST_CMPRS_QUALITY = 0
INST_CMPRS_QUANTZ_TBL_ID = 0
INSTRUMENT_TEMPERATURE = 11.6418
LENS_TEMPERATURE = 9.8067
MACROPIXEL_SIZE = 2
MISSING_FRAMES = 0
PIXEL_SUBSAMPLING_FLAG = N
SIGNAL_CHAIN_ID = 1
/* RADIOMETRIC DATA ELEMENTS */
BANDWIDTH = 180.0
CENTER_FILTER_WAVELENGTH = 677.0
RADIANCE_OFFSET = 6.33763
RADIANCE_SCALING_FACTOR = 0.0156969
REFLECTANCE_SCALING_FACTOR = 0.000350496
MEX:REFLECTANCE_OFFSET = 0.141513
/* IMAGE OBJECT DEFINITIONS */
OBJECT = IMAGE
  INTERCHANGE_FORMAT = BINARY
  LINES = 24508
  LINE_SAMPLES = 3209
  SAMPLE_TYPE = UNSIGNED_INTEGER
  SAMPLE_BITS = 8
  BANDS = 1
  BAND_STORAGE_TYPE = BAND_SEQUENTIAL
  MAXIMUM = 255
  MEAN = 114.373
  MINIMUM = 1
  STANDARD_DEVIATION = 26.3046
END_OBJECT = IMAGE
/* MAP OBJECT DEFINITIONS */
OBJECT = IMAGE_MAP_PROJECTION
  ^DATA_SET_MAP_PROJECTION_CATALOG= "DSMAP.CAT"
  A_AXIS_RADIUS = 3396.0
  B_AXIS_RADIUS = 3396.0
  C_AXIS_RADIUS = 3396.0
  CENTER_LATITUDE = 0.0
  CENTER_LONGITUDE = 102.0
  COORDINATE_SYSTEM_NAME = PLANETOGRAPHIC
  COORDINATE_SYSTEM_TYPE = "BODY-FIXED ROTATING"
  EASTERNMOST_LONGITUDE = 102.897
  FIRST_STANDARD_PARALLEL = "N/A"
  LINE_FIRST_PIXEL = 1
  LINE_LAST_PIXEL = 24508
  LINE_PROJECTION_OFFSET = -95878.75
  MAP_PROJECTION_ROTATION = 0.0
  MAP_PROJECTION_TYPE = SINUSOIDAL
  MAP_RESOLUTION = 2370.85521546667
  MAP_SCALE = 0.025
  MAXIMUM_LATITUDE = -40.3996
  MINIMUM_LATITUDE = -50.7837
  POSITIVE_LONGITUDE_DIRECTION = EAST
  REFERENCE_LATITUDE = "N/A"
  REFERENCE_LONGITUDE = "N/A"
  SAMPLE_FIRST_PIXEL = 1
  SAMPLE_LAST_PIXEL = 3209
  SAMPLE_PROJECTION_OFFSET = 1735.25
  SECOND_STANDARD_PARALLEL = "N/A"
  WESTERNMOST_LONGITUDE = 100.856
END_OBJECT = IMAGE_MAP_PROJECTION
END
