PDS_VERSION_ID = PDS3
/* FILE DATA ELEMENTS */
RECORD_TYPE = UNDEFINED
/* POINTERS TO DATA OBJECTS */
^IMAGE = ("HL019_0009_S14.TIF")
/* IDENTIFICATION DATA ELEMENTS */
DATA_SET_ID = "MEX-M-HRSC-4-REFDR-MAPPROJECT-EXT7-V4.0"
DATA_SET_NAME = "MARS EXPRESS HRSC MAP PROJECTED REFDR EXTENSION7 V4.0"
DETECTOR_ID = MEX_HRSC_S1
EVENT_TYPE = "MARS-REGIONAL-MAPPING-Te-Im-Pf"
INSTRUMENT_HOST_ID = MEX
INSTRUMENT_HOST_NAME = "MARS EXPRESS"
INSTRUMENT_ID = HRSC
INSTRUMENT_NAME = "HIGH RESOLUTION STEREO CAMERA"
MISSION_NAME = "MARS EXPRESS"
MISSION_PHASE_NAME = ME_Phase_43
PROCESSING_LEVEL_ID = 4
PRODUCT_CREATION_TIME = 2023-01-29T17:38:44.000Z
PRODUCT_ID = "HL019_0009_S14.TIF"
RELEASE_ID = 0005
REVISION_ID = 0000
/* QUALITY DATA ELEMENTS */
DATA_QUALITY_ID = 1
DATA_QUALITY_DESC = "Data calculated based on original SPICE kernels"
/* TIME DATA ELEMENTS */
SPACECRAFT_CLOCK_START_COUNT = "1/0545749899.25686"
SPACECRAFT_CLOCK_STOP_COUNT = "1/0545750129.32886"
START_TIME = 2020-08-17T13:13:24.734Z
STOP_TIME = 2020-08-17T13:16:00.503Z
/* ORBITAL DATA ELEMENTS */
ASCENDING_NODE_LONGITUDE = 180.91
MAXIMUM_RESOLUTION = 0.0285
FOOTPRINT_POINT_LATITUDE = (-56.6361,-56.6162,-56.6007,-56.5679, -56.5325,-56.5313,-56.598,-56.3575, -56.1151,-55.7562,-55.5167,-55.2807, -55.0793,-54.7772,-54.475,-54.2741, -54.0727,-53.7702,-53.5686,-53.3666, -53.1638,-52.7657,-52.5646,-52.3632, -52.1605,-51.9543,-51.7531,-51.5514, -51.35,-51.1481,-50.9468,-50.7451, -50.4423,-50.2407,-50.038,-49.7351, -49.4336,-49.2326,-49.0312,-48.8299, -48.5282,-48.2263,-48.0249,-47.823, -47.6217,-47.2235,-46.9235,-46.6221, -46.4209,-46.3213,-46.2908,-46.3169, -46.3324,-46.355,-46.3674,-46.3681, -46.3688,-46.769,-46.9693,-47.3657, -47.5668,-47.8734,-48.0803,-48.2823, -48.4842,-48.6861,-48.8874,-49.2826, -49.4867,-49.6891,-49.8924,-50.196, -50.3979,-50.6004,-50.8033,-51.1071, -51.4102,-51.6129,-51.8146,-52.1165, -52.3183,-52.6208,-52.8224,-53.0286, -53.3376,-53.5395,-53.8419,-54.2391, -54.4419,-54.6442,-54.8456,-55.0505, -55.3524,-55.5838,-55.8246,-56.0655, -56.3061,-56.5466,-56.6668,-56.6361)
FOOTPRINT_POINT_LONGITUDE = (203.992,203.483,203.117,202.395, 201.686,201.664,201.655,201.684,201.712 ,201.754,201.781,201.807,201.829, 201.861,201.892,201.913,201.933,201.962 ,201.981,202.0,202.018,202.054,202.071, 202.088,202.105,202.121,202.138,202.154 ,202.169,202.184,202.199,202.214, 202.236,202.25,202.263,202.284,202.303, 202.316,202.329,202.341,202.359,202.376 ,202.388,202.399,202.41,202.431,202.446 ,202.461,202.471,202.475,202.477,203.02 ,203.354,203.881,204.192,204.209, 204.216,204.211,204.208,204.199,204.197 ,204.199,204.202,204.201,204.2,204.198, 204.196,204.183,204.183,204.182,204.181 ,204.178,204.176,204.174,204.173,204.17 ,204.166,204.164,204.16,204.155,204.152 ,204.146,204.143,204.144,204.145, 204.141,204.135,204.12,204.117,204.114, 204.109,204.108,204.101,204.095,204.09, 204.084,204.078,204.072,204.069, 203.992)
ORBIT_NUMBER = 21019
ORBITAL_ECCENTRICITY = 0.577
ORBITAL_INCLINATION = 86.99
ORBITAL_SEMIMAJOR_AXIS = 8803.6
PERIAPSIS_ALTITUDE = 334.41
PERIAPSIS_ARGUMENT_ANGLE = 318.53
PERIAPSIS_TIME = 2020-08-17T13:16:46.000Z
SPACECRAFT_ORIENTATION = (0.0,1.0,0.0)
^MEX_ORIENTATION_DESC = "MEX_ORIENTATION_DESC.TXT"
SPACECRAFT_POINTING_MODE = ACROSSTRACK
^MEX_POINTING_DESC = "MEX_POINTING_DESC.TXT"
RIGHT_ASCENSION = -1e+32
DECLINATION = -1e+32
OFFSET_ANGLE = -0.7
SPACECRAFT_SOLAR_DISTANCE = 2.06869e+08
TARGET_NAME = MARS
/* CAMERA DATA ELEMENTS */
DETECTOR_TEMPERATURE = 17.351
FOCAL_PLANE_TEMPERATURE = 8.9911
INST_CMPRS_NAME = "DISCRETE COSINE TRANSFORMATION (DCT)"
INST_CMPRS_RATIO = 8.78762
INST_CMPRS_QUALITY = 0
INST_CMPRS_QUANTZ_TBL_ID = 0
INSTRUMENT_TEMPERATURE = 11.6418
LENS_TEMPERATURE = 9.3989
MACROPIXEL_SIZE = 2
MISSING_FRAMES = 0
PIXEL_SUBSAMPLING_FLAG = N
SIGNAL_CHAIN_ID = 1
/* RADIOMETRIC DATA ELEMENTS */
BANDWIDTH = 180.0
CENTER_FILTER_WAVELENGTH = 677.0
RADIANCE_OFFSET = 5.76449
RADIANCE_SCALING_FACTOR = 0.0123868
REFLECTANCE_SCALING_FACTOR = 0.00027656
MEX:REFLECTANCE_OFFSET = 0.128704
/* IMAGE OBJECT DEFINITIONS */
OBJECT = IMAGE
  INTERCHANGE_FORMAT = BINARY
  LINES = 24590
  LINE_SAMPLES = 3812
  SAMPLE_TYPE = UNSIGNED_INTEGER
  SAMPLE_BITS = 8
  BANDS = 1
  BAND_STORAGE_TYPE = BAND_SEQUENTIAL
  MAXIMUM = 255
  MEAN = 130.691
  MINIMUM = 1
  STANDARD_DEVIATION = 23.2293
END_OBJECT = IMAGE
/* MAP OBJECT DEFINITIONS */
OBJECT = IMAGE_MAP_PROJECTION
  ^DATA_SET_MAP_PROJECTION_CATALOG= "DSMAP.CAT"
  A_AXIS_RADIUS = 3396.0
  B_AXIS_RADIUS = 3396.0
  C_AXIS_RADIUS = 3396.0
  CENTER_LATITUDE = 0.0
  CENTER_LONGITUDE = 203.0
  COORDINATE_SYSTEM_NAME = PLANETOGRAPHIC
  COORDINATE_SYSTEM_TYPE = "BODY-FIXED ROTATING"
  EASTERNMOST_LONGITUDE = 204.216
  FIRST_STANDARD_PARALLEL = "N/A"
  LINE_FIRST_PIXEL = 1
  LINE_LAST_PIXEL = 24590
  LINE_PROJECTION_OFFSET = -109822.75
  MAP_PROJECTION_ROTATION = 0.0
  MAP_PROJECTION_TYPE = SINUSOIDAL
  MAP_RESOLUTION = 2370.85521546667
  MAP_SCALE = 0.025
  MAXIMUM_LATITUDE = -46.2908
  MINIMUM_LATITUDE = -56.6668
  POSITIVE_LONGITUDE_DIRECTION = EAST
  REFERENCE_LATITUDE = "N/A"
  REFERENCE_LONGITUDE = "N/A"
  SAMPLE_FIRST_PIXEL = 1
  SAMPLE_LAST_PIXEL = 3812
  SAMPLE_PROJECTION_OFFSET = 1831.25
  SECOND_STANDARD_PARALLEL = "N/A"
  WESTERNMOST_LONGITUDE = 201.655
END_OBJECT = IMAGE_MAP_PROJECTION
END
