PDS_VERSION_ID = PDS3
/* FILE DATA ELEMENTS */
RECORD_TYPE = UNDEFINED
/* POINTERS TO DATA OBJECTS */
^IMAGE = ("HL019_0009_GR4.TIF")
/* IDENTIFICATION DATA ELEMENTS */
DATA_SET_ID = "MEX-M-HRSC-4-REFDR-MAPPROJECT-EXT7-V4.0"
DATA_SET_NAME = "MARS EXPRESS HRSC MAP PROJECTED REFDR EXTENSION7 V4.0"
DETECTOR_ID = MEX_HRSC_GREEN
EVENT_TYPE = "MARS-REGIONAL-MAPPING-Te-Im-Pf"
INSTRUMENT_HOST_ID = MEX
INSTRUMENT_HOST_NAME = "MARS EXPRESS"
INSTRUMENT_ID = HRSC
INSTRUMENT_NAME = "HIGH RESOLUTION STEREO CAMERA"
MISSION_NAME = "MARS EXPRESS"
MISSION_PHASE_NAME = ME_Phase_43
PROCESSING_LEVEL_ID = 4
PRODUCT_CREATION_TIME = 2023-01-29T17:38:44.000Z
PRODUCT_ID = "HL019_0009_GR4.TIF"
RELEASE_ID = 0005
REVISION_ID = 0000
/* QUALITY DATA ELEMENTS */
DATA_QUALITY_ID = 1
DATA_QUALITY_DESC = "Data calculated based on original SPICE kernels"
/* TIME DATA ELEMENTS */
SPACECRAFT_CLOCK_START_COUNT = "1/0545749899.25686"
SPACECRAFT_CLOCK_STOP_COUNT = "1/0545750129.32886"
START_TIME = 2020-08-17T13:12:56.249Z
STOP_TIME = 2020-08-17T13:15:35.361Z
/* ORBITAL DATA ELEMENTS */
ASCENDING_NODE_LONGITUDE = 180.91
MAXIMUM_RESOLUTION = 0.0542
FOOTPRINT_POINT_LATITUDE = (-56.6861,-56.6745,-56.6662,-56.6466, -56.6236,-56.6229,-56.6322,-56.2863, -56.0554,-55.7092,-55.4783,-55.2471, -55.0156,-54.784,-54.5523,-54.3205, -54.0885,-53.8563,-53.5127,-53.1227, -52.7334,-52.343,-52.1474,-51.8536, -51.5601,-51.2665,-51.0707,-50.8748, -50.6787,-50.4826,-50.2865,-49.992, -49.7956,-49.5012,-49.2065,-49.01, -48.8134,-48.6168,-48.4202,-48.2233, -48.0265,-47.731,-47.534,-47.2393, -47.0424,-46.8454,-46.6482,-46.4511, -46.3526,-46.3197,-46.3329,-46.3397, -46.3476,-46.3522,-46.3524,-46.3533, -46.6492,-46.8468,-47.0441,-47.241, -47.438,-47.6354,-47.9324,-48.1304, -48.3276,-48.5249,-48.7221,-49.1148, -49.312,-49.5091,-49.8047,-50.1001, -50.2969,-50.4936,-50.6902,-50.887, -51.0835,-51.2799,-51.4763,-51.7707, -51.9667,-52.1627,-52.4566,-52.848, -53.0445,-53.5343,-53.8727,-54.2211, -54.454,-54.6867,-54.9193,-55.1523, -55.3843,-55.6163,-55.8482,-56.08, -56.3117,-56.5431,-56.6588,-56.6861)
FOOTPRINT_POINT_LONGITUDE = (204.003,203.412,203.051,202.341, 201.642,201.62,201.617,201.66,201.688, 201.729,201.756,201.783,201.808,201.834 ,201.858,201.883,201.906,201.93,201.963 ,202.0,202.036,202.071,202.087,202.112, 202.136,202.159,202.174,202.189,202.204 ,202.218,202.233,202.253,202.267, 202.287,202.306,202.319,202.331,202.343 ,202.355,202.367,202.379,202.395, 202.406,202.423,202.433,202.444,202.454 ,202.464,202.468,202.47,203.024,203.363 ,203.837,204.186,204.202,204.208, 204.203,204.203,204.2,204.195,204.192, 204.19,204.194,204.197,204.195,204.195, 204.193,204.181,204.18,204.179,204.178, 204.177,204.175,204.173,204.172,204.171 ,204.169,204.167,204.165,204.161, 204.159,204.155,204.151,204.144,204.146 ,204.145,204.138,204.126,204.123, 204.119,204.115,204.114,204.108,204.103 ,204.098,204.093,204.088,204.082,204.08 ,204.003)
ORBIT_NUMBER = 21019
ORBITAL_ECCENTRICITY = 0.577
ORBITAL_INCLINATION = 86.99
ORBITAL_SEMIMAJOR_AXIS = 8803.6
PERIAPSIS_ALTITUDE = 334.41
PERIAPSIS_ARGUMENT_ANGLE = 318.53
PERIAPSIS_TIME = 2020-08-17T13:16:46.000Z
SPACECRAFT_ORIENTATION = (0.0,1.0,0.0)
^MEX_ORIENTATION_DESC = "MEX_ORIENTATION_DESC.TXT"
SPACECRAFT_POINTING_MODE = ACROSSTRACK
^MEX_POINTING_DESC = "MEX_POINTING_DESC.TXT"
RIGHT_ASCENSION = -1e+32
DECLINATION = -1e+32
OFFSET_ANGLE = -0.7
SPACECRAFT_SOLAR_DISTANCE = 2.06869e+08
TARGET_NAME = MARS
/* CAMERA DATA ELEMENTS */
DETECTOR_TEMPERATURE = 18.1666
FOCAL_PLANE_TEMPERATURE = 8.9911
INST_CMPRS_NAME = "DISCRETE COSINE TRANSFORMATION (DCT)"
INST_CMPRS_RATIO = 12.6693
INST_CMPRS_QUALITY = 0
INST_CMPRS_QUANTZ_TBL_ID = 0
INSTRUMENT_TEMPERATURE = 11.6418
LENS_TEMPERATURE = 9.3989
MACROPIXEL_SIZE = 4
MISSING_FRAMES = 0
PIXEL_SUBSAMPLING_FLAG = N
SIGNAL_CHAIN_ID = 2
/* RADIOMETRIC DATA ELEMENTS */
BANDWIDTH = 88.0
CENTER_FILTER_WAVELENGTH = 538.0
RADIANCE_OFFSET = 1.92017
RADIANCE_SCALING_FACTOR = 0.00297367
REFLECTANCE_SCALING_FACTOR = 0.000109565
MEX:REFLECTANCE_OFFSET = 0.0707488
/* IMAGE OBJECT DEFINITIONS */
OBJECT = IMAGE
  INTERCHANGE_FORMAT = BINARY
  LINES = 12295
  LINE_SAMPLES = 1906
  SAMPLE_TYPE = UNSIGNED_INTEGER
  SAMPLE_BITS = 8
  BANDS = 1
  BAND_STORAGE_TYPE = BAND_SEQUENTIAL
  MAXIMUM = 255
  MEAN = 134.748
  MINIMUM = 1
  STANDARD_DEVIATION = 20.7953
END_OBJECT = IMAGE
/* MAP OBJECT DEFINITIONS */
OBJECT = IMAGE_MAP_PROJECTION
  ^DATA_SET_MAP_PROJECTION_CATALOG= "DSMAP.CAT"
  A_AXIS_RADIUS = 3396.0
  B_AXIS_RADIUS = 3396.0
  C_AXIS_RADIUS = 3396.0
  CENTER_LATITUDE = 0.0
  CENTER_LONGITUDE = 203.0
  COORDINATE_SYSTEM_NAME = PLANETOGRAPHIC
  COORDINATE_SYSTEM_TYPE = "BODY-FIXED ROTATING"
  EASTERNMOST_LONGITUDE = 204.208
  FIRST_STANDARD_PARALLEL = "N/A"
  LINE_FIRST_PIXEL = 1
  LINE_LAST_PIXEL = 12295
  LINE_PROJECTION_OFFSET = -54911.625
  MAP_PROJECTION_ROTATION = 0.0
  MAP_PROJECTION_TYPE = SINUSOIDAL
  MAP_RESOLUTION = 1185.42760773333
  MAP_SCALE = 0.05
  MAXIMUM_LATITUDE = -46.3197
  MINIMUM_LATITUDE = -56.6861
  POSITIVE_LONGITUDE_DIRECTION = EAST
  REFERENCE_LATITUDE = "N/A"
  REFERENCE_LONGITUDE = "N/A"
  SAMPLE_FIRST_PIXEL = 1
  SAMPLE_LAST_PIXEL = 1906
  SAMPLE_PROJECTION_OFFSET = 915.375
  SECOND_STANDARD_PARALLEL = "N/A"
  WESTERNMOST_LONGITUDE = 201.617
END_OBJECT = IMAGE_MAP_PROJECTION
END
