PDS_VERSION_ID = PDS3
/* FILE DATA ELEMENTS */
RECORD_TYPE = UNDEFINED
/* POINTERS TO DATA OBJECTS */
^IMAGE = ("HL004_0000_BL4.TIF")
/* IDENTIFICATION DATA ELEMENTS */
DATA_SET_ID = "MEX-M-HRSC-4-REFDR-MAPPROJECT-EXT7-V4.0"
DATA_SET_NAME = "MARS EXPRESS HRSC MAP PROJECTED REFDR EXTENSION7 V4.0"
DETECTOR_ID = MEX_HRSC_BLUE
EVENT_TYPE = "MARS-REGIONAL-MAPPING-Eb-La-Ts"
INSTRUMENT_HOST_ID = MEX
INSTRUMENT_HOST_NAME = "MARS EXPRESS"
INSTRUMENT_ID = HRSC
INSTRUMENT_NAME = "HIGH RESOLUTION STEREO CAMERA"
MISSION_NAME = "MARS EXPRESS"
MISSION_PHASE_NAME = ME_Phase_43
PROCESSING_LEVEL_ID = 4
PRODUCT_CREATION_TIME = 2023-01-29T17:38:44.000Z
PRODUCT_ID = "HL004_0000_BL4.TIF"
RELEASE_ID = 0005
REVISION_ID = 0000
/* QUALITY DATA ELEMENTS */
DATA_QUALITY_ID = 1
DATA_QUALITY_DESC = "Data calculated based on original SPICE kernels"
/* TIME DATA ELEMENTS */
SPACECRAFT_CLOCK_START_COUNT = "1/0545372943.25686"
SPACECRAFT_CLOCK_STOP_COUNT = "1/0545373135.50212"
START_TIME = 2020-08-13T04:30:03.270Z
STOP_TIME = 2020-08-13T04:32:11.467Z
/* ORBITAL DATA ELEMENTS */
ASCENDING_NODE_LONGITUDE = 181.19
MAXIMUM_RESOLUTION = 0.0531
FOOTPRINT_POINT_LATITUDE = (-45.4325,-45.4306,-45.4287,-45.4261, -45.423,-45.4193,-45.4143,-45.414, -45.4041,-45.1522,-44.9843,-44.8164, -44.6483,-44.4801,-44.3121,-44.0608, -43.8084,-43.6397,-43.4711,-43.3023, -43.0492,-42.8806,-42.7121,-42.5434, -42.375,-42.2063,-42.0374,-41.8685, -41.6994,-41.5305,-41.3617,-41.1947, -41.0303,-40.703,-40.3769,-40.1312, -39.8033,-39.3117,-38.9837,-38.6555, -38.3275,-38.0815,-37.7535,-37.5894, -37.3434,-37.1793,-37.0972,-37.052, -37.0536,-37.055,-37.0562,-37.0552, -37.0551,-37.0559,-37.2203,-37.3847, -37.549,-37.7132,-37.8775,-38.0419, -38.2885,-38.4529,-38.6171,-38.8634, -39.1095,-39.3557,-39.5198,-39.6839, -39.848,-40.012,-40.2581,-40.4222, -40.7502,-41.0781,-41.2422,-41.4099, -41.5791,-41.7485,-41.9181,-42.0876, -42.2562,-42.4256,-42.5942,-42.7636, -43.0166,-43.185,-43.3538,-43.5224, -43.6915,-43.8604,-44.0296,-44.2829, -44.451,-44.6194,-44.7879,-44.9562, -45.1246,-45.2929,-45.377,-45.4325)
FOOTPRINT_POINT_LONGITUDE = (295.847,295.478,295.224,294.971, 294.721,294.472,294.178,294.162,294.158 ,294.171,294.179,294.188,294.196, 294.205,294.213,294.225,294.236,294.244 ,294.251,294.259,294.269,294.276, 294.283,294.29,294.297,294.303,294.31, 294.316,294.322,294.328,294.334,294.34, 294.346,294.356,294.367,294.374,294.384 ,294.398,294.407,294.415,294.423, 294.429,294.437,294.44,294.445,294.449, 294.45,294.451,294.664,294.92,295.411, 295.896,295.91,295.915,295.914,295.914, 295.914,295.914,295.914,295.913,295.912 ,295.911,295.911,295.91,295.911,295.911 ,295.91,295.91,295.91,295.91,295.909, 295.909,295.907,295.906,295.905,295.904 ,295.904,295.903,295.901,295.899,295.9, 295.899,295.9,295.898,295.899,295.9, 295.9,295.9,295.898,295.897,295.894, 295.891,295.892,295.892,295.891,295.89, 295.889,295.888,295.888,295.847)
ORBIT_NUMBER = 21004
ORBITAL_ECCENTRICITY = 0.577
ORBITAL_INCLINATION = 86.97
ORBITAL_SEMIMAJOR_AXIS = 8811.22
PERIAPSIS_ALTITUDE = 335.11
PERIAPSIS_ARGUMENT_ANGLE = 321.1
PERIAPSIS_TIME = 2020-08-13T04:31:50.000Z
SPACECRAFT_ORIENTATION = (0.0,1.0,0.0)
^MEX_ORIENTATION_DESC = "MEX_ORIENTATION_DESC.TXT"
SPACECRAFT_POINTING_MODE = ACROSSTRACK
^MEX_POINTING_DESC = "MEX_POINTING_DESC.TXT"
RIGHT_ASCENSION = -1e+32
DECLINATION = -1e+32
OFFSET_ANGLE = -0.539
SPACECRAFT_SOLAR_DISTANCE = 2.06756e+08
TARGET_NAME = MARS
/* CAMERA DATA ELEMENTS */
DETECTOR_TEMPERATURE = 17.7588
FOCAL_PLANE_TEMPERATURE = 8.7872
INST_CMPRS_NAME = "DISCRETE COSINE TRANSFORMATION (DCT)"
INST_CMPRS_RATIO = 5.4262
INST_CMPRS_QUALITY = 0
INST_CMPRS_QUANTZ_TBL_ID = 0
INSTRUMENT_TEMPERATURE = 11.0301
LENS_TEMPERATURE = 9.3989
MACROPIXEL_SIZE = 4
MISSING_FRAMES = 0
PIXEL_SUBSAMPLING_FLAG = N
SIGNAL_CHAIN_ID = 2
/* RADIOMETRIC DATA ELEMENTS */
BANDWIDTH = 76.0
CENTER_FILTER_WAVELENGTH = 444.0
RADIANCE_OFFSET = 0.703451
RADIANCE_SCALING_FACTOR = 0.00127522
REFLECTANCE_SCALING_FACTOR = 5.60085e-05
MEX:REFLECTANCE_OFFSET = 0.0308961
/* IMAGE OBJECT DEFINITIONS */
OBJECT = IMAGE
  INTERCHANGE_FORMAT = BINARY
  LINES = 9934
  LINE_SAMPLES = 1574
  SAMPLE_TYPE = UNSIGNED_INTEGER
  SAMPLE_BITS = 8
  BANDS = 1
  BAND_STORAGE_TYPE = BAND_SEQUENTIAL
  MAXIMUM = 255
  MEAN = 143.612
  MINIMUM = 1
  STANDARD_DEVIATION = 18.3413
END_OBJECT = IMAGE
/* MAP OBJECT DEFINITIONS */
OBJECT = IMAGE_MAP_PROJECTION
  ^DATA_SET_MAP_PROJECTION_CATALOG= "DSMAP.CAT"
  A_AXIS_RADIUS = 3396.0
  B_AXIS_RADIUS = 3396.0
  C_AXIS_RADIUS = 3396.0
  CENTER_LATITUDE = 0.0
  CENTER_LONGITUDE = 295.0
  COORDINATE_SYSTEM_NAME = PLANETOGRAPHIC
  COORDINATE_SYSTEM_TYPE = "BODY-FIXED ROTATING"
  EASTERNMOST_LONGITUDE = 295.915
  FIRST_STANDARD_PARALLEL = "N/A"
  LINE_FIRST_PIXEL = 1
  LINE_LAST_PIXEL = 9934
  LINE_PROJECTION_OFFSET = -43921.125
  MAP_PROJECTION_ROTATION = 0.0
  MAP_PROJECTION_TYPE = SINUSOIDAL
  MAP_RESOLUTION = 1185.42760773333
  MAP_SCALE = 0.05
  MAXIMUM_LATITUDE = -37.052
  MINIMUM_LATITUDE = -45.4325
  POSITIVE_LONGITUDE_DIRECTION = EAST
  REFERENCE_LATITUDE = "N/A"
  REFERENCE_LONGITUDE = "N/A"
  SAMPLE_FIRST_PIXEL = 1
  SAMPLE_LAST_PIXEL = 1574
  SAMPLE_PROJECTION_OFFSET = 707.625
  SECOND_STANDARD_PARALLEL = "N/A"
  WESTERNMOST_LONGITUDE = 294.158
END_OBJECT = IMAGE_MAP_PROJECTION
END
