PDS_VERSION_ID = PDS3
/* FILE DATA ELEMENTS */
RECORD_TYPE = UNDEFINED
/* POINTERS TO DATA OBJECTS */
^IMAGE = ("HL002_0000_S24.TIF")
/* IDENTIFICATION DATA ELEMENTS */
DATA_SET_ID = "MEX-M-HRSC-4-REFDR-MAPPROJECT-EXT7-V4.0"
DATA_SET_NAME = "MARS EXPRESS HRSC MAP PROJECTED REFDR EXTENSION7 V4.0"
DETECTOR_ID = MEX_HRSC_S2
EVENT_TYPE = "MARS-REGIONAL-MAPPING-Vo-Im-Fl"
INSTRUMENT_HOST_ID = MEX
INSTRUMENT_HOST_NAME = "MARS EXPRESS"
INSTRUMENT_ID = HRSC
INSTRUMENT_NAME = "HIGH RESOLUTION STEREO CAMERA"
MISSION_NAME = "MARS EXPRESS"
MISSION_PHASE_NAME = ME_Phase_43
PROCESSING_LEVEL_ID = 4
PRODUCT_CREATION_TIME = 2023-01-29T17:38:44.000Z
PRODUCT_ID = "HL002_0000_S24.TIF"
RELEASE_ID = 0005
REVISION_ID = 0000
/* QUALITY DATA ELEMENTS */
DATA_QUALITY_ID = 1
DATA_QUALITY_DESC = "Data calculated based on original SPICE kernels"
/* TIME DATA ELEMENTS */
SPACECRAFT_CLOCK_START_COUNT = "1/0545322681.24889"
SPACECRAFT_CLOCK_STOP_COUNT = "1/0545322898.25233"
START_TIME = 2020-08-12T14:31:54.352Z
STOP_TIME = 2020-08-12T14:34:27.731Z
/* ORBITAL DATA ELEMENTS */
ASCENDING_NODE_LONGITUDE = 181.22
MAXIMUM_RESOLUTION = 0.0284
FOOTPRINT_POINT_LATITUDE = (-43.7303,-43.7562,-43.7737,-43.7874, -43.7878,-43.7471,-43.5516,-43.357, -43.0645,-42.8692,-42.6747,-42.4793, -42.1852,-41.989,-41.694,-41.4969, -41.2016,-40.9055,-40.708,-40.4117, -40.1148,-39.9173,-39.7194,-39.5214, -39.3235,-39.1261,-38.9278,-38.7297, -38.5334,-38.3369,-38.1412,-37.9436, -37.7439,-37.5431,-37.2431,-37.0431, -36.8439,-36.5409,-36.3327,-36.1325, -35.9327,-35.5403,-35.241,-35.0409, -34.7409,-34.5408,-34.2408,-33.9406, -33.841,-33.8026,-33.779,-33.7643, -33.7502,-33.7286,-33.7276,-33.7277, -33.9299,-34.1307,-34.4317,-34.6305, -34.8311,-35.0315,-35.2296,-35.432, -35.7327,-35.9332,-36.234,-36.4314, -36.6338,-36.833,-37.0327,-37.2326, -37.4314,-37.7305,-37.9301,-38.1292, -38.3279,-38.6256,-38.923,-39.1213, -39.32,-39.6184,-39.9103,-40.3001, -40.4984,-40.7004,-40.9071,-41.2959, -41.4977,-41.6937,-42.0787,-42.2765, -42.4772,-42.6728,-42.9666,-43.1629, -43.3582,-43.5542,-43.6521,-43.7303)
FOOTPRINT_POINT_LONGITUDE = (140.705,140.063,139.536,139.021, 139.005,139.011,139.018,139.025,139.036 ,139.043,139.049,139.056,139.066, 139.072,139.081,139.087,139.096,139.105 ,139.11,139.118,139.126,139.131,139.135 ,139.14,139.144,139.149,139.153,139.157 ,139.16,139.164,139.167,139.17,139.174, 139.177,139.183,139.186,139.189,139.194 ,139.199,139.201,139.204,139.207,139.21 ,139.212,139.214,139.216,139.218,139.22 ,139.221,139.221,139.54,140.013,140.298 ,140.662,140.677,140.682,140.682, 140.684,140.686,140.689,140.691,140.692 ,140.696,140.695,140.697,140.698,140.7, 140.703,140.702,140.704,140.705,140.706 ,140.708,140.71,140.711,140.713,140.714 ,140.717,140.719,140.721,140.722, 140.722,140.729,140.738,140.738,140.735 ,140.727,140.735,140.731,140.734, 140.744,140.744,140.741,140.742,140.744 ,140.745,140.746,140.746,140.747, 140.705)
ORBIT_NUMBER = 21002
ORBITAL_ECCENTRICITY = 0.577
ORBITAL_INCLINATION = 86.96
ORBITAL_SEMIMAJOR_AXIS = 8812.79
PERIAPSIS_ALTITUDE = 335.5
PERIAPSIS_ARGUMENT_ANGLE = 321.43
PERIAPSIS_TIME = 2020-08-12T14:33:46.000Z
SPACECRAFT_ORIENTATION = (0.0,1.0,0.0)
^MEX_ORIENTATION_DESC = "MEX_ORIENTATION_DESC.TXT"
SPACECRAFT_POINTING_MODE = ACROSSTRACK
^MEX_POINTING_DESC = "MEX_POINTING_DESC.TXT"
RIGHT_ASCENSION = -1e+32
DECLINATION = -1e+32
OFFSET_ANGLE = -0.916
SPACECRAFT_SOLAR_DISTANCE = 2.06744e+08
TARGET_NAME = MARS
/* CAMERA DATA ELEMENTS */
DETECTOR_TEMPERATURE = 18.7783
FOCAL_PLANE_TEMPERATURE = 9.195
INST_CMPRS_NAME = "DISCRETE COSINE TRANSFORMATION (DCT)"
INST_CMPRS_RATIO = 12.5222
INST_CMPRS_QUALITY = 0
INST_CMPRS_QUANTZ_TBL_ID = 0
INSTRUMENT_TEMPERATURE = 11.234
LENS_TEMPERATURE = 9.8067
MACROPIXEL_SIZE = 2
MISSING_FRAMES = 0
PIXEL_SUBSAMPLING_FLAG = N
SIGNAL_CHAIN_ID = 1
/* RADIOMETRIC DATA ELEMENTS */
BANDWIDTH = 178.0
CENTER_FILTER_WAVELENGTH = 679.0
RADIANCE_OFFSET = 5.49898
RADIANCE_SCALING_FACTOR = 0.0159039
REFLECTANCE_SCALING_FACTOR = 0.000359995
MEX:REFLECTANCE_OFFSET = 0.124473
/* IMAGE OBJECT DEFINITIONS */
OBJECT = IMAGE
  INTERCHANGE_FORMAT = BINARY
  LINES = 23586
  LINE_SAMPLES = 3004
  SAMPLE_TYPE = UNSIGNED_INTEGER
  SAMPLE_BITS = 8
  BANDS = 1
  BAND_STORAGE_TYPE = BAND_SEQUENTIAL
  MAXIMUM = 255
  MEAN = 136.055
  MINIMUM = 1
  STANDARD_DEVIATION = 36.5757
END_OBJECT = IMAGE
/* MAP OBJECT DEFINITIONS */
OBJECT = IMAGE_MAP_PROJECTION
  ^DATA_SET_MAP_PROJECTION_CATALOG= "DSMAP.CAT"
  A_AXIS_RADIUS = 3396.0
  B_AXIS_RADIUS = 3396.0
  C_AXIS_RADIUS = 3396.0
  CENTER_LATITUDE = 0.0
  CENTER_LONGITUDE = 140.0
  COORDINATE_SYSTEM_NAME = PLANETOGRAPHIC
  COORDINATE_SYSTEM_TYPE = "BODY-FIXED ROTATING"
  EASTERNMOST_LONGITUDE = 140.747
  FIRST_STANDARD_PARALLEL = "N/A"
  LINE_FIRST_PIXEL = 1
  LINE_LAST_PIXEL = 23586
  LINE_PROJECTION_OFFSET = -80022.75
  MAP_PROJECTION_ROTATION = 0.0
  MAP_PROJECTION_TYPE = SINUSOIDAL
  MAP_RESOLUTION = 2370.85521546667
  MAP_SCALE = 0.025
  MAXIMUM_LATITUDE = -33.7276
  MINIMUM_LATITUDE = -43.7878
  POSITIVE_LONGITUDE_DIRECTION = EAST
  REFERENCE_LATITUDE = "N/A"
  REFERENCE_LONGITUDE = "N/A"
  SAMPLE_FIRST_PIXEL = 1
  SAMPLE_LAST_PIXEL = 3004
  SAMPLE_PROJECTION_OFFSET = 1678.25
  SECOND_STANDARD_PARALLEL = "N/A"
  WESTERNMOST_LONGITUDE = 139.005
END_OBJECT = IMAGE_MAP_PROJECTION
END
