PDS_VERSION_ID = PDS3
/* FILE DATA ELEMENTS */
RECORD_TYPE = UNDEFINED
/* POINTERS TO DATA OBJECTS */
^IMAGE = ("HL002_0000_RE4.TIF")
/* IDENTIFICATION DATA ELEMENTS */
DATA_SET_ID = "MEX-M-HRSC-4-REFDR-MAPPROJECT-EXT7-V4.0"
DATA_SET_NAME = "MARS EXPRESS HRSC MAP PROJECTED REFDR EXTENSION7 V4.0"
DETECTOR_ID = MEX_HRSC_RED
EVENT_TYPE = "MARS-REGIONAL-MAPPING-Vo-Im-Fl"
INSTRUMENT_HOST_ID = MEX
INSTRUMENT_HOST_NAME = "MARS EXPRESS"
INSTRUMENT_ID = HRSC
INSTRUMENT_NAME = "HIGH RESOLUTION STEREO CAMERA"
MISSION_NAME = "MARS EXPRESS"
MISSION_PHASE_NAME = ME_Phase_43
PROCESSING_LEVEL_ID = 4
PRODUCT_CREATION_TIME = 2023-01-29T17:38:44.000Z
PRODUCT_ID = "HL002_0000_RE4.TIF"
RELEASE_ID = 0005
REVISION_ID = 0000
/* QUALITY DATA ELEMENTS */
DATA_QUALITY_ID = 1
DATA_QUALITY_DESC = "Data calculated based on original SPICE kernels"
/* TIME DATA ELEMENTS */
SPACECRAFT_CLOCK_START_COUNT = "1/0545322681.24889"
SPACECRAFT_CLOCK_STOP_COUNT = "1/0545322898.25233"
START_TIME = 2020-08-12T14:32:00.010Z
STOP_TIME = 2020-08-12T14:34:32.906Z
/* ORBITAL DATA ELEMENTS */
ASCENDING_NODE_LONGITUDE = 181.22
MAXIMUM_RESOLUTION = 0.0558
FOOTPRINT_POINT_LATITUDE = (-43.7201,-43.7421,-43.755,-43.7648, -43.7651,-43.7308,-43.5354,-43.2431, -43.048,-42.7555,-42.5602,-42.3647, -42.0707,-41.8746,-41.6779,-41.4811, -41.1861,-40.9893,-40.792,-40.5944, -40.3973,-40.1999,-39.904,-39.7064, -39.5087,-39.3113,-39.1139,-38.9162, -38.6199,-38.4232,-38.2283,-38.0317, -37.8337,-37.6345,-37.4346,-37.2354, -36.9367,-36.7378,-36.4327,-36.2303, -36.0309,-35.8319,-35.4411,-35.2409, -34.9416,-34.6428,-34.4437,-34.2444, -33.9457,-33.8464,-33.7959,-33.7782, -33.766,-33.7555,-33.7355,-33.7348, -33.7354,-33.9364,-34.1363,-34.3362, -34.5356,-34.8343,-35.0336,-35.3329, -35.5324,-35.7321,-35.932,-36.2316, -36.5277,-36.7292,-36.9281,-37.1272, -37.4253,-37.7234,-37.9224,-38.1209, -38.3192,-38.5173,-38.7153,-38.9131, -39.1108,-39.3091,-39.5075,-39.8054, -40.192,-40.3892,-40.6901,-40.8918, -41.2825,-41.4829,-41.679,-42.0654, -42.3652,-42.6583,-42.854,-43.0503, -43.3438,-43.5397,-43.6375,-43.7201)
FOOTPRINT_POINT_LONGITUDE = (140.695,140.018,139.516,139.025, 139.009,139.016,139.023,139.034,139.041 ,139.051,139.057,139.064,139.073, 139.079,139.086,139.092,139.1,139.106, 139.111,139.117,139.122,139.127,139.134 ,139.139,139.143,139.147,139.152, 139.156,139.162,139.165,139.168,139.171 ,139.174,139.178,139.181,139.185, 139.189,139.192,139.198,139.202,139.204 ,139.207,139.209,139.211,139.214, 139.217,139.218,139.22,139.222,139.222, 139.222,139.593,139.994,140.253,140.658 ,140.672,140.677,140.677,140.679,140.68 ,140.682,140.685,140.687,140.689,140.69 ,140.691,140.692,140.693,140.698, 140.697,140.698,140.699,140.702,140.703 ,140.704,140.705,140.707,140.708,140.71 ,140.712,140.713,140.714,140.715, 140.715,140.727,140.729,140.725,140.72, 140.726,140.723,140.725,140.735,140.73, 140.733,140.734,140.735,140.736,140.736 ,140.737,140.695)
ORBIT_NUMBER = 21002
ORBITAL_ECCENTRICITY = 0.577
ORBITAL_INCLINATION = 86.96
ORBITAL_SEMIMAJOR_AXIS = 8812.79
PERIAPSIS_ALTITUDE = 335.5
PERIAPSIS_ARGUMENT_ANGLE = 321.43
PERIAPSIS_TIME = 2020-08-12T14:33:46.000Z
SPACECRAFT_ORIENTATION = (0.0,1.0,0.0)
^MEX_ORIENTATION_DESC = "MEX_ORIENTATION_DESC.TXT"
SPACECRAFT_POINTING_MODE = ACROSSTRACK
^MEX_POINTING_DESC = "MEX_POINTING_DESC.TXT"
RIGHT_ASCENSION = -1e+32
DECLINATION = -1e+32
OFFSET_ANGLE = -0.916
SPACECRAFT_SOLAR_DISTANCE = 2.06744e+08
TARGET_NAME = MARS
/* CAMERA DATA ELEMENTS */
DETECTOR_TEMPERATURE = 18.7783
FOCAL_PLANE_TEMPERATURE = 9.195
INST_CMPRS_NAME = "DISCRETE COSINE TRANSFORMATION (DCT)"
INST_CMPRS_RATIO = 18.9941
INST_CMPRS_QUALITY = 0
INST_CMPRS_QUANTZ_TBL_ID = 0
INSTRUMENT_TEMPERATURE = 11.234
LENS_TEMPERATURE = 9.8067
MACROPIXEL_SIZE = 4
MISSING_FRAMES = 0
PIXEL_SUBSAMPLING_FLAG = N
SIGNAL_CHAIN_ID = 2
/* RADIOMETRIC DATA ELEMENTS */
BANDWIDTH = 48.0
CENTER_FILTER_WAVELENGTH = 748.0
RADIANCE_OFFSET = 1.43186
RADIANCE_SCALING_FACTOR = 0.00462868
REFLECTANCE_SCALING_FACTOR = 0.000451491
MEX:REFLECTANCE_OFFSET = 0.139666
/* IMAGE OBJECT DEFINITIONS */
OBJECT = IMAGE
  INTERCHANGE_FORMAT = BINARY
  LINES = 11793
  LINE_SAMPLES = 1502
  SAMPLE_TYPE = UNSIGNED_INTEGER
  SAMPLE_BITS = 8
  BANDS = 1
  BAND_STORAGE_TYPE = BAND_SEQUENTIAL
  MAXIMUM = 255
  MEAN = 135.128
  MINIMUM = 1
  STANDARD_DEVIATION = 38.7213
END_OBJECT = IMAGE
/* MAP OBJECT DEFINITIONS */
OBJECT = IMAGE_MAP_PROJECTION
  ^DATA_SET_MAP_PROJECTION_CATALOG= "DSMAP.CAT"
  A_AXIS_RADIUS = 3396.0
  B_AXIS_RADIUS = 3396.0
  C_AXIS_RADIUS = 3396.0
  CENTER_LATITUDE = 0.0
  CENTER_LONGITUDE = 140.0
  COORDINATE_SYSTEM_NAME = PLANETOGRAPHIC
  COORDINATE_SYSTEM_TYPE = "BODY-FIXED ROTATING"
  EASTERNMOST_LONGITUDE = 140.737
  FIRST_STANDARD_PARALLEL = "N/A"
  LINE_FIRST_PIXEL = 1
  LINE_LAST_PIXEL = 11793
  LINE_PROJECTION_OFFSET = -40011.625
  MAP_PROJECTION_ROTATION = 0.0
  MAP_PROJECTION_TYPE = SINUSOIDAL
  MAP_RESOLUTION = 1185.42760773333
  MAP_SCALE = 0.05
  MAXIMUM_LATITUDE = -33.7348
  MINIMUM_LATITUDE = -43.7651
  POSITIVE_LONGITUDE_DIRECTION = EAST
  REFERENCE_LATITUDE = "N/A"
  REFERENCE_LONGITUDE = "N/A"
  SAMPLE_FIRST_PIXEL = 1
  SAMPLE_LAST_PIXEL = 1502
  SAMPLE_PROJECTION_OFFSET = 838.875
  SECOND_STANDARD_PARALLEL = "N/A"
  WESTERNMOST_LONGITUDE = 139.009
END_OBJECT = IMAGE_MAP_PROJECTION
END
