PDS_VERSION_ID = PDS3
/* FILE DATA ELEMENTS */
RECORD_TYPE = UNDEFINED
/* POINTERS TO DATA OBJECTS */
^IMAGE = ("HK999_0000_S14.TIF")
/* IDENTIFICATION DATA ELEMENTS */
DATA_SET_ID = "MEX-M-HRSC-4-REFDR-MAPPROJECT-EXT7-V4.0"
DATA_SET_NAME = "MARS EXPRESS HRSC MAP PROJECTED REFDR EXTENSION7 V4.0"
DETECTOR_ID = MEX_HRSC_S1
EVENT_TYPE = "MARS-REGIONAL-MAPPING-Fl-Pf-Mw"
INSTRUMENT_HOST_ID = MEX
INSTRUMENT_HOST_NAME = "MARS EXPRESS"
INSTRUMENT_ID = HRSC
INSTRUMENT_NAME = "HIGH RESOLUTION STEREO CAMERA"
MISSION_NAME = "MARS EXPRESS"
MISSION_PHASE_NAME = ME_Phase_43
PROCESSING_LEVEL_ID = 4
PRODUCT_CREATION_TIME = 2023-01-29T07:12:14.000Z
PRODUCT_ID = "HK999_0000_S14.TIF"
RELEASE_ID = 0004
REVISION_ID = 0000
/* QUALITY DATA ELEMENTS */
DATA_QUALITY_ID = 1
DATA_QUALITY_DESC = "Data calculated based on original SPICE kernels"
/* TIME DATA ELEMENTS */
SPACECRAFT_CLOCK_START_COUNT = "1/0545247167.25667"
SPACECRAFT_CLOCK_STOP_COUNT = "1/0545247399.01081"
START_TIME = 2020-08-11T17:34:27.235Z
STOP_TIME = 2020-08-11T17:37:09.994Z
/* ORBITAL DATA ELEMENTS */
ASCENDING_NODE_LONGITUDE = 181.28
MAXIMUM_RESOLUTION = 0.0288
FOOTPRINT_POINT_LATITUDE = (-48.9375,-48.9341,-48.9285,-48.9192, -48.9189,-49.0191,-48.8002,-48.5811, -48.3609,-48.1432,-47.9264,-47.7082, -47.4894,-47.1607,-46.9437,-46.7255, -46.5068,-46.1796,-45.9612,-45.7423, -45.5251,-45.3072,-45.0891,-44.8702, -44.5491,-44.3303,-44.1085,-43.7811, -43.4571,-43.2457,-42.9294,-42.7189, -42.5098,-42.1928,-41.8779,-41.6674, -41.353,-41.1432,-40.9334,-40.7239, -40.5137,-40.199,-39.9882,-39.6743, -39.4651,-39.2544,-39.0454,-38.8379, -38.6292,-38.4204,-38.3156,-38.3131, -38.3113,-38.3067,-38.2995,-38.2994, -38.2997,-38.5087,-38.7191,-38.9282, -39.1381,-39.4525,-39.7654,-39.9761, -40.1859,-40.3954,-40.7127,-41.0279, -41.2388,-41.4488,-41.764,-41.9747, -42.2915,-42.5048,-42.8216,-43.14, -43.3487,-43.563,-43.7816,-43.9997, -44.3274,-44.5464,-44.8747,-45.2027, -45.4215,-45.6401,-45.9673,-46.1871, -46.4065,-46.6253,-46.9537,-47.1724, -47.5019,-47.7212,-47.9403,-48.2686, -48.5976,-48.9269,-49.0366,-48.9375)
FOOTPRINT_POINT_LONGITUDE = (84.9266,84.3619,83.7905,83.103,83.0847 ,82.9841,83.0072,83.0302,83.0538, 83.0747,83.0944,83.1152,83.1361,83.1672 ,83.1857,83.2049,83.2242,83.252,83.2702 ,83.2887,83.3055,83.3225,83.3395, 83.3569,83.3763,83.393,83.4119,83.4355, 83.4564,83.4712,83.4922,83.5057,83.5178 ,83.5384,83.5569,83.5696,83.587,83.5986 ,83.6102,83.6213,83.6327,83.6492, 83.6608,83.6762,83.6862,83.6973,83.7069 ,83.7153,83.7245,83.7336,83.7385, 83.7386,84.0108,84.6526,85.2543,85.2688 ,85.274,85.2693,85.2646,85.2597,85.2548 ,85.2474,85.2396,85.2345,85.2293, 85.2239,85.216,85.2077,85.2021,85.1964, 85.1877,85.1819,85.173,85.167,85.1578, 85.1484,85.1419,85.1354,85.1286,85.1217 ,85.1112,85.1041,85.0932,85.0821, 85.0745,85.0668,85.0551,85.0472,85.0391 ,85.0309,85.0184,85.0099,84.997,84.9883 ,84.9793,84.9657,84.9518,84.9376, 84.9327,84.9266)
ORBIT_NUMBER = 20999
ORBITAL_ECCENTRICITY = 0.578
ORBITAL_INCLINATION = 86.98
ORBITAL_SEMIMAJOR_AXIS = 8814.58
PERIAPSIS_ALTITUDE = 334.31
PERIAPSIS_ARGUMENT_ANGLE = 321.92
PERIAPSIS_TIME = 2020-08-11T17:36:45.000Z
SPACECRAFT_ORIENTATION = (0.0,1.0,0.0)
^MEX_ORIENTATION_DESC = "MEX_ORIENTATION_DESC.TXT"
SPACECRAFT_POINTING_MODE = ACROSSTRACK
^MEX_POINTING_DESC = "MEX_POINTING_DESC.TXT"
RIGHT_ASCENSION = -1e+32
DECLINATION = -1e+32
OFFSET_ANGLE = 0.458
SPACECRAFT_SOLAR_DISTANCE = 2.06727e+08
TARGET_NAME = MARS
/* CAMERA DATA ELEMENTS */
DETECTOR_TEMPERATURE = 17.7588
FOCAL_PLANE_TEMPERATURE = 8.5833
INST_CMPRS_NAME = "DISCRETE COSINE TRANSFORMATION (DCT)"
INST_CMPRS_RATIO = 11.3161
INST_CMPRS_QUALITY = 0
INST_CMPRS_QUANTZ_TBL_ID = 0
INSTRUMENT_TEMPERATURE = 11.4379
LENS_TEMPERATURE = 8.7872
MACROPIXEL_SIZE = 2
MISSING_FRAMES = 0
PIXEL_SUBSAMPLING_FLAG = N
SIGNAL_CHAIN_ID = 1
/* RADIOMETRIC DATA ELEMENTS */
BANDWIDTH = 180.0
CENTER_FILTER_WAVELENGTH = 677.0
RADIANCE_OFFSET = 7.82253
RADIANCE_SCALING_FACTOR = 0.0101639
REFLECTANCE_SCALING_FACTOR = 0.000226619
MEX:REFLECTANCE_OFFSET = 0.174415
/* IMAGE OBJECT DEFINITIONS */
OBJECT = IMAGE
  INTERCHANGE_FORMAT = BINARY
  LINES = 25528
  LINE_SAMPLES = 3971
  SAMPLE_TYPE = UNSIGNED_INTEGER
  SAMPLE_BITS = 8
  BANDS = 1
  BAND_STORAGE_TYPE = BAND_SEQUENTIAL
  MAXIMUM = 255
  MEAN = 139.384
  MINIMUM = 1
  STANDARD_DEVIATION = 34.8452
END_OBJECT = IMAGE
/* MAP OBJECT DEFINITIONS */
OBJECT = IMAGE_MAP_PROJECTION
  ^DATA_SET_MAP_PROJECTION_CATALOG= "DSMAP.CAT"
  A_AXIS_RADIUS = 3396.0
  B_AXIS_RADIUS = 3396.0
  C_AXIS_RADIUS = 3396.0
  CENTER_LATITUDE = 0.0
  CENTER_LONGITUDE = 84.0
  COORDINATE_SYSTEM_NAME = PLANETOGRAPHIC
  COORDINATE_SYSTEM_TYPE = "BODY-FIXED ROTATING"
  EASTERNMOST_LONGITUDE = 85.274
  FIRST_STANDARD_PARALLEL = "N/A"
  LINE_FIRST_PIXEL = 1
  LINE_LAST_PIXEL = 25528
  LINE_PROJECTION_OFFSET = -90743.25
  MAP_PROJECTION_ROTATION = 0.0
  MAP_PROJECTION_TYPE = SINUSOIDAL
  MAP_RESOLUTION = 2370.85521546667
  MAP_SCALE = 0.025
  MAXIMUM_LATITUDE = -38.2994
  MINIMUM_LATITUDE = -49.0366
  POSITIVE_LONGITUDE_DIRECTION = EAST
  REFERENCE_LATITUDE = "N/A"
  REFERENCE_LONGITUDE = "N/A"
  SAMPLE_FIRST_PIXEL = 1
  SAMPLE_LAST_PIXEL = 3971
  SAMPLE_PROJECTION_OFFSET = 1606.75
  SECOND_STANDARD_PARALLEL = "N/A"
  WESTERNMOST_LONGITUDE = 82.9841
END_OBJECT = IMAGE_MAP_PROJECTION
END
