PDS_VERSION_ID = PDS3
/* FILE DATA ELEMENTS */
RECORD_TYPE = UNDEFINED
/* POINTERS TO DATA OBJECTS */
^IMAGE = ("HK985_0000_P14.TIF")
/* IDENTIFICATION DATA ELEMENTS */
DATA_SET_ID = "MEX-M-HRSC-4-REFDR-MAPPROJECT-EXT7-V4.0"
DATA_SET_NAME = "MARS EXPRESS HRSC MAP PROJECTED REFDR EXTENSION7 V4.0"
DETECTOR_ID = MEX_HRSC_P1
EVENT_TYPE = "MARS-REGIONAL-MAPPING-Im-Gl-Pf"
INSTRUMENT_HOST_ID = MEX
INSTRUMENT_HOST_NAME = "MARS EXPRESS"
INSTRUMENT_ID = HRSC
INSTRUMENT_NAME = "HIGH RESOLUTION STEREO CAMERA"
MISSION_NAME = "MARS EXPRESS"
MISSION_PHASE_NAME = ME_Phase_43
PROCESSING_LEVEL_ID = 4
PRODUCT_CREATION_TIME = 2023-01-29T07:12:14.000Z
PRODUCT_ID = "HK985_0000_P14.TIF"
RELEASE_ID = 0004
REVISION_ID = 0000
/* QUALITY DATA ELEMENTS */
DATA_QUALITY_ID = 1
DATA_QUALITY_DESC = "Data calculated based on original SPICE kernels"
/* TIME DATA ELEMENTS */
SPACECRAFT_CLOCK_START_COUNT = "1/0544895274.23969"
SPACECRAFT_CLOCK_STOP_COUNT = "1/0544895490.57411"
START_TIME = 2020-08-07T15:49:20.064Z
STOP_TIME = 2020-08-07T15:51:51.274Z
/* ORBITAL DATA ELEMENTS */
ASCENDING_NODE_LONGITUDE = 181.53
MAXIMUM_RESOLUTION = 0.028
FOOTPRINT_POINT_LATITUDE = (-43.3483,-43.3414,-43.3294,-43.3195, -43.3191,-43.3792,-43.1754,-42.8711, -42.668,-42.4639,-42.2593,-41.955, -41.7522,-41.4473,-41.2439,-41.0414, -40.8376,-40.5379,-40.3408,-40.1447, -39.9481,-39.7523,-39.557,-39.3613, -39.1645,-38.8693,-38.673,-38.4764, -38.2802,-38.0836,-37.7895,-37.5935, -37.3976,-37.2017,-37.0056,-36.7117, -36.4179,-36.222,-36.0261,-35.733, -35.5376,-35.342,-35.1465,-34.756, -34.2685,-33.8719,-33.5796,-33.4827, -33.4802,-33.4839,-33.4877,-33.4897, -33.4914,-33.4915,-33.4919,-33.7842, -33.9798,-34.1752,-34.4748,-34.6703, -34.8657,-35.1589,-35.5493,-35.7453, -36.0396,-36.2359,-36.4318,-36.6286, -36.9226,-37.1188,-37.3154,-37.6099, -37.8063,-38.0021,-38.199,-38.3956, -38.5926,-38.8876,-39.1832,-39.3795, -39.6759,-39.8732,-40.0696,-40.2664, -40.4629,-40.6586,-40.8595,-41.0639, -41.2678,-41.4709,-41.6743,-41.8767, -42.08,-42.2857,-42.4901,-42.6933, -42.9979,-43.3046,-43.4077,-43.3483)
FOOTPRINT_POINT_LONGITUDE = (75.5384,75.0519,74.3932,73.9381, 73.9224,73.8748,73.8868,73.9035,73.9145 ,73.926,73.9377,73.953,73.9629,73.978, 73.9878,73.9969,74.0068,74.0214,74.0304 ,74.0386,74.0469,74.0546,74.0619, 74.0693,74.0773,74.0889,74.0962,74.1035 ,74.1105,74.1177,74.1276,74.134,74.1403 ,74.1465,74.1527,74.1616,74.1702, 74.1758,74.1814,74.1891,74.1941,74.1991 ,74.204,74.2133,74.224,74.2324,74.2383, 74.2399,74.24,74.6028,75.0073,75.2866, 75.6635,75.6774,75.6825,75.6802,75.679, 75.6776,75.6753,75.6738,75.6722,75.6698 ,75.6659,75.6644,75.6621,75.6605, 75.6587,75.6573,75.6545,75.6526,75.6509 ,75.648,75.646,75.6436,75.6418,75.6398, 75.6379,75.6347,75.6318,75.6293,75.6266 ,75.6245,75.6219,75.6194,75.6167, 75.6135,75.6116,75.6094,75.6069,75.6039 ,75.601,75.5974,75.5943,75.5927,75.5902 ,75.5869,75.5817,75.5777,75.5769, 75.5384)
ORBIT_NUMBER = 20985
ORBITAL_ECCENTRICITY = 0.578
ORBITAL_INCLINATION = 86.99
ORBITAL_SEMIMAJOR_AXIS = 8817.98
PERIAPSIS_ALTITUDE = 335.11
PERIAPSIS_ARGUMENT_ANGLE = 324.32
PERIAPSIS_TIME = 2020-08-07T15:50:59.000Z
SPACECRAFT_ORIENTATION = (0.0,1.0,0.0)
^MEX_ORIENTATION_DESC = "MEX_ORIENTATION_DESC.TXT"
SPACECRAFT_POINTING_MODE = NADIR
^MEX_POINTING_DESC = "MEX_POINTING_DESC.TXT"
RIGHT_ASCENSION = -1e+32
DECLINATION = -1e+32
OFFSET_ANGLE = -1e+32
SPACECRAFT_SOLAR_DISTANCE = 2.06671e+08
TARGET_NAME = MARS
/* CAMERA DATA ELEMENTS */
DETECTOR_TEMPERATURE = 17.7588
FOCAL_PLANE_TEMPERATURE = 8.5833
INST_CMPRS_NAME = "DISCRETE COSINE TRANSFORMATION (DCT)"
INST_CMPRS_RATIO = 10.2525
INST_CMPRS_QUALITY = 0
INST_CMPRS_QUANTZ_TBL_ID = 0
INSTRUMENT_TEMPERATURE = 11.234
LENS_TEMPERATURE = 9.6028
MACROPIXEL_SIZE = 2
PIXEL_SUBSAMPLING_FLAG = N
SIGNAL_CHAIN_ID = 3
/* RADIOMETRIC DATA ELEMENTS */
BANDWIDTH = 174.0
CENTER_FILTER_WAVELENGTH = 675.0
RADIANCE_OFFSET = 6.93753
RADIANCE_SCALING_FACTOR = 0.00880194
REFLECTANCE_SCALING_FACTOR = 0.00020222
MEX:REFLECTANCE_OFFSET = 0.159386
/* IMAGE OBJECT DEFINITIONS */
OBJECT = IMAGE
  INTERCHANGE_FORMAT = BINARY
  LINES = 23564
  LINE_SAMPLES = 3296
  SAMPLE_TYPE = UNSIGNED_INTEGER
  SAMPLE_BITS = 8
  BANDS = 1
  BAND_STORAGE_TYPE = BAND_SEQUENTIAL
  MAXIMUM = 255
  MEAN = 168.521
  MINIMUM = 2
  STANDARD_DEVIATION = 31.3421
END_OBJECT = IMAGE
/* MAP OBJECT DEFINITIONS */
OBJECT = IMAGE_MAP_PROJECTION
  ^DATA_SET_MAP_PROJECTION_CATALOG= "DSMAP.CAT"
  A_AXIS_RADIUS = 3396.0
  B_AXIS_RADIUS = 3396.0
  C_AXIS_RADIUS = 3396.0
  CENTER_LATITUDE = 0.0
  CENTER_LONGITUDE = 75.0
  COORDINATE_SYSTEM_NAME = PLANETOGRAPHIC
  COORDINATE_SYSTEM_TYPE = "BODY-FIXED ROTATING"
  EASTERNMOST_LONGITUDE = 75.6825
  FIRST_STANDARD_PARALLEL = "N/A"
  LINE_FIRST_PIXEL = 1
  LINE_LAST_PIXEL = 23564
  LINE_PROJECTION_OFFSET = -79292.75
  MAP_PROJECTION_ROTATION = 0.0
  MAP_PROJECTION_TYPE = SINUSOIDAL
  MAP_RESOLUTION = 2370.85521546667
  MAP_SCALE = 0.025
  MAXIMUM_LATITUDE = -33.4802
  MINIMUM_LATITUDE = -43.4077
  POSITIVE_LONGITUDE_DIRECTION = EAST
  REFERENCE_LATITUDE = "N/A"
  REFERENCE_LONGITUDE = "N/A"
  SAMPLE_FIRST_PIXEL = 1
  SAMPLE_LAST_PIXEL = 3296
  SAMPLE_PROJECTION_OFFSET = 1956.75
  SECOND_STANDARD_PARALLEL = "N/A"
  WESTERNMOST_LONGITUDE = 73.87479999999999
END_OBJECT = IMAGE_MAP_PROJECTION
END
