PDS_VERSION_ID = PDS3
/* FILE DATA ELEMENTS */
RECORD_TYPE = UNDEFINED
/* POINTERS TO DATA OBJECTS */
^IMAGE = ("HK982_0000_ND4.TIF")
/* IDENTIFICATION DATA ELEMENTS */
DATA_SET_ID = "MEX-M-HRSC-4-REFDR-MAPPROJECT-EXT7-V4.0"
DATA_SET_NAME = "MARS EXPRESS HRSC MAP PROJECTED REFDR EXTENSION7 V4.0"
DETECTOR_ID = MEX_HRSC_NADIR
EVENT_TYPE = "MARS-REGIONAL-MAPPING-Im-Eo-Mw"
INSTRUMENT_HOST_ID = MEX
INSTRUMENT_HOST_NAME = "MARS EXPRESS"
INSTRUMENT_ID = HRSC
INSTRUMENT_NAME = "HIGH RESOLUTION STEREO CAMERA"
MISSION_NAME = "MARS EXPRESS"
MISSION_PHASE_NAME = ME_Phase_43
PROCESSING_LEVEL_ID = 4
PRODUCT_CREATION_TIME = 2023-01-29T07:12:14.000Z
PRODUCT_ID = "HK982_0000_ND4.TIF"
RELEASE_ID = 0004
REVISION_ID = 0000
/* QUALITY DATA ELEMENTS */
DATA_QUALITY_ID = 1
DATA_QUALITY_DESC = "Data calculated based on original SPICE kernels"
/* TIME DATA ELEMENTS */
SPACECRAFT_CLOCK_START_COUNT = "1/0544819842.23941"
SPACECRAFT_CLOCK_STOP_COUNT = "1/0544820050.64560"
START_TIME = 2020-08-06T18:51:49.651Z
STOP_TIME = 2020-08-06T18:54:10.652Z
/* ORBITAL DATA ELEMENTS */
ASCENDING_NODE_LONGITUDE = 181.59
MAXIMUM_RESOLUTION = 0.0135
FOOTPRINT_POINT_LATITUDE = (-43.7724,-43.7635,-43.7538,-43.7433, -43.7318,-43.7193,-43.7023,-43.7014, -43.6965,-43.3338,-42.9709,-42.6084, -42.2449,-41.8812,-41.5171,-41.1529, -40.7884,-40.4237,-39.9674,-39.7848, -39.6021,-39.4198,-39.2372,-39.0545, -38.7801,-38.5973,-38.4144,-38.2315, -38.0483,-37.8653,-37.6824,-37.4994, -37.3163,-37.1333,-36.9502,-36.767, -36.5838,-36.4006,-36.2175,-36.0343, -35.7594,-35.576,-35.3926,-35.2092, -35.0259,-34.8426,-34.6591,-34.5673, -34.5591,-34.5687,-34.5798,-34.5863, -34.5923,-34.6009,-34.6012,-34.6015, -34.7854,-34.9692,-35.153,-35.3369, -35.5207,-35.7046,-35.8884,-36.0722, -36.256,-36.4398,-36.6235,-36.8072, -36.9909,-37.1746,-37.3582,-37.5419, -37.7255,-37.9091,-38.0927,-38.2763, -38.4598,-38.6433,-38.8268,-39.0102, -39.1936,-39.4687,-39.652,-39.8352, -40.11,-40.2932,-40.4762,-40.7508, -40.9337,-41.1167,-41.2996,-41.4824, -41.8479,-42.2132,-42.5783,-42.9431, -43.3077,-43.672,-43.763,-43.7724)
FOOTPRINT_POINT_LONGITUDE = (19.8549,19.5853,19.3106,19.0306, 18.7454,18.4546,18.0822,18.0633,17.9796 ,18.0138,18.0487,18.0953,18.1284, 18.1607,18.1915,18.2228,18.2534,18.2831 ,18.3158,18.3301,18.3413,18.362,18.3769 ,18.3904,18.4077,18.4197,18.4328, 18.4452,18.4521,18.4659,18.4801,18.4918 ,18.5042,18.5166,18.5286,18.5399, 18.5507,18.562,18.5753,18.5858,18.6006, 18.6094,18.6166,18.6256,18.6349,18.6448 ,18.65,18.6524,18.6528,18.9459,19.319, 19.5614,19.7991,20.1756,20.1898,20.1968 ,20.191,20.1854,20.1795,20.1737,20.168, 20.1633,20.1576,20.1524,20.1463,20.1393 ,20.1328,20.1263,20.1191,20.1125, 20.1056,20.0989,20.0921,20.0852,20.0784 ,20.0717,20.0649,20.0583,20.0513, 20.0445,20.0373,20.0278,20.0202,20.0126 ,20.0017,19.9939,19.9844,19.9723, 19.9642,19.956,19.9479,19.9398,19.923, 19.9061,19.8898,19.8716,19.8546,19.837, 19.8319,19.8549)
ORBIT_NUMBER = 20982
ORBITAL_ECCENTRICITY = 0.577
ORBITAL_INCLINATION = 86.97
ORBITAL_SEMIMAJOR_AXIS = 8818.24
PERIAPSIS_ALTITUDE = 336.26
PERIAPSIS_ARGUMENT_ANGLE = 324.84
PERIAPSIS_TIME = 2020-08-06T18:54:04.000Z
SPACECRAFT_ORIENTATION = (0.0,1.0,0.0)
^MEX_ORIENTATION_DESC = "MEX_ORIENTATION_DESC.TXT"
SPACECRAFT_POINTING_MODE = ACROSSTRACK
^MEX_POINTING_DESC = "MEX_POINTING_DESC.TXT"
RIGHT_ASCENSION = -1e+32
DECLINATION = -1e+32
OFFSET_ANGLE = 1.495
SPACECRAFT_SOLAR_DISTANCE = 2.06664e+08
TARGET_NAME = MARS
/* CAMERA DATA ELEMENTS */
DETECTOR_TEMPERATURE = 18.5744
FOCAL_PLANE_TEMPERATURE = 8.9911
INST_CMPRS_NAME = "DISCRETE COSINE TRANSFORMATION (DCT)"
INST_CMPRS_RATIO = 6.26405
INST_CMPRS_QUALITY = 0
INST_CMPRS_QUANTZ_TBL_ID = 0
INSTRUMENT_TEMPERATURE = 11.6418
LENS_TEMPERATURE = 7.9716
MACROPIXEL_SIZE = 1
MISSING_FRAMES = 0
PIXEL_SUBSAMPLING_FLAG = N
SIGNAL_CHAIN_ID = 0
/* RADIOMETRIC DATA ELEMENTS */
BANDWIDTH = 177.0
CENTER_FILTER_WAVELENGTH = 677.5
RADIANCE_OFFSET = 4.54502
RADIANCE_SCALING_FACTOR = 0.011756
REFLECTANCE_SCALING_FACTOR = 0.000266731
MEX:REFLECTANCE_OFFSET = 0.103122
/* IMAGE OBJECT DEFINITIONS */
OBJECT = IMAGE
  INTERCHANGE_FORMAT = BINARY
  LINES = 43679
  LINE_SAMPLES = 8152
  SAMPLE_TYPE = UNSIGNED_INTEGER
  SAMPLE_BITS = 8
  BANDS = 1
  BAND_STORAGE_TYPE = BAND_SEQUENTIAL
  MAXIMUM = 255
  MEAN = 119.616
  MINIMUM = 1
  STANDARD_DEVIATION = 28.5205
END_OBJECT = IMAGE
/* MAP OBJECT DEFINITIONS */
OBJECT = IMAGE_MAP_PROJECTION
  ^DATA_SET_MAP_PROJECTION_CATALOG= "DSMAP.CAT"
  A_AXIS_RADIUS = 3396.0
  B_AXIS_RADIUS = 3396.0
  C_AXIS_RADIUS = 3396.0
  CENTER_LATITUDE = 0.0
  CENTER_LONGITUDE = 19.0
  COORDINATE_SYSTEM_NAME = PLANETOGRAPHIC
  COORDINATE_SYSTEM_TYPE = "BODY-FIXED ROTATING"
  EASTERNMOST_LONGITUDE = 20.1968
  FIRST_STANDARD_PARALLEL = "N/A"
  LINE_FIRST_PIXEL = 1
  LINE_LAST_PIXEL = 43679
  LINE_PROJECTION_OFFSET = -163872.0
  MAP_PROJECTION_ROTATION = 0.0
  MAP_PROJECTION_TYPE = SINUSOIDAL
  MAP_RESOLUTION = 4741.71043093333
  MAP_SCALE = 0.0125
  MAXIMUM_LATITUDE = -34.5591
  MINIMUM_LATITUDE = -43.7724
  POSITIVE_LONGITUDE_DIRECTION = EAST
  REFERENCE_LATITUDE = "N/A"
  REFERENCE_LONGITUDE = "N/A"
  SAMPLE_FIRST_PIXEL = 1
  SAMPLE_LAST_PIXEL = 8152
  SAMPLE_PROJECTION_OFFSET = 3480.0
  SECOND_STANDARD_PARALLEL = "N/A"
  WESTERNMOST_LONGITUDE = 17.9796
END_OBJECT = IMAGE_MAP_PROJECTION
END
