PDS_VERSION_ID = PDS3
/* FILE DATA ELEMENTS */
RECORD_TYPE = UNDEFINED
/* POINTERS TO DATA OBJECTS */
^IMAGE = ("HK981_0000_P14.TIF")
/* IDENTIFICATION DATA ELEMENTS */
DATA_SET_ID = "MEX-M-HRSC-4-REFDR-MAPPROJECT-EXT7-V4.0"
DATA_SET_NAME = "MARS EXPRESS HRSC MAP PROJECTED REFDR EXTENSION7 V4.0"
DETECTOR_ID = MEX_HRSC_P1
EVENT_TYPE = "MARS-REGIONAL-MAPPING-Vo-Im-Fl"
INSTRUMENT_HOST_ID = MEX
INSTRUMENT_HOST_NAME = "MARS EXPRESS"
INSTRUMENT_ID = HRSC
INSTRUMENT_NAME = "HIGH RESOLUTION STEREO CAMERA"
MISSION_NAME = "MARS EXPRESS"
MISSION_PHASE_NAME = ME_Phase_43
PROCESSING_LEVEL_ID = 4
PRODUCT_CREATION_TIME = 2023-01-29T07:12:14.000Z
PRODUCT_ID = "HK981_0000_P14.TIF"
RELEASE_ID = 0004
REVISION_ID = 0000
/* QUALITY DATA ELEMENTS */
DATA_QUALITY_ID = 1
DATA_QUALITY_DESC = "Data calculated based on original SPICE kernels"
/* TIME DATA ELEMENTS */
SPACECRAFT_CLOCK_START_COUNT = "1/0544794919.25876"
SPACECRAFT_CLOCK_STOP_COUNT = "1/0544795199.49115"
START_TIME = 2020-08-06T11:56:42.548Z
STOP_TIME = 2020-08-06T12:00:16.663Z
/* ORBITAL DATA ELEMENTS */
ASCENDING_NODE_LONGITUDE = 181.6
MAXIMUM_RESOLUTION = 0.028
FOOTPRINT_POINT_LATITUDE = (-29.8578,-29.8593,-29.8603,-29.8603, -29.8603,-29.873,-29.6191,-29.3651, -29.1114,-28.8577,-28.4778,-28.2246, -27.9684,-27.7162,-27.464,-27.2119, -26.9593,-26.7078,-26.3305,-25.8341, -25.5826,-25.328,-25.0786,-24.7053, -24.4559,-24.2068,-23.7133,-23.4634, -22.9722,-22.7057,-22.4113,-21.9702, -21.6769,-21.2367,-20.9442,-20.652, -20.3599,-20.0678,-19.776,-19.4862, -19.1976,-18.7658,-18.476,-18.1892, -17.9022,-17.6152,-17.3286,-17.0428, -16.6056,-16.4591,-16.4483,-16.4435, -16.4376,-16.4333,-16.4259,-16.4257, -16.4261,-16.7201,-17.0113,-17.4406, -17.7274,-18.0154,-18.3036,-18.7353, -19.0231,-19.4573,-19.7473,-20.0393, -20.4779,-20.9181,-21.2106,-21.5049, -21.8002,-22.2427,-22.5377,-22.946, -23.5663,-24.0636,-24.4372,-24.6864, -24.9375,-25.4348,-25.6847,-25.9359, -26.1871,-26.4386,-26.6904,-26.9418, -27.1955,-27.4482,-27.7007,-27.9535, -28.2097,-28.5888,-28.8423,-29.0985, -29.3527,-29.7341,-29.8611,-29.8578)
FOOTPRINT_POINT_LONGITUDE = (123.888,123.533,123.138,122.54,122.526 ,122.512,122.515,122.519,122.521, 122.524,122.528,122.531,122.533,122.535 ,122.537,122.538,122.54,122.542,122.544 ,122.542,122.543,122.547,122.547, 122.546,122.546,122.546,122.542,122.543 ,122.538,122.543,122.541,122.538, 122.536,122.533,122.531,122.528,122.526 ,122.524,122.521,122.518,122.514, 122.507,122.504,122.499,122.494,122.49, 122.485,122.481,122.473,122.471,122.471 ,122.809,123.248,123.541,123.962, 123.977,123.982,123.98,123.979,123.976, 123.974,123.972,123.971,123.967,123.965 ,123.962,123.96,123.959,123.957,123.954 ,123.952,123.951,123.95,123.947,123.945 ,123.943,123.939,123.935,123.933, 123.931,123.93,123.925,123.923,123.922, 123.92,123.918,123.916,123.914,123.913, 123.911,123.909,123.907,123.905,123.902 ,123.9,123.898,123.896,123.893,123.892, 123.888)
ORBIT_NUMBER = 20981
ORBITAL_ECCENTRICITY = 0.578
ORBITAL_INCLINATION = 86.97
ORBITAL_SEMIMAJOR_AXIS = 8819.65
PERIAPSIS_ALTITUDE = 335.98
PERIAPSIS_ARGUMENT_ANGLE = 325.01
PERIAPSIS_TIME = 2020-08-06T11:55:06.000Z
SPACECRAFT_ORIENTATION = (0.0,1.0,0.0)
^MEX_ORIENTATION_DESC = "MEX_ORIENTATION_DESC.TXT"
SPACECRAFT_POINTING_MODE = ACROSSTRACK
^MEX_POINTING_DESC = "MEX_POINTING_DESC.TXT"
RIGHT_ASCENSION = -1e+32
DECLINATION = -1e+32
OFFSET_ANGLE = 0.229
SPACECRAFT_SOLAR_DISTANCE = 2.06662e+08
TARGET_NAME = MARS
/* CAMERA DATA ELEMENTS */
DETECTOR_TEMPERATURE = 17.5549
FOCAL_PLANE_TEMPERATURE = 8.7872
INST_CMPRS_NAME = "DISCRETE COSINE TRANSFORMATION (DCT)"
INST_CMPRS_RATIO = 7.85666
INST_CMPRS_QUALITY = 0
INST_CMPRS_QUANTZ_TBL_ID = 0
INSTRUMENT_TEMPERATURE = 11.0301
LENS_TEMPERATURE = 8.7872
MACROPIXEL_SIZE = 2
MISSING_FRAMES = 1
PIXEL_SUBSAMPLING_FLAG = N
SIGNAL_CHAIN_ID = 3
/* RADIOMETRIC DATA ELEMENTS */
BANDWIDTH = 174.0
CENTER_FILTER_WAVELENGTH = 675.0
RADIANCE_OFFSET = 4.12946
RADIANCE_SCALING_FACTOR = 0.0150694
REFLECTANCE_SCALING_FACTOR = 0.000346179
MEX:REFLECTANCE_OFFSET = 0.0948635
/* IMAGE OBJECT DEFINITIONS */
OBJECT = IMAGE
  INTERCHANGE_FORMAT = BINARY
  LINES = 31882
  LINE_SAMPLES = 3325
  SAMPLE_TYPE = UNSIGNED_INTEGER
  SAMPLE_BITS = 8
  BANDS = 1
  BAND_STORAGE_TYPE = BAND_SEQUENTIAL
  MAXIMUM = 255
  MEAN = 111.689
  MINIMUM = 1
  STANDARD_DEVIATION = 28.9817
END_OBJECT = IMAGE
/* MAP OBJECT DEFINITIONS */
OBJECT = IMAGE_MAP_PROJECTION
  ^DATA_SET_MAP_PROJECTION_CATALOG= "DSMAP.CAT"
  A_AXIS_RADIUS = 3396.0
  B_AXIS_RADIUS = 3396.0
  C_AXIS_RADIUS = 3396.0
  CENTER_LATITUDE = 0.0
  CENTER_LONGITUDE = 123.0
  COORDINATE_SYSTEM_NAME = PLANETOGRAPHIC
  COORDINATE_SYSTEM_TYPE = "BODY-FIXED ROTATING"
  EASTERNMOST_LONGITUDE = 123.982
  FIRST_STANDARD_PARALLEL = "N/A"
  LINE_FIRST_PIXEL = 1
  LINE_LAST_PIXEL = 31882
  LINE_PROJECTION_OFFSET = -38963.25
  MAP_PROJECTION_ROTATION = 0.0
  MAP_PROJECTION_TYPE = SINUSOIDAL
  MAP_RESOLUTION = 2370.85521546667
  MAP_SCALE = 0.025
  MAXIMUM_LATITUDE = -16.4257
  MINIMUM_LATITUDE = -29.873
  POSITIVE_LONGITUDE_DIRECTION = EAST
  REFERENCE_LATITUDE = "N/A"
  REFERENCE_LONGITUDE = "N/A"
  SAMPLE_FIRST_PIXEL = 1
  SAMPLE_LAST_PIXEL = 3325
  SAMPLE_PROJECTION_OFFSET = 1150.75
  SECOND_STANDARD_PARALLEL = "N/A"
  WESTERNMOST_LONGITUDE = 122.471
END_OBJECT = IMAGE_MAP_PROJECTION
END
