PDS_VERSION_ID = PDS3
/* FILE DATA ELEMENTS */
RECORD_TYPE = UNDEFINED
/* POINTERS TO DATA OBJECTS */
^IMAGE = ("HK978_0000_S24.TIF")
/* IDENTIFICATION DATA ELEMENTS */
DATA_SET_ID = "MEX-M-HRSC-4-REFDR-MAPPROJECT-EXT7-V4.0"
DATA_SET_NAME = "MARS EXPRESS HRSC MAP PROJECTED REFDR EXTENSION7 V4.0"
DETECTOR_ID = MEX_HRSC_S2
EVENT_TYPE = "MARS-REGIONAL-MAPPING-Im-Gl-Pf"
INSTRUMENT_HOST_ID = MEX
INSTRUMENT_HOST_NAME = "MARS EXPRESS"
INSTRUMENT_ID = HRSC
INSTRUMENT_NAME = "HIGH RESOLUTION STEREO CAMERA"
MISSION_NAME = "MARS EXPRESS"
MISSION_PHASE_NAME = ME_Phase_43
PROCESSING_LEVEL_ID = 4
PRODUCT_CREATION_TIME = 2023-01-29T07:12:14.000Z
PRODUCT_ID = "HK978_0000_S24.TIF"
RELEASE_ID = 0004
REVISION_ID = 0000
/* QUALITY DATA ELEMENTS */
DATA_QUALITY_ID = 1
DATA_QUALITY_DESC = "Data calculated based on original SPICE kernels"
/* TIME DATA ELEMENTS */
SPACECRAFT_CLOCK_START_COUNT = "1/0544719314.23965"
SPACECRAFT_CLOCK_STOP_COUNT = "1/0544719554.16265"
START_TIME = 2020-08-05T14:55:47.283Z
STOP_TIME = 2020-08-05T14:58:44.499Z
/* ORBITAL DATA ELEMENTS */
ASCENDING_NODE_LONGITUDE = 181.66
MAXIMUM_RESOLUTION = 0.0291
FOOTPRINT_POINT_LATITUDE = (-41.8664,-41.8508,-41.8318,-41.8048, -41.804,-41.7043,-41.3656,-41.0259, -40.6852,-40.4568,-40.229,-40.001, -39.7731,-39.5466,-39.3177,-39.087, -38.8599,-38.5186,-38.2847,-38.0541, -37.8238,-37.5946,-37.3673,-37.1353, -36.903,-36.6741,-36.4417,-36.0947, -35.8633,-35.6328,-35.1861,-34.9602, -34.622,-34.3957,-34.0565,-33.832, -33.6055,-33.2663,-33.0413,-32.8137, -32.5871,-32.3596,-32.1328,-31.793, -31.4532,-31.2267,-30.8844,-30.6561, -30.4282,-30.3146,-30.3088,-30.3221, -30.3371,-30.3481,-30.3484,-30.3489, -30.6915,-30.9198,-31.1472,-31.3749, -31.7164,-32.0572,-32.2847,-32.5121, -32.739,-32.9655,-33.1929,-33.5332, -33.7589,-33.9848,-34.2111,-34.4381, -34.664,-34.8936,-35.1196,-35.5681, -36.0259,-36.3739,-36.838,-37.0684, -37.3002,-37.5329,-37.8779,-38.1055, -38.3362,-38.5699,-38.8004,-39.0289, -39.2563,-39.4859,-39.7138,-40.0571, -40.2861,-40.5154,-40.743,-40.9737, -41.3163,-41.6542,-41.7689,-41.8664)
FOOTPRINT_POINT_LONGITUDE = (70.0495,69.5431,69.0334,68.4231, 68.4069,68.3499,68.3711,68.3915,68.4111 ,68.4233,68.4358,68.4481,68.4603, 68.4731,68.4846,68.4951,68.5073,68.525, 68.5335,68.5435,68.5536,68.5642,68.5756 ,68.5845,68.5932,68.6035,68.6119, 68.6252,68.6339,68.6413,68.6583,68.6653 ,68.6761,68.6827,68.6926,68.6998, 68.7061,68.7155,68.7222,68.7276,68.7333 ,68.7385,68.744,68.7523,68.7602,68.7655 ,68.772,68.7761,68.7804,68.7826,68.7827 ,69.1515,69.6932,70.1634,70.1768, 70.1816,70.1795,70.178,70.1767,70.1752, 70.173,70.1708,70.1691,70.1675,70.1659, 70.1643,70.1625,70.1599,70.1583,70.1566 ,70.1547,70.1527,70.1508,70.1481, 70.1461,70.1425,70.1383,70.1351,70.1304 ,70.1283,70.1259,70.1232,70.1198, 70.1179,70.1153,70.112,70.1093,70.1069, 70.1046,70.1018,70.0993,70.095,70.092, 70.0888,70.0859,70.0822,70.0773,70.0731 ,70.0712,70.0495)
ORBIT_NUMBER = 20978
ORBITAL_ECCENTRICITY = 0.578
ORBITAL_INCLINATION = 86.99
ORBITAL_SEMIMAJOR_AXIS = 8819.77
PERIAPSIS_ALTITUDE = 335.55
PERIAPSIS_ARGUMENT_ANGLE = 325.52
PERIAPSIS_TIME = 2020-08-05T14:58:13.000Z
SPACECRAFT_ORIENTATION = (0.0,1.0,0.0)
^MEX_ORIENTATION_DESC = "MEX_ORIENTATION_DESC.TXT"
SPACECRAFT_POINTING_MODE = ACROSSTRACK
^MEX_POINTING_DESC = "MEX_POINTING_DESC.TXT"
RIGHT_ASCENSION = -1e+32
DECLINATION = -1e+32
OFFSET_ANGLE = 0.29
SPACECRAFT_SOLAR_DISTANCE = 2.06657e+08
TARGET_NAME = MARS
/* CAMERA DATA ELEMENTS */
DETECTOR_TEMPERATURE = 18.7783
FOCAL_PLANE_TEMPERATURE = 8.7872
INST_CMPRS_NAME = "DISCRETE COSINE TRANSFORMATION (DCT)"
INST_CMPRS_RATIO = 11.8712
INST_CMPRS_QUALITY = 0
INST_CMPRS_QUANTZ_TBL_ID = 0
INSTRUMENT_TEMPERATURE = 11.234
LENS_TEMPERATURE = 9.6028
MACROPIXEL_SIZE = 2
MISSING_FRAMES = 0
PIXEL_SUBSAMPLING_FLAG = N
SIGNAL_CHAIN_ID = 1
/* RADIOMETRIC DATA ELEMENTS */
BANDWIDTH = 178.0
CENTER_FILTER_WAVELENGTH = 679.0
RADIANCE_OFFSET = 7.67158
RADIANCE_SCALING_FACTOR = 0.008378
REFLECTANCE_SCALING_FACTOR = 0.000189483
MEX:REFLECTANCE_OFFSET = 0.173506
/* IMAGE OBJECT DEFINITIONS */
OBJECT = IMAGE
  INTERCHANGE_FORMAT = BINARY
  LINES = 27115
  LINE_SAMPLES = 3532
  SAMPLE_TYPE = UNSIGNED_INTEGER
  SAMPLE_BITS = 8
  BANDS = 1
  BAND_STORAGE_TYPE = BAND_SEQUENTIAL
  MAXIMUM = 255
  MEAN = 136.348
  MINIMUM = 1
  STANDARD_DEVIATION = 39.2813
END_OBJECT = IMAGE
/* MAP OBJECT DEFINITIONS */
OBJECT = IMAGE_MAP_PROJECTION
  ^DATA_SET_MAP_PROJECTION_CATALOG= "DSMAP.CAT"
  A_AXIS_RADIUS = 3396.0
  B_AXIS_RADIUS = 3396.0
  C_AXIS_RADIUS = 3396.0
  CENTER_LATITUDE = 0.0
  CENTER_LONGITUDE = 69.0
  COORDINATE_SYSTEM_NAME = PLANETOGRAPHIC
  COORDINATE_SYSTEM_TYPE = "BODY-FIXED ROTATING"
  EASTERNMOST_LONGITUDE = 70.1816
  FIRST_STANDARD_PARALLEL = "N/A"
  LINE_FIRST_PIXEL = 1
  LINE_LAST_PIXEL = 27115
  LINE_PROJECTION_OFFSET = -71969.25
  MAP_PROJECTION_ROTATION = 0.0
  MAP_PROJECTION_TYPE = SINUSOIDAL
  MAP_RESOLUTION = 2370.85521546667
  MAP_SCALE = 0.025
  MAXIMUM_LATITUDE = -30.3088
  MINIMUM_LATITUDE = -41.8664
  POSITIVE_LONGITUDE_DIRECTION = EAST
  REFERENCE_LATITUDE = "N/A"
  REFERENCE_LONGITUDE = "N/A"
  SAMPLE_FIRST_PIXEL = 1
  SAMPLE_LAST_PIXEL = 3532
  SAMPLE_PROJECTION_OFFSET = 1112.25
  SECOND_STANDARD_PARALLEL = "N/A"
  WESTERNMOST_LONGITUDE = 68.34990000000001
END_OBJECT = IMAGE_MAP_PROJECTION
END
