PDS_VERSION_ID = PDS3
/* FILE DATA ELEMENTS */
RECORD_TYPE = UNDEFINED
/* POINTERS TO DATA OBJECTS */
^IMAGE = ("HK978_0000_BL4.TIF")
/* IDENTIFICATION DATA ELEMENTS */
DATA_SET_ID = "MEX-M-HRSC-4-REFDR-MAPPROJECT-EXT7-V4.0"
DATA_SET_NAME = "MARS EXPRESS HRSC MAP PROJECTED REFDR EXTENSION7 V4.0"
DETECTOR_ID = MEX_HRSC_BLUE
EVENT_TYPE = "MARS-REGIONAL-MAPPING-Im-Gl-Pf"
INSTRUMENT_HOST_ID = MEX
INSTRUMENT_HOST_NAME = "MARS EXPRESS"
INSTRUMENT_ID = HRSC
INSTRUMENT_NAME = "HIGH RESOLUTION STEREO CAMERA"
MISSION_NAME = "MARS EXPRESS"
MISSION_PHASE_NAME = ME_Phase_43
PROCESSING_LEVEL_ID = 4
PRODUCT_CREATION_TIME = 2023-01-29T07:12:14.000Z
PRODUCT_ID = "HK978_0000_BL4.TIF"
RELEASE_ID = 0004
REVISION_ID = 0000
/* QUALITY DATA ELEMENTS */
DATA_QUALITY_ID = 1
DATA_QUALITY_DESC = "Data calculated based on original SPICE kernels"
/* TIME DATA ELEMENTS */
SPACECRAFT_CLOCK_START_COUNT = "1/0544719314.23965"
SPACECRAFT_CLOCK_STOP_COUNT = "1/0544719554.16265"
START_TIME = 2020-08-05T14:56:14.211Z
STOP_TIME = 2020-08-05T14:59:09.528Z
/* ORBITAL DATA ELEMENTS */
ASCENDING_NODE_LONGITUDE = 181.66
MAXIMUM_RESOLUTION = 0.0547
FOOTPRINT_POINT_LATITUDE = (-41.8102,-41.8028,-41.792,-41.7722, -41.7717,-41.7517,-41.4061,-41.0602, -40.8296,-40.4829,-40.2518,-39.9049, -39.6736,-39.4425,-39.2106,-38.8633, -38.5162,-38.2835,-38.0513,-37.8192, -37.5871,-37.3573,-36.9071,-36.4575, -35.8948,-35.6692,-35.444,-35.1065, -34.8809,-34.6555,-34.4298,-34.2042, -33.979,-33.7534,-33.5277,-33.3022, -33.0768,-32.8509,-32.6253,-32.3995, -32.1738,-31.8355,-31.61,-31.2716, -31.0458,-30.82,-30.4815,-30.3687, -30.347,-30.3561,-30.3607,-30.364, -30.3641,-30.365,-30.591,-30.8171, -31.043,-31.269,-31.4951,-31.7212, -32.0601,-32.2863,-32.5123,-32.7383, -33.0773,-33.3035,-33.5295,-33.7553, -33.9812,-34.2071,-34.4333,-34.659, -34.8856,-35.1114,-35.3369,-35.5627, -35.788,-36.014,-36.352,-36.803, -37.1411,-37.3665,-37.5972,-37.8295, -38.1779,-38.4104,-38.6438,-38.8758, -39.2235,-39.4557,-39.8034,-40.0354, -40.2672,-40.4991,-40.8464,-41.0781, -41.3094,-41.6558,-41.7717,-41.8102)
FOOTPRINT_POINT_LONGITUDE = (70.0306,69.6321,69.1569,68.453,68.4379 ,68.379,68.3995,68.4195,68.4327,68.4507 ,68.4628,68.4805,68.4924,68.5048,68.515 ,68.5319,68.5495,68.5575,68.5671, 68.5768,68.5868,68.5978,68.6139,68.6319 ,68.6521,68.6588,68.6665,68.6786, 68.6852,68.692,68.6982,68.7042,68.7116, 68.7177,68.7234,68.7296,68.7358,68.7407 ,68.7462,68.7511,68.7561,68.764,68.7691 ,68.7764,68.7804,68.7843,68.7901, 68.7921,68.7925,69.3783,69.7792,70.1646 ,70.1774,70.1816,70.1799,70.1781, 70.1765,70.1747,70.1729,70.1711,70.1684 ,70.1664,70.1645,70.1625,70.1595, 70.1573,70.1552,70.1533,70.1512,70.149, 70.1465,70.1443,70.1413,70.139,70.1369, 70.1344,70.1323,70.1295,70.126,70.1207, 70.1167,70.1138,70.1105,70.1079,70.104, 70.1009,70.0968,70.094,70.0898,70.0865, 70.0817,70.0781,70.0746,70.0709,70.0655 ,70.0615,70.0578,70.0524,70.0499, 70.0306)
ORBIT_NUMBER = 20978
ORBITAL_ECCENTRICITY = 0.578
ORBITAL_INCLINATION = 86.99
ORBITAL_SEMIMAJOR_AXIS = 8819.77
PERIAPSIS_ALTITUDE = 335.55
PERIAPSIS_ARGUMENT_ANGLE = 325.52
PERIAPSIS_TIME = 2020-08-05T14:58:13.000Z
SPACECRAFT_ORIENTATION = (0.0,1.0,0.0)
^MEX_ORIENTATION_DESC = "MEX_ORIENTATION_DESC.TXT"
SPACECRAFT_POINTING_MODE = ACROSSTRACK
^MEX_POINTING_DESC = "MEX_POINTING_DESC.TXT"
RIGHT_ASCENSION = -1e+32
DECLINATION = -1e+32
OFFSET_ANGLE = 0.29
SPACECRAFT_SOLAR_DISTANCE = 2.06657e+08
TARGET_NAME = MARS
/* CAMERA DATA ELEMENTS */
DETECTOR_TEMPERATURE = 18.3705
FOCAL_PLANE_TEMPERATURE = 8.7872
INST_CMPRS_NAME = "DISCRETE COSINE TRANSFORMATION (DCT)"
INST_CMPRS_RATIO = 5.50831
INST_CMPRS_QUALITY = 0
INST_CMPRS_QUANTZ_TBL_ID = 0
INSTRUMENT_TEMPERATURE = 11.234
LENS_TEMPERATURE = 9.6028
MACROPIXEL_SIZE = 4
MISSING_FRAMES = 0
PIXEL_SUBSAMPLING_FLAG = N
SIGNAL_CHAIN_ID = 2
/* RADIOMETRIC DATA ELEMENTS */
BANDWIDTH = 76.0
CENTER_FILTER_WAVELENGTH = 444.0
RADIANCE_OFFSET = 0.92245
RADIANCE_SCALING_FACTOR = 0.000962918
REFLECTANCE_SCALING_FACTOR = 4.22518e-05
MEX:REFLECTANCE_OFFSET = 0.0404761
/* IMAGE OBJECT DEFINITIONS */
OBJECT = IMAGE
  INTERCHANGE_FORMAT = BINARY
  LINES = 13558
  LINE_SAMPLES = 1766
  SAMPLE_TYPE = UNSIGNED_INTEGER
  SAMPLE_BITS = 8
  BANDS = 1
  BAND_STORAGE_TYPE = BAND_SEQUENTIAL
  MAXIMUM = 254
  MEAN = 130.616
  MINIMUM = 9
  STANDARD_DEVIATION = 31.5496
END_OBJECT = IMAGE
/* MAP OBJECT DEFINITIONS */
OBJECT = IMAGE_MAP_PROJECTION
  ^DATA_SET_MAP_PROJECTION_CATALOG= "DSMAP.CAT"
  A_AXIS_RADIUS = 3396.0
  B_AXIS_RADIUS = 3396.0
  C_AXIS_RADIUS = 3396.0
  CENTER_LATITUDE = 0.0
  CENTER_LONGITUDE = 69.0
  COORDINATE_SYSTEM_NAME = PLANETOGRAPHIC
  COORDINATE_SYSTEM_TYPE = "BODY-FIXED ROTATING"
  EASTERNMOST_LONGITUDE = 70.1816
  FIRST_STANDARD_PARALLEL = "N/A"
  LINE_FIRST_PIXEL = 1
  LINE_LAST_PIXEL = 13558
  LINE_PROJECTION_OFFSET = -35984.875
  MAP_PROJECTION_ROTATION = 0.0
  MAP_PROJECTION_TYPE = SINUSOIDAL
  MAP_RESOLUTION = 1185.42760773333
  MAP_SCALE = 0.05
  MAXIMUM_LATITUDE = -30.347
  MINIMUM_LATITUDE = -41.8102
  POSITIVE_LONGITUDE_DIRECTION = EAST
  REFERENCE_LATITUDE = "N/A"
  REFERENCE_LONGITUDE = "N/A"
  SAMPLE_FIRST_PIXEL = 1
  SAMPLE_LAST_PIXEL = 1766
  SAMPLE_PROJECTION_OFFSET = 555.875
  SECOND_STANDARD_PARALLEL = "N/A"
  WESTERNMOST_LONGITUDE = 68.379
END_OBJECT = IMAGE_MAP_PROJECTION
END
