PDS_VERSION_ID = PDS3
/* FILE DATA ELEMENTS */
RECORD_TYPE = UNDEFINED
/* POINTERS TO DATA OBJECTS */
^IMAGE = ("HK977_0000_S24.TIF")
/* IDENTIFICATION DATA ELEMENTS */
DATA_SET_ID = "MEX-M-HRSC-4-REFDR-MAPPROJECT-EXT7-V4.0"
DATA_SET_NAME = "MARS EXPRESS HRSC MAP PROJECTED REFDR EXTENSION7 V4.0"
DETECTOR_ID = MEX_HRSC_S2
EVENT_TYPE = "MARS-REGIONAL-MAPPING-Im-Fl-Mw"
INSTRUMENT_HOST_ID = MEX
INSTRUMENT_HOST_NAME = "MARS EXPRESS"
INSTRUMENT_ID = HRSC
INSTRUMENT_NAME = "HIGH RESOLUTION STEREO CAMERA"
MISSION_NAME = "MARS EXPRESS"
MISSION_PHASE_NAME = ME_Phase_43
PROCESSING_LEVEL_ID = 4
PRODUCT_CREATION_TIME = 2023-01-29T07:12:14.000Z
PRODUCT_ID = "HK977_0000_S24.TIF"
RELEASE_ID = 0004
REVISION_ID = 0000
/* QUALITY DATA ELEMENTS */
DATA_QUALITY_ID = 1
DATA_QUALITY_DESC = "Data calculated based on original SPICE kernels"
/* TIME DATA ELEMENTS */
SPACECRAFT_CLOCK_START_COUNT = "1/0544694396.25086"
SPACECRAFT_CLOCK_STOP_COUNT = "1/0544694638.25364"
START_TIME = 2020-08-05T08:00:29.296Z
STOP_TIME = 2020-08-05T08:03:15.665Z
/* ORBITAL DATA ELEMENTS */
ASCENDING_NODE_LONGITUDE = 181.67
MAXIMUM_RESOLUTION = 0.0288 <m/pixel>
FOOTPRINT_POINT_LATITUDE = (-27.5861,-27.586,-27.5839,-27.579, -27.5788,-27.5593,-27.348,-26.9277, -26.7033,-26.2834,-25.9745,-25.7611, -25.4425,-25.2263,-24.8087,-24.5963, -24.3825,-24.1704,-23.9588,-23.7447, -23.4235,-23.2105,-22.998,-22.6797, -22.4682,-22.2562,-22.043,-21.8306, -21.5127,-21.2992,-21.0864,-20.8731, -20.6583,-20.4457,-20.1274,-19.9155, -19.7022,-19.4879,-19.2687,-18.95, -18.7369,-18.4976,-18.2432,-17.8598, -17.6056,-17.3527,-17.1041,-16.7248, -16.5973,-16.5587,-16.5524,-16.5536, -16.5518,-16.5516,-16.5521,-16.8036, -17.0597,-17.3138,-17.6942,-17.9478, -18.203,-18.5837,-18.8102,-19.0221, -19.2357,-19.5564,-19.7702,-19.9846, -20.1983,-20.5199,-20.7349,-20.9484, -21.159,-21.3713,-21.5845,-21.9044, -22.1181,-22.3303,-22.5438,-22.8632, -23.1825,-23.3951,-23.6086,-23.8212, -24.0349,-24.2503,-24.5692,-24.8848, -25.0966,-25.4155,-25.629,-25.9463, -26.1589,-26.4773,-26.7944,-27.0071, -27.2174,-27.4289,-27.5345,-27.5861)
FOOTPRINT_POINT_LONGITUDE = (172.622,172.121,171.76,171.31,171.297, 171.287,171.288,171.292,171.289,171.292 ,171.296,171.296,171.297,171.296, 171.299,171.299,171.298,171.298,171.299 ,171.298,171.296,171.296,171.295, 171.294,171.294,171.293,171.292,171.291 ,171.289,171.288,171.286,171.285, 171.282,171.281,171.278,171.277,171.275 ,171.272,171.268,171.265,171.262, 171.259,171.256,171.251,171.247,171.244 ,171.242,171.237,171.235,171.234,171.71 ,172.187,172.622,172.636,172.641, 172.641,172.64,172.64,172.64,172.64, 172.64,172.64,172.639,172.639,172.639, 172.638,172.638,172.637,172.637,172.636 ,172.635,172.635,172.636,172.636, 172.635,172.635,172.635,172.635,172.634 ,172.634,172.634,172.633,172.633, 172.633,172.632,172.631,172.631,172.632 ,172.632,172.631,172.631,172.631,172.63 ,172.63,172.63,172.629,172.629,172.629, 172.629,172.622)
ORBIT_NUMBER = 20977
ORBITAL_ECCENTRICITY = 0.577
ORBITAL_INCLINATION = 86.98
ORBITAL_SEMIMAJOR_AXIS = 8814.82
PERIAPSIS_ALTITUDE = 336.66
PERIAPSIS_ARGUMENT_ANGLE = 325.72
PERIAPSIS_TIME = 2020-08-05T07:59:18.000Z
SPACECRAFT_ORIENTATION = (0.0,1.0,0.0)
^MEX_ORIENTATION_DESC = "MEX_ORIENTATION_DESC.TXT"
SPACECRAFT_POINTING_MODE = NADIR
^MEX_POINTING_DESC = "MEX_POINTING_DESC.TXT"
RIGHT_ASCENSION = -1e+32
DECLINATION = -1e+32
OFFSET_ANGLE = -1e+32
SPACECRAFT_SOLAR_DISTANCE = 2.06656e+08
TARGET_NAME = MARS
/* CAMERA DATA ELEMENTS */
DETECTOR_TEMPERATURE = 18.7783 <degC>
FOCAL_PLANE_TEMPERATURE = 8.5833 <degC>
INST_CMPRS_NAME = "DISCRETE COSINE TRANSFORMATION (DCT)"
INST_CMPRS_RATIO = 10.2548
INST_CMPRS_QUALITY = 0
INST_CMPRS_QUANTZ_TBL_ID = 0
INSTRUMENT_TEMPERATURE = 11.234 <degC>
LENS_TEMPERATURE = 9.195 <degC>
MACROPIXEL_SIZE = 2
MISSING_FRAMES = 0
PIXEL_SUBSAMPLING_FLAG = N
SIGNAL_CHAIN_ID = 1
/* RADIOMETRIC DATA ELEMENTS */
BANDWIDTH = 178.0 <nm>
CENTER_FILTER_WAVELENGTH = 679.0 <nm>
RADIANCE_OFFSET = 4.75974 <W*m**-2*sr**-1>
RADIANCE_SCALING_FACTOR = 0.0162726 <W*m**-2*sr**-1>
REFLECTANCE_SCALING_FACTOR = 0.000368028
MEX:REFLECTANCE_OFFSET = 0.107648
/* IMAGE OBJECT DEFINITIONS */
OBJECT = IMAGE
  INTERCHANGE_FORMAT = BINARY
  LINES = 26067
  LINE_SAMPLES = 3300
  SAMPLE_TYPE = UNSIGNED_INTEGER
  SAMPLE_BITS = 8
  BANDS = 1
  BAND_STORAGE_TYPE = BAND_SEQUENTIAL
  MAXIMUM = 255
  MEAN = 130.708
  MINIMUM = 1
  STANDARD_DEVIATION = 29.7514
END_OBJECT = IMAGE
/* MAP OBJECT DEFINITIONS */
OBJECT = IMAGE_MAP_PROJECTION
  ^DATA_SET_MAP_PROJECTION_CATALOG= "DSMAP.CAT"
  A_AXIS_RADIUS = 3396.0 <km>
  B_AXIS_RADIUS = 3396.0 <km>
  C_AXIS_RADIUS = 3396.0 <km>
  CENTER_LATITUDE = 0.0
  CENTER_LONGITUDE = 172.0
  COORDINATE_SYSTEM_NAME = PLANETOGRAPHIC
  COORDINATE_SYSTEM_TYPE = "BODY-FIXED ROTATING"
  EASTERNMOST_LONGITUDE = 172.641
  FIRST_STANDARD_PARALLEL = "N/A"
  LINE_FIRST_PIXEL = 1
  LINE_LAST_PIXEL = 26067
  LINE_PROJECTION_OFFSET = -39280.25
  MAP_PROJECTION_ROTATION = 0.0
  MAP_PROJECTION_TYPE = SINUSOIDAL
  MAP_RESOLUTION = 2370.85521546667 <pixel/degree>
  MAP_SCALE = 0.025 <km/pixel>
  MAXIMUM_LATITUDE = -16.5516
  MINIMUM_LATITUDE = -27.5861
  POSITIVE_LONGITUDE_DIRECTION = EAST
  REFERENCE_LATITUDE = "N/A"
  REFERENCE_LONGITUDE = "N/A"
  SAMPLE_FIRST_PIXEL = 1
  SAMPLE_LAST_PIXEL = 3300
  SAMPLE_PROJECTION_OFFSET = 1792.75
  SECOND_STANDARD_PARALLEL = "N/A"
  WESTERNMOST_LONGITUDE = 171.234
END_OBJECT = IMAGE_MAP_PROJECTION
END
