PDS_VERSION_ID = PDS3
/* FILE DATA ELEMENTS */
RECORD_TYPE = UNDEFINED
/* POINTERS TO DATA OBJECTS */
^IMAGE = ("HK977_0000_P14.TIF")
/* IDENTIFICATION DATA ELEMENTS */
DATA_SET_ID = "MEX-M-HRSC-4-REFDR-MAPPROJECT-EXT7-V4.0"
DATA_SET_NAME = "MARS EXPRESS HRSC MAP PROJECTED REFDR EXTENSION7 V4.0"
DETECTOR_ID = MEX_HRSC_P1
EVENT_TYPE = "MARS-REGIONAL-MAPPING-Im-Fl-Mw"
INSTRUMENT_HOST_ID = MEX
INSTRUMENT_HOST_NAME = "MARS EXPRESS"
INSTRUMENT_ID = HRSC
INSTRUMENT_NAME = "HIGH RESOLUTION STEREO CAMERA"
MISSION_NAME = "MARS EXPRESS"
MISSION_PHASE_NAME = ME_Phase_43
PROCESSING_LEVEL_ID = 4
PRODUCT_CREATION_TIME = 2023-01-29T07:12:14.000Z
PRODUCT_ID = "HK977_0000_P14.TIF"
RELEASE_ID = 0004
REVISION_ID = 0000
/* QUALITY DATA ELEMENTS */
DATA_QUALITY_ID = 1
DATA_QUALITY_DESC = "Data calculated based on original SPICE kernels"
/* TIME DATA ELEMENTS */
SPACECRAFT_CLOCK_START_COUNT = "1/0544694396.25086"
SPACECRAFT_CLOCK_STOP_COUNT = "1/0544694638.25364"
START_TIME = 2020-08-05T08:01:20.142Z
STOP_TIME = 2020-08-05T08:04:15.530Z
/* ORBITAL DATA ELEMENTS */
ASCENDING_NODE_LONGITUDE = 181.67
MAXIMUM_RESOLUTION = 0.0285
FOOTPRINT_POINT_LATITUDE = (-27.5462,-27.5461,-27.5448,-27.5432, -27.5432,-27.5546,-27.3492,-27.1439, -26.9394,-26.5367,-26.3314,-26.1223, -25.8146,-25.6105,-25.3084,-25.0007, -24.7957,-24.5928,-24.2894,-24.0869, -23.8841,-23.4825,-23.0792,-22.7767, -22.5751,-22.2731,-22.0396,-21.8002, -21.5605,-21.3221,-20.9648,-20.7283, -20.491,-20.2533,-20.0154,-19.7785, -19.5426,-19.1935,-18.8401,-18.6048, -18.37,-18.0176,-17.7858,-17.5525, -17.3186,-17.082,-16.7318,-16.6161, -16.5825,-16.5824,-16.5838,-16.5785, -16.5748,-16.5723,-16.5721,-16.5726, -16.8061,-17.1551,-17.506,-17.8573, -18.0914,-18.4426,-18.6795,-18.9143, -19.1509,-19.5039,-19.7397,-19.9762, -20.2137,-20.4505,-20.6865,-20.924, -21.1644,-21.4036,-21.6427,-22.0008, -22.2409,-22.6432,-22.8448,-23.1474, -23.4504,-23.7536,-23.9559,-24.3586, -24.5629,-24.7668,-24.9715,-25.175, -25.4804,-25.6834,-25.8881,-26.1947, -26.3994,-26.604,-26.8095,-27.0141, -27.2203,-27.4259,-27.5285,-27.5462)
FOOTPRINT_POINT_LONGITUDE = (172.637,172.23,171.679,171.298,171.285 ,171.274,171.275,171.276,171.277, 171.274,171.275,171.278,171.279,171.279 ,171.277,171.278,171.279,171.278, 171.277,171.276,171.276,171.273,171.271 ,171.269,171.268,171.266,171.264, 171.262,171.26,171.258,171.255,171.251, 171.249,171.246,171.244,171.241,171.238 ,171.23,171.225,171.222,171.218,171.213 ,171.208,171.204,171.2,171.198,171.192, 171.19,171.189,171.435,171.681,172.016, 172.408,172.669,172.683,172.689,172.688 ,172.686,172.685,172.683,172.682,172.68 ,172.68,172.679,172.678,172.676,172.674 ,172.673,172.672,172.671,172.669, 172.668,172.668,172.667,172.666,172.664 ,172.664,172.662,172.661,172.66,172.659 ,172.658,172.657,172.654,172.654, 172.653,172.653,172.652,172.651,172.65, 172.649,172.648,172.647,172.646,172.646 ,172.645,172.644,172.644,172.643, 172.637)
ORBIT_NUMBER = 20977
ORBITAL_ECCENTRICITY = 0.577
ORBITAL_INCLINATION = 86.98
ORBITAL_SEMIMAJOR_AXIS = 8814.82
PERIAPSIS_ALTITUDE = 336.66
PERIAPSIS_ARGUMENT_ANGLE = 325.72
PERIAPSIS_TIME = 2020-08-05T07:59:18.000Z
SPACECRAFT_ORIENTATION = (0.0,1.0,0.0)
^MEX_ORIENTATION_DESC = "MEX_ORIENTATION_DESC.TXT"
SPACECRAFT_POINTING_MODE = NADIR
^MEX_POINTING_DESC = "MEX_POINTING_DESC.TXT"
RIGHT_ASCENSION = -1e+32
DECLINATION = -1e+32
OFFSET_ANGLE = -1e+32
SPACECRAFT_SOLAR_DISTANCE = 2.06656e+08
TARGET_NAME = MARS
/* CAMERA DATA ELEMENTS */
DETECTOR_TEMPERATURE = 17.5549
FOCAL_PLANE_TEMPERATURE = 8.5833
INST_CMPRS_NAME = "DISCRETE COSINE TRANSFORMATION (DCT)"
INST_CMPRS_RATIO = 8.06698
INST_CMPRS_QUALITY = 0
INST_CMPRS_QUANTZ_TBL_ID = 0
INSTRUMENT_TEMPERATURE = 11.234
LENS_TEMPERATURE = 9.195
MACROPIXEL_SIZE = 2
MISSING_FRAMES = 0
PIXEL_SUBSAMPLING_FLAG = N
SIGNAL_CHAIN_ID = 3
/* RADIOMETRIC DATA ELEMENTS */
BANDWIDTH = 174.0
CENTER_FILTER_WAVELENGTH = 675.0
RADIANCE_OFFSET = 4.51334
RADIANCE_SCALING_FACTOR = 0.015554
REFLECTANCE_SCALING_FACTOR = 0.000357291
MEX:REFLECTANCE_OFFSET = 0.103676
/* IMAGE OBJECT DEFINITIONS */
OBJECT = IMAGE
  INTERCHANGE_FORMAT = BINARY
  LINES = 26067
  LINE_SAMPLES = 3300
  SAMPLE_TYPE = UNSIGNED_INTEGER
  SAMPLE_BITS = 8
  BANDS = 1
  BAND_STORAGE_TYPE = BAND_SEQUENTIAL
  MAXIMUM = 255
  MEAN = 127.503
  MINIMUM = 1
  STANDARD_DEVIATION = 30.0692
END_OBJECT = IMAGE
/* MAP OBJECT DEFINITIONS */
OBJECT = IMAGE_MAP_PROJECTION
  ^DATA_SET_MAP_PROJECTION_CATALOG= "DSMAP.CAT"
  A_AXIS_RADIUS = 3396.0
  B_AXIS_RADIUS = 3396.0
  C_AXIS_RADIUS = 3396.0
  CENTER_LATITUDE = 0.0
  CENTER_LONGITUDE = 172.0
  COORDINATE_SYSTEM_NAME = PLANETOGRAPHIC
  COORDINATE_SYSTEM_TYPE = "BODY-FIXED ROTATING"
  EASTERNMOST_LONGITUDE = 172.689
  FIRST_STANDARD_PARALLEL = "N/A"
  LINE_FIRST_PIXEL = 1
  LINE_LAST_PIXEL = 26067
  LINE_PROJECTION_OFFSET = -39280.25
  MAP_PROJECTION_ROTATION = 0.0
  MAP_PROJECTION_TYPE = SINUSOIDAL
  MAP_RESOLUTION = 2370.85521546667
  MAP_SCALE = 0.025
  MAXIMUM_LATITUDE = -16.5721
  MINIMUM_LATITUDE = -27.5546
  POSITIVE_LONGITUDE_DIRECTION = EAST
  REFERENCE_LATITUDE = "N/A"
  REFERENCE_LONGITUDE = "N/A"
  SAMPLE_FIRST_PIXEL = 1
  SAMPLE_LAST_PIXEL = 3300
  SAMPLE_PROJECTION_OFFSET = 1792.75
  SECOND_STANDARD_PARALLEL = "N/A"
  WESTERNMOST_LONGITUDE = 171.189
END_OBJECT = IMAGE_MAP_PROJECTION
END
