PDS_VERSION_ID = PDS3
/* FILE DATA ELEMENTS */
RECORD_TYPE = UNDEFINED
/* POINTERS TO DATA OBJECTS */
^IMAGE = ("HK970_0000_S24.TIF")
/* IDENTIFICATION DATA ELEMENTS */
DATA_SET_ID = "MEX-M-HRSC-4-REFDR-MAPPROJECT-EXT7-V4.0"
DATA_SET_NAME = "MARS EXPRESS HRSC MAP PROJECTED REFDR EXTENSION7 V4.0"
DETECTOR_ID = MEX_HRSC_S2
EVENT_TYPE = "MARS-REGIONAL-MAPPING-Im-Fl-Lc"
INSTRUMENT_HOST_ID = MEX
INSTRUMENT_HOST_NAME = "MARS EXPRESS"
INSTRUMENT_ID = HRSC
INSTRUMENT_NAME = "HIGH RESOLUTION STEREO CAMERA"
MISSION_NAME = "MARS EXPRESS"
MISSION_PHASE_NAME = ME_Phase_43
PROCESSING_LEVEL_ID = 4
PRODUCT_CREATION_TIME = 2023-01-29T07:12:14.000Z
PRODUCT_ID = "HK970_0000_S24.TIF"
RELEASE_ID = 0004
REVISION_ID = 0000
/* QUALITY DATA ELEMENTS */
DATA_QUALITY_ID = 1
DATA_QUALITY_DESC = "Data calculated based on original SPICE kernels"
/* TIME DATA ELEMENTS */
SPACECRAFT_CLOCK_START_COUNT = "1/0544518271.25665"
SPACECRAFT_CLOCK_STOP_COUNT = "1/0544518481.08050"
START_TIME = 2020-08-03T07:05:04.312Z
STOP_TIME = 2020-08-03T07:07:30.288Z
/* ORBITAL DATA ELEMENTS */
ASCENDING_NODE_LONGITUDE = 181.8
MAXIMUM_RESOLUTION = 0.0286
FOOTPRINT_POINT_LATITUDE = (-36.9276,-36.9384,-36.9453,-36.9567, -36.9653,-36.9655,-36.9263,-36.6441, -36.4557,-36.1737,-35.9848,-35.7012, -35.5108,-35.2248,-35.0341,-34.845, -34.6543,-34.4638,-34.274,-33.9895, -33.7992,-33.6082,-33.4139,-33.2229, -33.0323,-32.8413,-32.6497,-32.4582, -32.2664,-31.9789,-31.6923,-31.4136, -31.1346,-30.7621,-30.5758,-30.3892, -30.2029,-30.0163,-29.7369,-29.5503, -29.2704,-28.8984,-28.7106,-28.5166, -28.3232,-28.1301,-27.937,-27.7445, -27.5514,-27.4518,-27.451,-27.4438, -27.4364,-27.4286,-27.4181,-27.4052, -27.4046,-27.4048,-27.5997,-27.793, -27.9853,-28.2753,-28.4687,-28.7568, -28.9444,-29.1321,-29.4125,-29.785, -30.3421,-30.7148,-30.9011,-31.2735, -31.6459,-31.8368,-32.0286,-32.2207, -32.4124,-32.6997,-32.8911,-33.0827, -33.2741,-33.4651,-33.6565,-33.8489, -34.0399,-34.3248,-34.5149,-34.7055, -34.8954,-35.0861,-35.2761,-35.4666, -35.7515,-35.9414,-36.1313,-36.4159, -36.6053,-36.7938,-36.888,-36.9276)
FOOTPRINT_POINT_LONGITUDE = (168.217,167.888,167.652,167.184, 166.724,166.709,166.706,166.713,166.718 ,166.724,166.728,166.734,166.738, 166.744,166.748,166.752,166.755,166.759 ,166.762,166.767,166.77,166.773,166.776 ,166.778,166.781,166.784,166.786, 166.789,166.791,166.794,166.797,166.8, 166.803,166.806,166.807,166.809,166.81, 166.811,166.813,166.814,166.816,166.817 ,166.818,166.819,166.819,166.82,166.82, 166.82,166.821,166.821,166.821,167.129, 167.349,167.571,167.887,168.155,168.169 ,168.174,168.174,168.176,168.178, 168.181,168.182,168.184,168.185,168.186 ,168.188,168.192,168.198,168.201, 168.202,168.205,168.207,168.209,168.21, 168.212,168.213,168.215,168.217,168.218 ,168.22,168.221,168.223,168.223,168.224 ,168.227,168.229,168.231,168.232, 168.233,168.235,168.236,168.238,168.239 ,168.24,168.242,168.243,168.245,168.246 ,168.217)
ORBIT_NUMBER = 20970
ORBITAL_ECCENTRICITY = 0.577
ORBITAL_INCLINATION = 86.98
ORBITAL_SEMIMAJOR_AXIS = 8817.07
PERIAPSIS_ALTITUDE = 337.16
PERIAPSIS_ARGUMENT_ANGLE = 326.92
PERIAPSIS_TIME = 2020-08-03T07:06:36.000Z
SPACECRAFT_ORIENTATION = (0.0,1.0,0.0)
^MEX_ORIENTATION_DESC = "MEX_ORIENTATION_DESC.TXT"
SPACECRAFT_POINTING_MODE = ACROSSTRACK
^MEX_POINTING_DESC = "MEX_POINTING_DESC.TXT"
RIGHT_ASCENSION = -1e+32
DECLINATION = -1e+32
OFFSET_ANGLE = -0.61
SPACECRAFT_SOLAR_DISTANCE = 2.06651e+08
TARGET_NAME = MARS
/* CAMERA DATA ELEMENTS */
DETECTOR_TEMPERATURE = 18.7783
FOCAL_PLANE_TEMPERATURE = 8.5833
INST_CMPRS_NAME = "DISCRETE COSINE TRANSFORMATION (DCT)"
INST_CMPRS_RATIO = 9.78614
INST_CMPRS_QUALITY = 0
INST_CMPRS_QUANTZ_TBL_ID = 0
INSTRUMENT_TEMPERATURE = 11.4379
LENS_TEMPERATURE = 8.9911
MACROPIXEL_SIZE = 2
MISSING_FRAMES = 0
PIXEL_SUBSAMPLING_FLAG = N
SIGNAL_CHAIN_ID = 1
/* RADIOMETRIC DATA ELEMENTS */
BANDWIDTH = 178.0
CENTER_FILTER_WAVELENGTH = 679.0
RADIANCE_OFFSET = 4.50891
RADIANCE_SCALING_FACTOR = 0.0119219
REFLECTANCE_SCALING_FACTOR = 0.000269621
MEX:REFLECTANCE_OFFSET = 0.101971
/* IMAGE OBJECT DEFINITIONS */
OBJECT = IMAGE
  INTERCHANGE_FORMAT = BINARY
  LINES = 22461
  LINE_SAMPLES = 3005
  SAMPLE_TYPE = UNSIGNED_INTEGER
  SAMPLE_BITS = 8
  BANDS = 1
  BAND_STORAGE_TYPE = BAND_SEQUENTIAL
  MAXIMUM = 255
  MEAN = 84.0059
  MINIMUM = 1
  STANDARD_DEVIATION = 15.6831
END_OBJECT = IMAGE
/* MAP OBJECT DEFINITIONS */
OBJECT = IMAGE_MAP_PROJECTION
  ^DATA_SET_MAP_PROJECTION_CATALOG= "DSMAP.CAT"
  A_AXIS_RADIUS = 3396.0
  B_AXIS_RADIUS = 3396.0
  C_AXIS_RADIUS = 3396.0
  CENTER_LATITUDE = 0.0
  CENTER_LONGITUDE = 167.0
  COORDINATE_SYSTEM_NAME = PLANETOGRAPHIC
  COORDINATE_SYSTEM_TYPE = "BODY-FIXED ROTATING"
  EASTERNMOST_LONGITUDE = 168.246
  FIRST_STANDARD_PARALLEL = "N/A"
  LINE_FIRST_PIXEL = 1
  LINE_LAST_PIXEL = 22461
  LINE_PROJECTION_OFFSET = -65021.75
  MAP_PROJECTION_ROTATION = 0.0
  MAP_PROJECTION_TYPE = SINUSOIDAL
  MAP_RESOLUTION = 2370.85521546667
  MAP_SCALE = 0.025
  MAXIMUM_LATITUDE = -27.4046
  MINIMUM_LATITUDE = -36.9655
  POSITIVE_LONGITUDE_DIRECTION = EAST
  REFERENCE_LATITUDE = "N/A"
  REFERENCE_LONGITUDE = "N/A"
  SAMPLE_FIRST_PIXEL = 1
  SAMPLE_LAST_PIXEL = 3005
  SAMPLE_PROJECTION_OFFSET = 540.75
  SECOND_STANDARD_PARALLEL = "N/A"
  WESTERNMOST_LONGITUDE = 166.706
END_OBJECT = IMAGE_MAP_PROJECTION
END
