PDS_VERSION_ID = PDS3
/* FILE DATA ELEMENTS */
RECORD_TYPE = UNDEFINED
/* POINTERS TO DATA OBJECTS */
^IMAGE = ("HK965_0000_RE4.TIF")
/* IDENTIFICATION DATA ELEMENTS */
DATA_SET_ID = "MEX-M-HRSC-4-REFDR-MAPPROJECT-EXT7-V4.0"
DATA_SET_NAME = "MARS EXPRESS HRSC MAP PROJECTED REFDR EXTENSION7 V4.0"
DETECTOR_ID = MEX_HRSC_RED
EVENT_TYPE = "MARS-REGIONAL-MAPPING-Fl-Gl-Pf"
INSTRUMENT_HOST_ID = MEX
INSTRUMENT_HOST_NAME = "MARS EXPRESS"
INSTRUMENT_ID = HRSC
INSTRUMENT_NAME = "HIGH RESOLUTION STEREO CAMERA"
MISSION_NAME = "MARS EXPRESS"
MISSION_PHASE_NAME = ME_Phase_43
PROCESSING_LEVEL_ID = 4
PRODUCT_CREATION_TIME = 2023-01-29T07:12:14.000Z
PRODUCT_ID = "HK965_0000_RE4.TIF"
RELEASE_ID = 0004
REVISION_ID = 0000
/* QUALITY DATA ELEMENTS */
DATA_QUALITY_ID = 1
DATA_QUALITY_DESC = "Data calculated based on original SPICE kernels"
/* TIME DATA ELEMENTS */
SPACECRAFT_CLOCK_START_COUNT = "1/0544392602.24057"
SPACECRAFT_CLOCK_STOP_COUNT = "1/0544392804.22453"
START_TIME = 2020-08-01T20:10:40.605Z
STOP_TIME = 2020-08-01T20:12:58.516Z
/* ORBITAL DATA ELEMENTS */
ASCENDING_NODE_LONGITUDE = 181.9
MAXIMUM_RESOLUTION = 0.0563 <m/pixel>
FOOTPRINT_POINT_LATITUDE = (-34.608,-34.606,-34.6035,-34.6008, -34.5913,-34.591,-34.5654,-34.384, -34.2029,-34.0215,-33.7495,-33.5678, -33.386,-33.2057,-32.6771,-32.3245, -31.9725,-31.7951,-31.4431,-31.2664, -31.0896,-30.9124,-30.6473,-30.4704, -30.2051,-30.0281,-29.8509,-29.6741, -29.4082,-29.2308,-29.0534,-28.7874, -28.6099,-28.3436,-28.1661,-27.9886, -27.8108,-27.6329,-27.4552,-27.2771, -27.0997,-26.9215,-26.7442,-26.4776, -26.2996,-26.1164,-25.9333,-25.7499, -25.6579,-25.5762,-25.5802,-25.5808, -25.5796,-25.5796,-25.5804,-25.7648, -25.9491,-26.2256,-26.4057,-26.5834, -26.7617,-27.0254,-27.2046,-27.385, -27.5624,-27.7402,-27.918,-28.1833, -28.3624,-28.5403,-28.7179,-28.8956, -29.1619,-29.4283,-29.6059,-29.7835, -29.9608,-30.1375,-30.3148,-30.5809, -30.758,-30.9352,-31.1123,-31.2893, -31.4658,-31.8173,-31.9938,-32.1707, -32.3495,-32.6149,-32.9676,-33.2318, -33.4126,-33.6798,-33.861,-34.047, -34.232,-34.4125,-34.5019,-34.608)
FOOTPRINT_POINT_LONGITUDE = (318.055,317.696,317.43,317.205,316.647 ,316.633,316.62,316.625,316.63,316.635, 316.641,316.646,316.65,316.654,316.666, 316.674,316.681,316.684,316.691,316.694 ,316.697,316.7,316.705,316.707,316.712, 316.714,316.717,316.719,316.723,316.725 ,316.727,316.731,316.733,316.736, 316.737,316.739,316.741,316.742,316.744 ,316.745,316.747,316.748,316.75,316.751 ,316.752,316.754,316.755,316.756, 316.756,316.757,317.333,317.616,318.058 ,318.07,318.074,318.074,318.074,318.074 ,318.074,318.075,318.075,318.076, 318.076,318.075,318.075,318.075,318.075 ,318.076,318.075,318.075,318.075, 318.075,318.075,318.074,318.074,318.074 ,318.074,318.074,318.074,318.073, 318.073,318.073,318.073,318.073,318.072 ,318.073,318.073,318.072,318.071,318.07 ,318.069,318.069,318.069,318.07,318.07, 318.068,318.066,318.066,318.066, 318.055)
ORBIT_NUMBER = 20965
ORBITAL_ECCENTRICITY = 0.577
ORBITAL_INCLINATION = 86.99
ORBITAL_SEMIMAJOR_AXIS = 8818.14
PERIAPSIS_ALTITUDE = 337.11
PERIAPSIS_ARGUMENT_ANGLE = 327.78
PERIAPSIS_TIME = 2020-08-01T20:11:43.000Z
SPACECRAFT_ORIENTATION = (0.0,1.0,0.0)
^MEX_ORIENTATION_DESC = "MEX_ORIENTATION_DESC.TXT"
SPACECRAFT_POINTING_MODE = NADIR
^MEX_POINTING_DESC = "MEX_POINTING_DESC.TXT"
RIGHT_ASCENSION = -1e+32
DECLINATION = -1e+32
OFFSET_ANGLE = -1e+32
SPACECRAFT_SOLAR_DISTANCE = 2.06654e+08
TARGET_NAME = MARS
/* CAMERA DATA ELEMENTS */
DETECTOR_TEMPERATURE = 18.5744 <degC>
FOCAL_PLANE_TEMPERATURE = 8.3794 <degC>
INST_CMPRS_NAME = "DISCRETE COSINE TRANSFORMATION (DCT)"
INST_CMPRS_RATIO = 10.9545
INST_CMPRS_QUALITY = 0
INST_CMPRS_QUANTZ_TBL_ID = 0
INSTRUMENT_TEMPERATURE = 11.0301 <degC>
LENS_TEMPERATURE = 8.5833 <degC>
MACROPIXEL_SIZE = 4
MISSING_FRAMES = 0
PIXEL_SUBSAMPLING_FLAG = N
SIGNAL_CHAIN_ID = 2
/* RADIOMETRIC DATA ELEMENTS */
BANDWIDTH = 48.0 <nm>
CENTER_FILTER_WAVELENGTH = 748.0 <nm>
RADIANCE_OFFSET = 1.04428 <W*m**-2*sr**-1>
RADIANCE_SCALING_FACTOR = 0.00246762 <W*m**-2*sr**-1>
REFLECTANCE_SCALING_FACTOR = 0.000240487
MEX:REFLECTANCE_OFFSET = 0.101772
/* IMAGE OBJECT DEFINITIONS */
OBJECT = IMAGE
  INTERCHANGE_FORMAT = BINARY
  LINES = 10682
  LINE_SAMPLES = 1522
  SAMPLE_TYPE = UNSIGNED_INTEGER
  SAMPLE_BITS = 8
  BANDS = 1
  BAND_STORAGE_TYPE = BAND_SEQUENTIAL
  MAXIMUM = 255
  MEAN = 111.554
  MINIMUM = 1
  STANDARD_DEVIATION = 38.4183
END_OBJECT = IMAGE
/* MAP OBJECT DEFINITIONS */
OBJECT = IMAGE_MAP_PROJECTION
  ^DATA_SET_MAP_PROJECTION_CATALOG= "DSMAP.CAT"
  A_AXIS_RADIUS = 3396.0 <km>
  B_AXIS_RADIUS = 3396.0 <km>
  C_AXIS_RADIUS = 3396.0 <km>
  CENTER_LATITUDE = 0.0
  CENTER_LONGITUDE = 317.0
  COORDINATE_SYSTEM_NAME = PLANETOGRAPHIC
  COORDINATE_SYSTEM_TYPE = "BODY-FIXED ROTATING"
  EASTERNMOST_LONGITUDE = 318.076
  FIRST_STANDARD_PARALLEL = "N/A"
  LINE_FIRST_PIXEL = 1
  LINE_LAST_PIXEL = 10682
  LINE_PROJECTION_OFFSET = -30308.875
  MAP_PROJECTION_ROTATION = 0.0
  MAP_PROJECTION_TYPE = SINUSOIDAL
  MAP_RESOLUTION = 1185.42760773333 <pixel/degree>
  MAP_SCALE = 0.05 <km/pixel>
  MAXIMUM_LATITUDE = -25.5762
  MINIMUM_LATITUDE = -34.608
  POSITIVE_LONGITUDE_DIRECTION = EAST
  REFERENCE_LATITUDE = "N/A"
  REFERENCE_LONGITUDE = "N/A"
  SAMPLE_FIRST_PIXEL = 1
  SAMPLE_LAST_PIXEL = 1522
  SAMPLE_PROJECTION_OFFSET = 366.375
  SECOND_STANDARD_PARALLEL = "N/A"
  WESTERNMOST_LONGITUDE = 316.62
END_OBJECT = IMAGE_MAP_PROJECTION
END
