PDS_VERSION_ID = PDS3
/* FILE DATA ELEMENTS */
RECORD_TYPE = UNDEFINED
/* POINTERS TO DATA OBJECTS */
^IMAGE = ("HK965_0000_ND4.TIF")
/* IDENTIFICATION DATA ELEMENTS */
DATA_SET_ID = "MEX-M-HRSC-4-REFDR-MAPPROJECT-EXT7-V4.0"
DATA_SET_NAME = "MARS EXPRESS HRSC MAP PROJECTED REFDR EXTENSION7 V4.0"
DETECTOR_ID = MEX_HRSC_NADIR
EVENT_TYPE = "MARS-REGIONAL-MAPPING-Fl-Gl-Pf"
INSTRUMENT_HOST_ID = MEX
INSTRUMENT_HOST_NAME = "MARS EXPRESS"
INSTRUMENT_ID = HRSC
INSTRUMENT_NAME = "HIGH RESOLUTION STEREO CAMERA"
MISSION_NAME = "MARS EXPRESS"
MISSION_PHASE_NAME = ME_Phase_43
PROCESSING_LEVEL_ID = 4
PRODUCT_CREATION_TIME = 2023-01-29T07:12:14.000Z
PRODUCT_ID = "HK965_0000_ND4.TIF"
RELEASE_ID = 0004
REVISION_ID = 0000
/* QUALITY DATA ELEMENTS */
DATA_QUALITY_ID = 1
DATA_QUALITY_DESC = "Data calculated based on original SPICE kernels"
/* TIME DATA ELEMENTS */
SPACECRAFT_CLOCK_START_COUNT = "1/0544392602.24057"
SPACECRAFT_CLOCK_STOP_COUNT = "1/0544392804.22453"
START_TIME = 2020-08-01T20:11:05.872Z
STOP_TIME = 2020-08-01T20:13:23.875Z
/* ORBITAL DATA ELEMENTS */
ASCENDING_NODE_LONGITUDE = 181.9
MAXIMUM_RESOLUTION = 0.0134
FOOTPRINT_POINT_LATITUDE = (-34.5786,-34.5757,-34.5722,-34.5693, -34.5645,-34.5642,-34.5633,-34.207, -33.8505,-33.494,-33.1375,-32.6917, -32.5134,-32.335,-32.1567,-31.9784, -31.7109,-31.5325,-31.3542,-31.1758, -30.9975,-30.8192,-30.6408,-30.4625, -30.1059,-29.7493,-29.3928,-29.0363, -28.6799,-28.3236,-28.0531,-27.8736, -27.6896,-27.5056,-27.3217,-27.0459, -26.7701,-26.5864,-26.4026,-26.2189, -26.0353,-25.8517,-25.6681,-25.5763, -25.5673,-25.569,-25.5699,-25.57, -25.5694,-25.5694,-25.5696,-25.7534, -25.9372,-26.1211,-26.305,-26.489, -26.6729,-26.857,-27.041,-27.2251, -27.4093,-27.5935,-27.7777,-28.0498, -28.3207,-28.4991,-28.6775,-28.8559, -29.0343,-29.2128,-29.3913,-29.5698, -29.7483,-29.9268,-30.1053,-30.3732, -30.5517,-30.7303,-30.9089,-31.0875, -31.2661,-31.4447,-31.6233,-31.8019, -31.9805,-32.1591,-32.3377,-32.6056, -32.7842,-32.9628,-33.1413,-33.3199, -33.4985,-33.6769,-33.8554,-34.034, -34.3018,-34.4802,-34.5695,-34.5786)
FOOTPRINT_POINT_LONGITUDE = (318.047,317.588,317.226,316.989, 316.655,316.641,316.624,316.633,316.642 ,316.65,316.658,316.667,316.671,316.674 ,316.677,316.681,316.686,316.689, 316.692,316.695,316.697,316.7,316.703, 316.706,316.711,316.715,316.72,316.724, 316.728,316.731,316.733,316.735,316.736 ,316.738,316.739,316.741,316.743, 316.744,316.745,316.746,316.747,316.747 ,316.748,316.749,316.749,317.102, 317.469,317.732,318.06,318.073,318.079, 318.079,318.079,318.078,318.078,318.078 ,318.078,318.078,318.079,318.079, 318.077,318.077,318.077,318.077,318.076 ,318.076,318.075,318.075,318.075, 318.075,318.074,318.074,318.073,318.073 ,318.073,318.072,318.072,318.071, 318.071,318.07,318.07,318.069,318.069, 318.069,318.069,318.068,318.067,318.065 ,318.065,318.064,318.063,318.063, 318.062,318.063,318.063,318.061,318.058 ,318.058,318.058,318.047)
ORBIT_NUMBER = 20965
ORBITAL_ECCENTRICITY = 0.577
ORBITAL_INCLINATION = 86.99
ORBITAL_SEMIMAJOR_AXIS = 8818.14
PERIAPSIS_ALTITUDE = 337.11
PERIAPSIS_ARGUMENT_ANGLE = 327.78
PERIAPSIS_TIME = 2020-08-01T20:11:43.000Z
SPACECRAFT_ORIENTATION = (0.0,1.0,0.0)
^MEX_ORIENTATION_DESC = "MEX_ORIENTATION_DESC.TXT"
SPACECRAFT_POINTING_MODE = NADIR
^MEX_POINTING_DESC = "MEX_POINTING_DESC.TXT"
RIGHT_ASCENSION = -1e+32
DECLINATION = -1e+32
OFFSET_ANGLE = -1e+32
SPACECRAFT_SOLAR_DISTANCE = 2.06654e+08
TARGET_NAME = MARS
/* CAMERA DATA ELEMENTS */
DETECTOR_TEMPERATURE = 17.7588
FOCAL_PLANE_TEMPERATURE = 8.3794
INST_CMPRS_NAME = "DISCRETE COSINE TRANSFORMATION (DCT)"
INST_CMPRS_RATIO = 5.5155
INST_CMPRS_QUALITY = 0
INST_CMPRS_QUANTZ_TBL_ID = 0
INSTRUMENT_TEMPERATURE = 11.0301
LENS_TEMPERATURE = 8.5833
MACROPIXEL_SIZE = 1
MISSING_FRAMES = 2
PIXEL_SUBSAMPLING_FLAG = N
SIGNAL_CHAIN_ID = 0
/* RADIOMETRIC DATA ELEMENTS */
BANDWIDTH = 177.0
CENTER_FILTER_WAVELENGTH = 677.5
RADIANCE_OFFSET = 3.42513
RADIANCE_SCALING_FACTOR = 0.00850686
REFLECTANCE_SCALING_FACTOR = 0.000192993
MEX:REFLECTANCE_OFFSET = 0.077705
/* IMAGE OBJECT DEFINITIONS */
OBJECT = IMAGE
  INTERCHANGE_FORMAT = BINARY
  LINES = 42727
  LINE_SAMPLES = 6085
  SAMPLE_TYPE = UNSIGNED_INTEGER
  SAMPLE_BITS = 8
  BANDS = 1
  BAND_STORAGE_TYPE = BAND_SEQUENTIAL
  MAXIMUM = 255
  MEAN = 121.715
  MINIMUM = 1
  STANDARD_DEVIATION = 33.7004
END_OBJECT = IMAGE
/* MAP OBJECT DEFINITIONS */
OBJECT = IMAGE_MAP_PROJECTION
  ^DATA_SET_MAP_PROJECTION_CATALOG= "DSMAP.CAT"
  A_AXIS_RADIUS = 3396.0
  B_AXIS_RADIUS = 3396.0
  C_AXIS_RADIUS = 3396.0
  CENTER_LATITUDE = 0.0
  CENTER_LONGITUDE = 317.0
  COORDINATE_SYSTEM_NAME = PLANETOGRAPHIC
  COORDINATE_SYSTEM_TYPE = "BODY-FIXED ROTATING"
  EASTERNMOST_LONGITUDE = 318.079
  FIRST_STANDARD_PARALLEL = "N/A"
  LINE_FIRST_PIXEL = 1
  LINE_LAST_PIXEL = 42727
  LINE_PROJECTION_OFFSET = -121234.0
  MAP_PROJECTION_ROTATION = 0.0
  MAP_PROJECTION_TYPE = SINUSOIDAL
  MAP_RESOLUTION = 4741.71043093333
  MAP_SCALE = 0.0125
  MAXIMUM_LATITUDE = -25.5673
  MINIMUM_LATITUDE = -34.5786
  POSITIVE_LONGITUDE_DIRECTION = EAST
  REFERENCE_LATITUDE = "N/A"
  REFERENCE_LONGITUDE = "N/A"
  SAMPLE_FIRST_PIXEL = 1
  SAMPLE_LAST_PIXEL = 6085
  SAMPLE_PROJECTION_OFFSET = 1467.0
  SECOND_STANDARD_PARALLEL = "N/A"
  WESTERNMOST_LONGITUDE = 316.624
END_OBJECT = IMAGE_MAP_PROJECTION
END
