PDS_VERSION_ID = PDS3
/* FILE DATA ELEMENTS */
RECORD_TYPE = UNDEFINED
/* POINTERS TO DATA OBJECTS */
^IMAGE = ("HK963_0000_IR4.TIF")
/* IDENTIFICATION DATA ELEMENTS */
DATA_SET_ID = "MEX-M-HRSC-4-REFDR-MAPPROJECT-EXT7-V4.0"
DATA_SET_NAME = "MARS EXPRESS HRSC MAP PROJECTED REFDR EXTENSION7 V4.0"
DETECTOR_ID = MEX_HRSC_IR
EVENT_TYPE = "MARS-REGIONAL-MAPPING-Im-Pf"
INSTRUMENT_HOST_ID = MEX
INSTRUMENT_HOST_NAME = "MARS EXPRESS"
INSTRUMENT_ID = HRSC
INSTRUMENT_NAME = "HIGH RESOLUTION STEREO CAMERA"
MISSION_NAME = "MARS EXPRESS"
MISSION_PHASE_NAME = ME_Phase_43
PROCESSING_LEVEL_ID = 4
PRODUCT_CREATION_TIME = 2023-01-29T07:12:14.000Z
PRODUCT_ID = "HK963_0000_IR4.TIF"
RELEASE_ID = 0004
REVISION_ID = 0000
/* QUALITY DATA ELEMENTS */
DATA_QUALITY_ID = 1
DATA_QUALITY_DESC = "Data calculated based on original SPICE kernels"
/* TIME DATA ELEMENTS */
SPACECRAFT_CLOCK_START_COUNT = "1/0544342009.24904"
SPACECRAFT_CLOCK_STOP_COUNT = "1/0544342256.31177"
START_TIME = 2020-08-01T06:08:42.418Z
STOP_TIME = 2020-08-01T06:11:22.180Z
/* ORBITAL DATA ELEMENTS */
ASCENDING_NODE_LONGITUDE = 181.93
MAXIMUM_RESOLUTION = 0.0602
FOOTPRINT_POINT_LATITUDE = (-53.5665,-53.5632,-53.5589,-53.5537, -53.5475,-53.5404,-53.5266,-53.5261, -53.5772,-53.3507,-53.1299,-52.919, -52.7,-52.4804,-52.2606,-51.9365, -51.7189,-51.3991,-51.1855,-50.866, -50.449,-50.2396,-50.0303,-49.8205, -49.6093,-49.3999,-49.1902,-48.8779, -48.6685,-48.4583,-48.143,-47.933, -47.7225,-47.5116,-47.3007,-47.09, -46.7738,-46.5629,-46.3513,-46.0386, -45.8219,-45.4973,-45.286,-45.0748, -44.657,-44.4429,-44.0692,-43.8034, -43.273,-43.185,-43.1659,-43.1661, -43.164,-43.1656,-43.1605,-43.1553, -43.1551,-43.1559,-43.6882,-43.9555, -44.3117,-44.5227,-44.7349,-45.0527, -45.2647,-45.4765,-45.6966,-45.9082, -46.2253,-46.439,-46.7574,-46.9675, -47.1787,-47.3903,-47.7074,-47.9189, -48.2361,-48.4475,-48.6584,-48.975, -49.1863,-49.3971,-49.6072,-49.9237, -50.2393,-50.4497,-50.8689,-51.082, -51.2973,-51.5125,-51.7282,-51.9438, -52.159,-52.4891,-52.7103,-52.9308, -53.1515,-53.483,-53.5963,-53.5665)
FOOTPRINT_POINT_LONGITUDE = (160.435,160.073,159.707,159.338, 158.965,158.589,157.97,157.946,157.853, 157.898,157.939,157.963,157.999,158.036 ,158.072,158.128,158.167,158.213, 158.244,158.29,158.348,158.377,158.406, 158.435,158.466,158.493,158.52,158.556, 158.582,158.608,158.646,158.671,158.695 ,158.72,158.745,158.768,158.804,158.826 ,158.85,158.878,158.908,158.94,158.961, 158.981,159.015,159.038,159.073,159.096 ,159.141,159.147,159.149,159.437, 159.826,160.138,160.549,160.903,160.919 ,160.924,160.906,160.897,160.884, 160.876,160.868,160.857,160.849,160.84, 160.832,160.824,160.811,160.802,160.788 ,160.78,160.771,160.761,160.747,160.738 ,160.723,160.713,160.703,160.688, 160.678,160.667,160.657,160.64,160.624, 160.613,160.59,160.578,160.566,160.554, 160.541,160.528,160.515,160.495,160.481 ,160.467,160.453,160.431,160.423, 160.435)
ORBIT_NUMBER = 20963
ORBITAL_ECCENTRICITY = 0.577
ORBITAL_INCLINATION = 86.98
ORBITAL_SEMIMAJOR_AXIS = 8819.53
PERIAPSIS_ALTITUDE = 337.67
PERIAPSIS_ARGUMENT_ANGLE = 328.13
PERIAPSIS_TIME = 2020-08-01T06:13:51.000Z
SPACECRAFT_ORIENTATION = (0.0,1.0,0.0)
^MEX_ORIENTATION_DESC = "MEX_ORIENTATION_DESC.TXT"
SPACECRAFT_POINTING_MODE = ACROSSTRACK
^MEX_POINTING_DESC = "MEX_POINTING_DESC.TXT"
RIGHT_ASCENSION = -1e+32
DECLINATION = -1e+32
OFFSET_ANGLE = 0.916
SPACECRAFT_SOLAR_DISTANCE = 2.06656e+08
TARGET_NAME = MARS
/* CAMERA DATA ELEMENTS */
DETECTOR_TEMPERATURE = 17.351
FOCAL_PLANE_TEMPERATURE = 8.1755
INST_CMPRS_NAME = "DISCRETE COSINE TRANSFORMATION (DCT)"
INST_CMPRS_RATIO = 7.35474
INST_CMPRS_QUALITY = 0
INST_CMPRS_QUANTZ_TBL_ID = 0
INSTRUMENT_TEMPERATURE = 11.234
LENS_TEMPERATURE = 8.7872
MACROPIXEL_SIZE = 4
MISSING_FRAMES = 1
PIXEL_SUBSAMPLING_FLAG = N
SIGNAL_CHAIN_ID = 2
/* RADIOMETRIC DATA ELEMENTS */
BANDWIDTH = 81.0
CENTER_FILTER_WAVELENGTH = 955.5
RADIANCE_OFFSET = 1.21899
RADIANCE_SCALING_FACTOR = 0.00323376
REFLECTANCE_SCALING_FACTOR = 0.000297943
MEX:REFLECTANCE_OFFSET = 0.112312
/* IMAGE OBJECT DEFINITIONS */
OBJECT = IMAGE
  INTERCHANGE_FORMAT = BINARY
  LINES = 12477
  LINE_SAMPLES = 2364
  SAMPLE_TYPE = UNSIGNED_INTEGER
  SAMPLE_BITS = 8
  BANDS = 1
  BAND_STORAGE_TYPE = BAND_SEQUENTIAL
  MAXIMUM = 255
  MEAN = 110.256
  MINIMUM = 1
  STANDARD_DEVIATION = 29.4145
END_OBJECT = IMAGE
/* MAP OBJECT DEFINITIONS */
OBJECT = IMAGE_MAP_PROJECTION
  ^DATA_SET_MAP_PROJECTION_CATALOG= "DSMAP.CAT"
  A_AXIS_RADIUS = 3396.0
  B_AXIS_RADIUS = 3396.0
  C_AXIS_RADIUS = 3396.0
  CENTER_LATITUDE = 0.0
  CENTER_LONGITUDE = 160.0
  COORDINATE_SYSTEM_NAME = PLANETOGRAPHIC
  COORDINATE_SYSTEM_TYPE = "BODY-FIXED ROTATING"
  EASTERNMOST_LONGITUDE = 160.924
  FIRST_STANDARD_PARALLEL = "N/A"
  LINE_FIRST_PIXEL = 1
  LINE_LAST_PIXEL = 12477
  LINE_PROJECTION_OFFSET = -51160.875
  MAP_PROJECTION_ROTATION = 0.0
  MAP_PROJECTION_TYPE = SINUSOIDAL
  MAP_RESOLUTION = 1185.42760773333
  MAP_SCALE = 0.05
  MAXIMUM_LATITUDE = -43.1551
  MINIMUM_LATITUDE = -53.5963
  POSITIVE_LONGITUDE_DIRECTION = EAST
  REFERENCE_LATITUDE = "N/A"
  REFERENCE_LONGITUDE = "N/A"
  SAMPLE_FIRST_PIXEL = 1
  SAMPLE_LAST_PIXEL = 2364
  SAMPLE_PROJECTION_OFFSET = 1549.625
  SECOND_STANDARD_PARALLEL = "N/A"
  WESTERNMOST_LONGITUDE = 157.853
END_OBJECT = IMAGE_MAP_PROJECTION
END
