PDS_VERSION_ID = PDS3
/* FILE DATA ELEMENTS */
RECORD_TYPE = UNDEFINED
/* POINTERS TO DATA OBJECTS */
^IMAGE = ("HK963_0000_BL4.TIF")
/* IDENTIFICATION DATA ELEMENTS */
DATA_SET_ID = "MEX-M-HRSC-4-REFDR-MAPPROJECT-EXT7-V4.0"
DATA_SET_NAME = "MARS EXPRESS HRSC MAP PROJECTED REFDR EXTENSION7 V4.0"
DETECTOR_ID = MEX_HRSC_BLUE
EVENT_TYPE = "MARS-REGIONAL-MAPPING-Im-Pf"
INSTRUMENT_HOST_ID = MEX
INSTRUMENT_HOST_NAME = "MARS EXPRESS"
INSTRUMENT_ID = HRSC
INSTRUMENT_NAME = "HIGH RESOLUTION STEREO CAMERA"
MISSION_NAME = "MARS EXPRESS"
MISSION_PHASE_NAME = ME_Phase_43
PROCESSING_LEVEL_ID = 4
PRODUCT_CREATION_TIME = 2023-01-29T07:12:14.000Z
PRODUCT_ID = "HK963_0000_BL4.TIF"
RELEASE_ID = 0004
REVISION_ID = 0000
/* QUALITY DATA ELEMENTS */
DATA_QUALITY_ID = 1
DATA_QUALITY_DESC = "Data calculated based on original SPICE kernels"
/* TIME DATA ELEMENTS */
SPACECRAFT_CLOCK_START_COUNT = "1/0544342009.24904"
SPACECRAFT_CLOCK_STOP_COUNT = "1/0544342256.31177"
START_TIME = 2020-08-01T06:08:01.163Z
STOP_TIME = 2020-08-01T06:10:48.591Z
/* ORBITAL DATA ELEMENTS */
ASCENDING_NODE_LONGITUDE = 181.93
MAXIMUM_RESOLUTION = 0.0593 <m/pixel>
FOOTPRINT_POINT_LATITUDE = (-53.6987,-53.6838,-53.6675,-53.6498, -53.6307,-53.61,-53.5731,-53.5716, -53.553,-53.3332,-53.1124,-52.8911, -52.6744,-52.4577,-52.2404,-51.9162, -51.7048,-51.4916,-51.2781,-51.0646, -50.8517,-50.643,-50.434,-50.225, -50.0157,-49.7032,-49.4993,-49.2942, -49.0894,-48.8835,-48.6779,-48.4733, -48.0724,-47.7712,-47.3694,-46.9666, -46.4622,-46.0569,-45.6531,-45.2473, -45.0441,-44.8403,-44.5348,-44.2291, -44.0254,-43.8211,-43.6164,-43.3098, -43.2075,-43.1531,-43.1662,-43.1799, -43.1946,-43.2096,-43.2228,-43.2233, -43.2245,-43.4301,-43.6354,-43.9431, -44.2503,-44.455,-44.6596,-44.8641, -45.0684,-45.2726,-45.4767,-45.6805, -45.8843,-46.2908,-46.4948,-46.7985, -47.2043,-47.7102,-48.114,-48.5172, -48.8251,-49.0314,-49.2378,-49.4439, -49.6499,-49.8555,-50.0663,-50.277, -50.4876,-50.6981,-50.9083,-51.2288, -51.4438,-51.6584,-51.8728,-52.0869, -52.3059,-52.6338,-52.8524,-53.0709, -53.2924,-53.5155,-53.6268,-53.6987)
FOOTPRINT_POINT_LONGITUDE = (160.489,160.109,159.725,159.339, 158.949,158.557,157.911,157.886,157.806 ,157.852,157.893,157.92,157.958,157.995 ,158.032,158.088,158.127,158.159, 158.191,158.223,158.254,158.285,158.314 ,158.345,158.374,158.42,158.45,158.476, 158.503,158.527,158.552,158.578,158.628 ,158.664,158.713,158.76,158.817,158.857 ,158.906,158.947,158.967,158.986, 159.014,159.043,159.063,159.081,159.098 ,159.125,159.134,159.138,159.43,159.741 ,160.127,160.529,160.923,160.94,160.945 ,160.939,160.932,160.923,160.912, 160.906,160.899,160.892,160.885,160.878 ,160.87,160.863,160.856,160.84,160.833, 160.821,160.805,160.785,160.768,160.751 ,160.737,160.728,160.719,160.71,160.7, 160.69,160.68,160.67,160.66,160.65, 160.639,160.623,160.612,160.6,160.589, 160.577,160.565,160.546,160.533,160.521 ,160.507,160.494,160.487,160.489)
ORBIT_NUMBER = 20963
ORBITAL_ECCENTRICITY = 0.577
ORBITAL_INCLINATION = 86.98
ORBITAL_SEMIMAJOR_AXIS = 8819.53
PERIAPSIS_ALTITUDE = 337.67
PERIAPSIS_ARGUMENT_ANGLE = 328.13
PERIAPSIS_TIME = 2020-08-01T06:13:51.000Z
SPACECRAFT_ORIENTATION = (0.0,1.0,0.0)
^MEX_ORIENTATION_DESC = "MEX_ORIENTATION_DESC.TXT"
SPACECRAFT_POINTING_MODE = ACROSSTRACK
^MEX_POINTING_DESC = "MEX_POINTING_DESC.TXT"
RIGHT_ASCENSION = -1e+32
DECLINATION = -1e+32
OFFSET_ANGLE = 0.916
SPACECRAFT_SOLAR_DISTANCE = 2.06656e+08
TARGET_NAME = MARS
/* CAMERA DATA ELEMENTS */
DETECTOR_TEMPERATURE = 17.9627 <degC>
FOCAL_PLANE_TEMPERATURE = 8.1755 <degC>
INST_CMPRS_NAME = "DISCRETE COSINE TRANSFORMATION (DCT)"
INST_CMPRS_RATIO = 8.97563
INST_CMPRS_QUALITY = 0
INST_CMPRS_QUANTZ_TBL_ID = 0
INSTRUMENT_TEMPERATURE = 11.234 <degC>
LENS_TEMPERATURE = 8.7872 <degC>
MACROPIXEL_SIZE = 4
MISSING_FRAMES = 0
PIXEL_SUBSAMPLING_FLAG = N
SIGNAL_CHAIN_ID = 2
/* RADIOMETRIC DATA ELEMENTS */
BANDWIDTH = 76.0 <nm>
CENTER_FILTER_WAVELENGTH = 444.0 <nm>
RADIANCE_OFFSET = 0.749518 <W*m**-2*sr**-1>
RADIANCE_SCALING_FACTOR = 0.00112473 <W*m**-2*sr**-1>
REFLECTANCE_SCALING_FACTOR = 4.93515e-05
MEX:REFLECTANCE_OFFSET = 0.0328878
/* IMAGE OBJECT DEFINITIONS */
OBJECT = IMAGE
  INTERCHANGE_FORMAT = BINARY
  LINES = 12477
  LINE_SAMPLES = 2364
  SAMPLE_TYPE = UNSIGNED_INTEGER
  SAMPLE_BITS = 8
  BANDS = 1
  BAND_STORAGE_TYPE = BAND_SEQUENTIAL
  MAXIMUM = 254
  MEAN = 138.91
  MINIMUM = 1
  STANDARD_DEVIATION = 24.8295
END_OBJECT = IMAGE
/* MAP OBJECT DEFINITIONS */
OBJECT = IMAGE_MAP_PROJECTION
  ^DATA_SET_MAP_PROJECTION_CATALOG= "DSMAP.CAT"
  A_AXIS_RADIUS = 3396.0 <km>
  B_AXIS_RADIUS = 3396.0 <km>
  C_AXIS_RADIUS = 3396.0 <km>
  CENTER_LATITUDE = 0.0
  CENTER_LONGITUDE = 160.0
  COORDINATE_SYSTEM_NAME = PLANETOGRAPHIC
  COORDINATE_SYSTEM_TYPE = "BODY-FIXED ROTATING"
  EASTERNMOST_LONGITUDE = 160.945
  FIRST_STANDARD_PARALLEL = "N/A"
  LINE_FIRST_PIXEL = 1
  LINE_LAST_PIXEL = 12477
  LINE_PROJECTION_OFFSET = -51160.875
  MAP_PROJECTION_ROTATION = 0.0
  MAP_PROJECTION_TYPE = SINUSOIDAL
  MAP_RESOLUTION = 1185.42760773333 <pixel/degree>
  MAP_SCALE = 0.05 <km/pixel>
  MAXIMUM_LATITUDE = -43.1531
  MINIMUM_LATITUDE = -53.6987
  POSITIVE_LONGITUDE_DIRECTION = EAST
  REFERENCE_LATITUDE = "N/A"
  REFERENCE_LONGITUDE = "N/A"
  SAMPLE_FIRST_PIXEL = 1
  SAMPLE_LAST_PIXEL = 2364
  SAMPLE_PROJECTION_OFFSET = 1549.625
  SECOND_STANDARD_PARALLEL = "N/A"
  WESTERNMOST_LONGITUDE = 157.806
END_OBJECT = IMAGE_MAP_PROJECTION
END
