PDS_VERSION_ID = PDS3
/* FILE DATA ELEMENTS */
RECORD_TYPE = UNDEFINED
/* POINTERS TO DATA OBJECTS */
^IMAGE = ("HK956_0000_IR4.TIF")
/* IDENTIFICATION DATA ELEMENTS */
DATA_SET_ID = "MEX-M-HRSC-4-REFDR-MAPPROJECT-EXT7-V4.0"
DATA_SET_NAME = "MARS EXPRESS HRSC MAP PROJECTED REFDR EXTENSION7 V4.0"
DETECTOR_ID = MEX_HRSC_IR
EVENT_TYPE = "MARS-REGIONAL-MAPPING-Te-Fl-Mw"
INSTRUMENT_HOST_ID = MEX
INSTRUMENT_HOST_NAME = "MARS EXPRESS"
INSTRUMENT_ID = HRSC
INSTRUMENT_NAME = "HIGH RESOLUTION STEREO CAMERA"
MISSION_NAME = "MARS EXPRESS"
MISSION_PHASE_NAME = ME_Phase_43
PROCESSING_LEVEL_ID = 4
PRODUCT_CREATION_TIME = 2023-01-29T07:12:14.000Z
PRODUCT_ID = "HK956_0000_IR4.TIF"
RELEASE_ID = 0004
REVISION_ID = 0000
/* QUALITY DATA ELEMENTS */
DATA_QUALITY_ID = 1
DATA_QUALITY_DESC = "Data calculated based on original SPICE kernels"
/* TIME DATA ELEMENTS */
SPACECRAFT_CLOCK_START_COUNT = "1/0544166587.25687"
SPACECRAFT_CLOCK_STOP_COUNT = "1/0544166837.55741"
START_TIME = 2020-07-30T05:24:41.089Z
STOP_TIME = 2020-07-30T05:27:40.525Z
/* ORBITAL DATA ELEMENTS */
ASCENDING_NODE_LONGITUDE = 182.06
MAXIMUM_RESOLUTION = 0.0629
FOOTPRINT_POINT_LATITUDE = (-18.1042,-18.1071,-18.1097,-18.1117, -18.1118,-18.1132,-17.9018,-17.6904, -17.4801,-17.0633,-16.8531,-16.6411, -16.3248,-15.9139,-15.705,-15.4951, -15.2814,-15.0691,-14.6607,-14.3498, -14.142,-13.7298,-13.3224,-13.1114, -12.9021,-12.5907,-12.3799,-12.1699, -11.9568,-11.742,-11.5278,-11.3145, -11.1018,-10.7835,-10.5658,-10.3446, -10.0195,-9.79856,-9.57909,-9.35865, -9.13799,-8.91307,-8.68828,-8.46393, -8.24005,-8.01296,-7.78367,-7.55682, -7.44259,-7.38538,-7.38234,-7.37851, -7.37473,-7.37142,-7.36773,-7.36482, -7.36465,-7.36565,-7.708,-7.93655, -8.16453,-8.38897,-8.61386,-8.83904, -9.06421,-9.28465,-9.61533,-9.83672, -10.0555,-10.2714,-10.4882,-10.7069, -11.0346,-11.2487,-11.4617,-11.6775, -11.9967,-12.2105,-12.4206,-12.7347, -12.9454,-13.2613,-13.5697,-14.0814, -14.4944,-14.9091,-15.1172,-15.4289, -15.7425,-15.953,-16.2659,-16.4748, -16.6847,-16.8975,-17.1109,-17.5285, -17.7387,-17.9506,-18.0563,-18.1042)
FOOTPRINT_POINT_LONGITUDE = (157.175,156.673,156.197,155.81,155.797 ,155.793,155.791,155.788,155.785, 155.778,155.775,155.772,155.768,155.759 ,155.756,155.753,155.751,155.749,155.74 ,155.734,155.73,155.722,155.712,155.709 ,155.704,155.695,155.691,155.687, 155.682,155.677,155.672,155.667,155.661 ,155.651,155.645,155.641,155.632, 155.626,155.619,155.613,155.607,155.601 ,155.594,155.587,155.58,155.573,155.567 ,155.559,155.555,155.554,155.786, 156.051,156.316,156.581,156.924,157.204 ,157.22,157.225,157.223,157.221,157.219 ,157.218,157.216,157.215,157.214, 157.212,157.21,157.209,157.207,157.205, 157.204,157.203,157.202,157.201,157.2, 157.199,157.197,157.197,157.196,157.195 ,157.194,157.193,157.191,157.188, 157.186,157.185,157.184,157.183,157.182 ,157.183,157.181,157.18,157.18,157.18, 157.181,157.178,157.177,157.177,157.177 ,157.175)
ORBIT_NUMBER = 20956
ORBITAL_ECCENTRICITY = 0.577
ORBITAL_INCLINATION = 86.97
ORBITAL_SEMIMAJOR_AXIS = 8822.12
PERIAPSIS_ALTITUDE = 338.03
PERIAPSIS_ARGUMENT_ANGLE = 329.34
PERIAPSIS_TIME = 2020-07-30T05:21:01.000Z
SPACECRAFT_ORIENTATION = (0.0,1.0,0.0)
^MEX_ORIENTATION_DESC = "MEX_ORIENTATION_DESC.TXT"
SPACECRAFT_POINTING_MODE = NADIR
^MEX_POINTING_DESC = "MEX_POINTING_DESC.TXT"
RIGHT_ASCENSION = -1e+32
DECLINATION = -1e+32
OFFSET_ANGLE = -1e+32
SPACECRAFT_SOLAR_DISTANCE = 2.0667e+08
TARGET_NAME = MARS
/* CAMERA DATA ELEMENTS */
DETECTOR_TEMPERATURE = 16.9432
FOCAL_PLANE_TEMPERATURE = 7.9716
INST_CMPRS_NAME = "DISCRETE COSINE TRANSFORMATION (DCT)"
INST_CMPRS_RATIO = 9.6395
INST_CMPRS_QUALITY = 0
INST_CMPRS_QUANTZ_TBL_ID = 0
INSTRUMENT_TEMPERATURE = 10.8262
LENS_TEMPERATURE = 8.9911
MACROPIXEL_SIZE = 4
MISSING_FRAMES = 0
PIXEL_SUBSAMPLING_FLAG = N
SIGNAL_CHAIN_ID = 2
/* RADIOMETRIC DATA ELEMENTS */
BANDWIDTH = 81.0
CENTER_FILTER_WAVELENGTH = 955.5
RADIANCE_OFFSET = 0.940392
RADIANCE_SCALING_FACTOR = 0.00409757
REFLECTANCE_SCALING_FACTOR = 0.000377579
MEX:REFLECTANCE_OFFSET = 0.0866544
/* IMAGE OBJECT DEFINITIONS */
OBJECT = IMAGE
  INTERCHANGE_FORMAT = BINARY
  LINES = 12789
  LINE_SAMPLES = 1866
  SAMPLE_TYPE = UNSIGNED_INTEGER
  SAMPLE_BITS = 8
  BANDS = 1
  BAND_STORAGE_TYPE = BAND_SEQUENTIAL
  MAXIMUM = 255
  MEAN = 113.126
  MINIMUM = 1
  STANDARD_DEVIATION = 27.4301
END_OBJECT = IMAGE
/* MAP OBJECT DEFINITIONS */
OBJECT = IMAGE_MAP_PROJECTION
  ^DATA_SET_MAP_PROJECTION_CATALOG= "DSMAP.CAT"
  A_AXIS_RADIUS = 3396.0
  B_AXIS_RADIUS = 3396.0
  C_AXIS_RADIUS = 3396.0
  CENTER_LATITUDE = 0.0
  CENTER_LONGITUDE = 156.0
  COORDINATE_SYSTEM_NAME = PLANETOGRAPHIC
  COORDINATE_SYSTEM_TYPE = "BODY-FIXED ROTATING"
  EASTERNMOST_LONGITUDE = 157.225
  FIRST_STANDARD_PARALLEL = "N/A"
  LINE_FIRST_PIXEL = 1
  LINE_LAST_PIXEL = 12789
  LINE_PROJECTION_OFFSET = -8701.375
  MAP_PROJECTION_ROTATION = 0.0
  MAP_PROJECTION_TYPE = SINUSOIDAL
  MAP_RESOLUTION = 1185.42760773333
  MAP_SCALE = 0.05
  MAXIMUM_LATITUDE = -7.36465
  MINIMUM_LATITUDE = -18.1132
  POSITIVE_LONGITUDE_DIRECTION = EAST
  REFERENCE_LATITUDE = "N/A"
  REFERENCE_LONGITUDE = "N/A"
  SAMPLE_FIRST_PIXEL = 1
  SAMPLE_LAST_PIXEL = 1866
  SAMPLE_PROJECTION_OFFSET = 480.125
  SECOND_STANDARD_PARALLEL = "N/A"
  WESTERNMOST_LONGITUDE = 155.554
END_OBJECT = IMAGE_MAP_PROJECTION
END
