PDS_VERSION_ID = PDS3
/* FILE DATA ELEMENTS */
RECORD_TYPE = UNDEFINED
/* POINTERS TO DATA OBJECTS */
^IMAGE = ("HK955_0000_S14.TIF")
/* IDENTIFICATION DATA ELEMENTS */
DATA_SET_ID = "MEX-M-HRSC-4-REFDR-MAPPROJECT-EXT7-V4.0"
DATA_SET_NAME = "MARS EXPRESS HRSC MAP PROJECTED REFDR EXTENSION7 V4.0"
DETECTOR_ID = MEX_HRSC_S1
EVENT_TYPE = "MARS-REGIONAL-MAPPING-Te-Fl-Gl"
INSTRUMENT_HOST_ID = MEX
INSTRUMENT_HOST_NAME = "MARS EXPRESS"
INSTRUMENT_ID = HRSC
INSTRUMENT_NAME = "HIGH RESOLUTION STEREO CAMERA"
MISSION_NAME = "MARS EXPRESS"
MISSION_PHASE_NAME = ME_Phase_43
PROCESSING_LEVEL_ID = 4
PRODUCT_CREATION_TIME = 2023-01-29T07:12:14.000Z
PRODUCT_ID = "HK955_0000_S14.TIF"
RELEASE_ID = 0004
REVISION_ID = 0000
/* QUALITY DATA ELEMENTS */
DATA_QUALITY_ID = 1
DATA_QUALITY_DESC = "Data calculated based on original SPICE kernels"
/* TIME DATA ELEMENTS */
SPACECRAFT_CLOCK_START_COUNT = "1/0544141133.24885"
SPACECRAFT_CLOCK_STOP_COUNT = "1/0544141311.50079"
START_TIME = 2020-07-29T22:20:30.498Z
STOP_TIME = 2020-07-29T22:22:22.602Z
/* ORBITAL DATA ELEMENTS */
ASCENDING_NODE_LONGITUDE = 182.08
MAXIMUM_RESOLUTION = 0.028
FOOTPRINT_POINT_LATITUDE = (-38.2581,-38.2621,-38.2658,-38.2693, -38.2725,-38.2755,-38.2791,-38.2793, -38.2917,-38.1394,-37.9878,-37.8391, -37.6177,-37.4688,-37.3194,-37.1702, -37.0213,-36.872,-36.7238,-36.5753, -36.427,-36.278,-36.1292,-35.9057, -35.7549,-35.6041,-35.4556,-35.3055, -35.0174,-34.8676,-34.7153,-34.5675, -34.419,-34.2702,-34.122,-33.9733, -33.8249,-33.677,-33.5289,-33.3803, -33.1559,-33.0076,-32.8614,-32.7178, -32.3599,-32.0766,-31.7906,-31.6467, -31.2883,-31.0096,-30.9384,-30.9375, -30.929,-30.9153,-30.9072,-30.8961, -30.8905,-30.8901,-30.8904,-31.0349, -31.3192,-31.6064,-31.8181,-31.9643, -32.1805,-32.3974,-32.6823,-33.0463, -33.1944,-33.341,-33.5612,-33.7849, -33.937,-34.0888,-34.3161,-34.4648, -34.614,-34.7635,-34.9877,-35.1363, -35.2857,-35.4349,-35.6586,-35.882, -36.0321,-36.1822,-36.3312,-36.4812, -36.7065,-36.8561,-37.0052,-37.1561, -37.307,-37.4575,-37.6068,-37.7559, -37.9771,-38.1999,-38.2747,-38.2581)
FOOTPRINT_POINT_LONGITUDE = (258.398,258.165,257.931,257.694, 257.455,257.215,256.88,256.864,256.848, 256.859,256.869,256.876,256.885,256.893 ,256.9,256.907,256.915,256.922,256.928, 256.935,256.941,256.948,256.954,256.964 ,256.972,256.98,256.986,256.994,256.998 ,257.005,257.014,257.019,257.024,257.03 ,257.035,257.041,257.046,257.051, 257.056,257.062,257.071,257.076,257.081 ,257.085,257.096,257.103,257.111, 257.116,257.127,257.129,257.131,257.131 ,257.458,257.664,257.969,258.297, 258.491,258.503,258.508,258.506,258.503 ,258.499,258.497,258.495,258.492, 258.489,258.486,258.481,258.479,258.477 ,258.474,258.471,258.469,258.466, 258.463,258.461,258.459,258.456,258.453 ,258.451,258.448,258.446,258.442, 258.439,258.436,258.434,258.431,258.429 ,258.425,258.423,258.42,258.417,258.415 ,258.412,258.409,258.407,258.403, 258.399,258.397,258.398)
ORBIT_NUMBER = 20955
ORBITAL_ECCENTRICITY = 0.578
ORBITAL_INCLINATION = 86.96
ORBITAL_SEMIMAJOR_AXIS = 8830.99
PERIAPSIS_ALTITUDE = 337.05
PERIAPSIS_ARGUMENT_ANGLE = 329.47
PERIAPSIS_TIME = 2020-07-29T22:22:00.000Z
SPACECRAFT_ORIENTATION = (0.0,1.0,0.0)
^MEX_ORIENTATION_DESC = "MEX_ORIENTATION_DESC.TXT"
SPACECRAFT_POINTING_MODE = ACROSSTRACK
^MEX_POINTING_DESC = "MEX_POINTING_DESC.TXT"
RIGHT_ASCENSION = -1e+32
DECLINATION = -1e+32
OFFSET_ANGLE = 0.65
SPACECRAFT_SOLAR_DISTANCE = 2.06673e+08
TARGET_NAME = MARS
/* CAMERA DATA ELEMENTS */
DETECTOR_TEMPERATURE = 17.1471
FOCAL_PLANE_TEMPERATURE = 8.1755
INST_CMPRS_NAME = "DISCRETE COSINE TRANSFORMATION (DCT)"
INST_CMPRS_RATIO = 6.99254
INST_CMPRS_QUALITY = 0
INST_CMPRS_QUANTZ_TBL_ID = 0
INSTRUMENT_TEMPERATURE = 11.234
LENS_TEMPERATURE = 9.195
MACROPIXEL_SIZE = 2
MISSING_FRAMES = 0
PIXEL_SUBSAMPLING_FLAG = N
SIGNAL_CHAIN_ID = 1
/* RADIOMETRIC DATA ELEMENTS */
BANDWIDTH = 180.0
CENTER_FILTER_WAVELENGTH = 677.0
RADIANCE_OFFSET = 3.86414
RADIANCE_SCALING_FACTOR = 0.0188495
REFLECTANCE_SCALING_FACTOR = 0.000420056
MEX:REFLECTANCE_OFFSET = 0.0861115
/* IMAGE OBJECT DEFINITIONS */
OBJECT = IMAGE
  INTERCHANGE_FORMAT = BINARY
  LINES = 17485
  LINE_SAMPLES = 3192
  SAMPLE_TYPE = UNSIGNED_INTEGER
  SAMPLE_BITS = 8
  BANDS = 1
  BAND_STORAGE_TYPE = BAND_SEQUENTIAL
  MAXIMUM = 255
  MEAN = 110.197
  MINIMUM = 1
  STANDARD_DEVIATION = 25.1631
END_OBJECT = IMAGE
/* MAP OBJECT DEFINITIONS */
OBJECT = IMAGE_MAP_PROJECTION
  ^DATA_SET_MAP_PROJECTION_CATALOG= "DSMAP.CAT"
  A_AXIS_RADIUS = 3396.0
  B_AXIS_RADIUS = 3396.0
  C_AXIS_RADIUS = 3396.0
  CENTER_LATITUDE = 0.0
  CENTER_LONGITUDE = 258.0
  COORDINATE_SYSTEM_NAME = PLANETOGRAPHIC
  COORDINATE_SYSTEM_TYPE = "BODY-FIXED ROTATING"
  EASTERNMOST_LONGITUDE = 258.508
  FIRST_STANDARD_PARALLEL = "N/A"
  LINE_FIRST_PIXEL = 1
  LINE_LAST_PIXEL = 17485
  LINE_PROJECTION_OFFSET = -73377.75
  MAP_PROJECTION_ROTATION = 0.0
  MAP_PROJECTION_TYPE = SINUSOIDAL
  MAP_RESOLUTION = 2370.85521546667
  MAP_SCALE = 0.025
  MAXIMUM_LATITUDE = -30.8901
  MINIMUM_LATITUDE = -38.2917
  POSITIVE_LONGITUDE_DIRECTION = EAST
  REFERENCE_LATITUDE = "N/A"
  REFERENCE_LONGITUDE = "N/A"
  SAMPLE_FIRST_PIXEL = 1
  SAMPLE_LAST_PIXEL = 3192
  SAMPLE_PROJECTION_OFFSET = 2163.25
  SECOND_STANDARD_PARALLEL = "N/A"
  WESTERNMOST_LONGITUDE = 256.848
END_OBJECT = IMAGE_MAP_PROJECTION
END
