PDS_VERSION_ID = PDS3
/* FILE DATA ELEMENTS */
RECORD_TYPE = UNDEFINED
/* POINTERS TO DATA OBJECTS */
^IMAGE = ("HK955_0000_ND4.TIF")
/* IDENTIFICATION DATA ELEMENTS */
DATA_SET_ID = "MEX-M-HRSC-4-REFDR-MAPPROJECT-EXT7-V4.0"
DATA_SET_NAME = "MARS EXPRESS HRSC MAP PROJECTED REFDR EXTENSION7 V4.0"
DETECTOR_ID = MEX_HRSC_NADIR
EVENT_TYPE = "MARS-REGIONAL-MAPPING-Te-Fl-Gl"
INSTRUMENT_HOST_ID = MEX
INSTRUMENT_HOST_NAME = "MARS EXPRESS"
INSTRUMENT_ID = HRSC
INSTRUMENT_NAME = "HIGH RESOLUTION STEREO CAMERA"
MISSION_NAME = "MARS EXPRESS"
MISSION_PHASE_NAME = ME_Phase_43
PROCESSING_LEVEL_ID = 4
PRODUCT_CREATION_TIME = 2023-01-29T07:12:14.000Z
PRODUCT_ID = "HK955_0000_ND4.TIF"
RELEASE_ID = 0004
REVISION_ID = 0000
/* QUALITY DATA ELEMENTS */
DATA_QUALITY_ID = 1
DATA_QUALITY_DESC = "Data calculated based on original SPICE kernels"
/* TIME DATA ELEMENTS */
SPACECRAFT_CLOCK_START_COUNT = "1/0544141133.24885"
SPACECRAFT_CLOCK_STOP_COUNT = "1/0544141311.50079"
START_TIME = 2020-07-29T22:19:59.256Z
STOP_TIME = 2020-07-29T22:21:52.242Z
/* ORBITAL DATA ELEMENTS */
ASCENDING_NODE_LONGITUDE = 182.08
MAXIMUM_RESOLUTION = 0.0132
FOOTPRINT_POINT_LATITUDE = (-38.3248,-38.3209,-38.3164,-38.3114, -38.3058,-38.2997,-38.2911,-38.2907, -38.2897,-37.9984,-37.7066,-37.4146, -37.1226,-36.8304,-36.538,-36.2455, -35.8797,-35.5139,-35.3675,-35.221, -35.0742,-34.8544,-34.708,-34.5614, -34.4148,-34.2681,-34.1215,-33.9748, -33.8281,-33.6813,-33.5345,-33.3145, -33.1677,-33.0208,-32.874,-32.7272, -32.5803,-32.4334,-32.2865,-32.1395, -31.9926,-31.7722,-31.5518,-31.3314, -31.1842,-31.0372,-30.9637,-30.9495, -30.9532,-30.9584,-30.962,-30.9644, -30.9663,-30.9682,-30.9684,-30.9686, -31.1159,-31.2632,-31.4104,-31.5576, -31.7049,-31.8521,-32.0729,-32.2201, -32.3672,-32.5144,-32.7352,-32.8823, -33.0294,-33.1765,-33.3237,-33.4708, -33.6914,-33.8384,-34.0589,-34.2058, -34.3527,-34.4996,-34.6465,-34.7934, -34.9403,-35.0872,-35.234,-35.3808, -35.5275,-35.6743,-35.821,-35.9677, -36.1143,-36.3343,-36.4809,-36.6274, -36.8472,-37.0669,-37.3596,-37.6523, -37.9449,-38.2373,-38.3104,-38.3248)
FOOTPRINT_POINT_LONGITUDE = (258.408,258.168,257.925,257.681, 257.435,257.187,256.873,256.857,256.839 ,256.859,256.873,256.888,256.903, 256.917,256.93,256.944,256.961,256.98, 256.987,256.993,256.994,257.001,257.011 ,257.017,257.023,257.029,257.034,257.04 ,257.045,257.051,257.056,257.066, 257.071,257.076,257.081,257.086,257.091 ,257.096,257.1,257.104,257.108,257.114, 257.123,257.13,257.129,257.132,257.134, 257.135,257.342,257.648,257.904,258.104 ,258.276,258.486,258.499,258.506, 258.504,258.503,258.501,258.5,258.498, 258.496,258.494,258.492,258.49,258.489, 258.486,258.485,258.483,258.481,258.48, 258.478,258.475,258.473,258.47,258.468, 258.466,258.464,258.463,258.461,258.459 ,258.457,258.455,258.453,258.451, 258.448,258.446,258.444,258.442,258.439 ,258.437,258.434,258.431,258.428, 258.423,258.418,258.414,258.409,258.408 ,258.408)
ORBIT_NUMBER = 20955
ORBITAL_ECCENTRICITY = 0.578
ORBITAL_INCLINATION = 86.96
ORBITAL_SEMIMAJOR_AXIS = 8830.99
PERIAPSIS_ALTITUDE = 337.05
PERIAPSIS_ARGUMENT_ANGLE = 329.47
PERIAPSIS_TIME = 2020-07-29T22:22:00.000Z
SPACECRAFT_ORIENTATION = (0.0,1.0,0.0)
^MEX_ORIENTATION_DESC = "MEX_ORIENTATION_DESC.TXT"
SPACECRAFT_POINTING_MODE = ACROSSTRACK
^MEX_POINTING_DESC = "MEX_POINTING_DESC.TXT"
RIGHT_ASCENSION = -1e+32
DECLINATION = -1e+32
OFFSET_ANGLE = 0.65
SPACECRAFT_SOLAR_DISTANCE = 2.06673e+08
TARGET_NAME = MARS
/* CAMERA DATA ELEMENTS */
DETECTOR_TEMPERATURE = 18.3705
FOCAL_PLANE_TEMPERATURE = 8.1755
INST_CMPRS_NAME = "DISCRETE COSINE TRANSFORMATION (DCT)"
INST_CMPRS_RATIO = 5.53596
INST_CMPRS_QUALITY = 0
INST_CMPRS_QUANTZ_TBL_ID = 0
INSTRUMENT_TEMPERATURE = 11.234
LENS_TEMPERATURE = 9.195
MACROPIXEL_SIZE = 1
MISSING_FRAMES = 0
PIXEL_SUBSAMPLING_FLAG = N
SIGNAL_CHAIN_ID = 0
/* RADIOMETRIC DATA ELEMENTS */
BANDWIDTH = 177.0
CENTER_FILTER_WAVELENGTH = 677.5
RADIANCE_OFFSET = 3.09448
RADIANCE_SCALING_FACTOR = 0.0187717
REFLECTANCE_SCALING_FACTOR = 0.000425945
MEX:REFLECTANCE_OFFSET = 0.0702163
/* IMAGE OBJECT DEFINITIONS */
OBJECT = IMAGE
  INTERCHANGE_FORMAT = BINARY
  LINES = 34970
  LINE_SAMPLES = 6384
  SAMPLE_TYPE = UNSIGNED_INTEGER
  SAMPLE_BITS = 8
  BANDS = 1
  BAND_STORAGE_TYPE = BAND_SEQUENTIAL
  MAXIMUM = 255
  MEAN = 105.81
  MINIMUM = 1
  STANDARD_DEVIATION = 24.0679
END_OBJECT = IMAGE
/* MAP OBJECT DEFINITIONS */
OBJECT = IMAGE_MAP_PROJECTION
  ^DATA_SET_MAP_PROJECTION_CATALOG= "DSMAP.CAT"
  A_AXIS_RADIUS = 3396.0
  B_AXIS_RADIUS = 3396.0
  C_AXIS_RADIUS = 3396.0
  CENTER_LATITUDE = 0.0
  CENTER_LONGITUDE = 258.0
  COORDINATE_SYSTEM_NAME = PLANETOGRAPHIC
  COORDINATE_SYSTEM_TYPE = "BODY-FIXED ROTATING"
  EASTERNMOST_LONGITUDE = 258.506
  FIRST_STANDARD_PARALLEL = "N/A"
  LINE_FIRST_PIXEL = 1
  LINE_LAST_PIXEL = 34970
  LINE_PROJECTION_OFFSET = -146755.0
  MAP_PROJECTION_ROTATION = 0.0
  MAP_PROJECTION_TYPE = SINUSOIDAL
  MAP_RESOLUTION = 4741.71043093333
  MAP_SCALE = 0.0125
  MAXIMUM_LATITUDE = -30.9495
  MINIMUM_LATITUDE = -38.3248
  POSITIVE_LONGITUDE_DIRECTION = EAST
  REFERENCE_LATITUDE = "N/A"
  REFERENCE_LONGITUDE = "N/A"
  SAMPLE_FIRST_PIXEL = 1
  SAMPLE_LAST_PIXEL = 6384
  SAMPLE_PROJECTION_OFFSET = 4327.0
  SECOND_STANDARD_PARALLEL = "N/A"
  WESTERNMOST_LONGITUDE = 256.839
END_OBJECT = IMAGE_MAP_PROJECTION
END
