PDS_VERSION_ID = PDS3
/* FILE DATA ELEMENTS */
RECORD_TYPE = UNDEFINED
/* POINTERS TO DATA OBJECTS */
^IMAGE = ("HK955_0000_BL4.TIF")
/* IDENTIFICATION DATA ELEMENTS */
DATA_SET_ID = "MEX-M-HRSC-4-REFDR-MAPPROJECT-EXT7-V4.0"
DATA_SET_NAME = "MARS EXPRESS HRSC MAP PROJECTED REFDR EXTENSION7 V4.0"
DETECTOR_ID = MEX_HRSC_BLUE
EVENT_TYPE = "MARS-REGIONAL-MAPPING-Te-Fl-Gl"
INSTRUMENT_HOST_ID = MEX
INSTRUMENT_HOST_NAME = "MARS EXPRESS"
INSTRUMENT_ID = HRSC
INSTRUMENT_NAME = "HIGH RESOLUTION STEREO CAMERA"
MISSION_NAME = "MARS EXPRESS"
MISSION_PHASE_NAME = ME_Phase_43
PROCESSING_LEVEL_ID = 4
PRODUCT_CREATION_TIME = 2023-01-29T07:12:14.000Z
PRODUCT_ID = "HK955_0000_BL4.TIF"
RELEASE_ID = 0004
REVISION_ID = 0000
/* QUALITY DATA ELEMENTS */
DATA_QUALITY_ID = 1
DATA_QUALITY_DESC = "Data calculated based on original SPICE kernels"
/* TIME DATA ELEMENTS */
SPACECRAFT_CLOCK_START_COUNT = "1/0544141133.24885"
SPACECRAFT_CLOCK_STOP_COUNT = "1/0544141311.50079"
START_TIME = 2020-07-29T22:19:53.775Z
STOP_TIME = 2020-07-29T22:21:46.989Z
/* ORBITAL DATA ELEMENTS */
ASCENDING_NODE_LONGITUDE = 182.08
MAXIMUM_RESOLUTION = 0.0528
FOOTPRINT_POINT_LATITUDE = (-38.3407,-38.3357,-38.3301,-38.3241, -38.3175,-38.3103,-38.2975,-38.297, -38.2934,-37.9326,-37.5699,-37.2801, -37.0626,-36.7722,-36.5543,-36.4089, -36.2636,-36.1183,-35.9729,-35.7554, -35.6102,-35.4645,-35.3193,-35.0997, -34.953,-34.6627,-34.5169,-34.2982, -34.0794,-33.9336,-33.7876,-33.5686, -33.4227,-33.277,-33.1309,-32.9847, -32.8386,-32.6925,-32.5464,-32.4001, -32.1807,-32.0339,-31.8877,-31.7414, -31.5224,-31.3762,-31.229,-31.0819, -31.0086,-30.9587,-30.9642,-30.9738, -30.9798,-30.9845,-30.9884,-30.9886, -30.9895,-31.1363,-31.2833,-31.5029, -31.7233,-31.8701,-32.0891,-32.2353, -32.3818,-32.5285,-32.6751,-32.8216, -32.9681,-33.1145,-33.2611,-33.4077, -33.6276,-33.7739,-33.9197,-34.1385, -34.4295,-34.5755,-34.7216,-34.8674, -35.0135,-35.1595,-35.3054,-35.5241, -35.6699,-35.8158,-36.0343,-36.1799, -36.3984,-36.6165,-36.7619,-36.9076, -37.1979,-37.3432,-37.6336,-37.7795, -37.9248,-38.2153,-38.2878,-38.3407)
FOOTPRINT_POINT_LONGITUDE = (258.411,258.184,257.955,257.725, 257.493,257.259,256.875,256.86,256.847, 256.87,256.887,256.903,256.914,256.927, 256.937,256.944,256.951,256.958,256.964 ,256.977,256.984,256.99,256.997,257.003 ,257.005,257.021,257.027,257.035, 257.044,257.05,257.055,257.063,257.069, 257.075,257.08,257.085,257.09,257.095, 257.1,257.105,257.112,257.115,257.119, 257.124,257.132,257.137,257.138,257.14, 257.142,257.143,257.363,257.702,257.992 ,258.218,258.489,258.502,258.506, 258.504,258.503,258.501,258.498,258.497 ,258.494,258.493,258.491,258.49,258.488 ,258.486,258.485,258.483,258.481,258.48 ,258.477,258.475,258.474,258.471, 258.467,258.465,258.463,258.461,258.459 ,258.457,258.455,258.452,258.45,258.448 ,258.445,258.443,258.44,258.437,258.435 ,258.433,258.428,258.426,258.421, 258.419,258.417,258.412,258.411, 258.411)
ORBIT_NUMBER = 20955
ORBITAL_ECCENTRICITY = 0.578
ORBITAL_INCLINATION = 86.96
ORBITAL_SEMIMAJOR_AXIS = 8830.99
PERIAPSIS_ALTITUDE = 337.05
PERIAPSIS_ARGUMENT_ANGLE = 329.47
PERIAPSIS_TIME = 2020-07-29T22:22:00.000Z
SPACECRAFT_ORIENTATION = (0.0,1.0,0.0)
^MEX_ORIENTATION_DESC = "MEX_ORIENTATION_DESC.TXT"
SPACECRAFT_POINTING_MODE = ACROSSTRACK
^MEX_POINTING_DESC = "MEX_POINTING_DESC.TXT"
RIGHT_ASCENSION = -1e+32
DECLINATION = -1e+32
OFFSET_ANGLE = 0.65
SPACECRAFT_SOLAR_DISTANCE = 2.06673e+08
TARGET_NAME = MARS
/* CAMERA DATA ELEMENTS */
DETECTOR_TEMPERATURE = 18.3705
FOCAL_PLANE_TEMPERATURE = 8.1755
INST_CMPRS_NAME = "DISCRETE COSINE TRANSFORMATION (DCT)"
INST_CMPRS_RATIO = 5.16988
INST_CMPRS_QUALITY = 0
INST_CMPRS_QUANTZ_TBL_ID = 0
INSTRUMENT_TEMPERATURE = 11.234
LENS_TEMPERATURE = 9.195
MACROPIXEL_SIZE = 4
MISSING_FRAMES = 0
PIXEL_SUBSAMPLING_FLAG = N
SIGNAL_CHAIN_ID = 2
/* RADIOMETRIC DATA ELEMENTS */
BANDWIDTH = 76.0
CENTER_FILTER_WAVELENGTH = 444.0
RADIANCE_OFFSET = 0.544179
RADIANCE_SCALING_FACTOR = 0.00229018
REFLECTANCE_SCALING_FACTOR = 0.000100506
MEX:REFLECTANCE_OFFSET = 0.0238817
/* IMAGE OBJECT DEFINITIONS */
OBJECT = IMAGE
  INTERCHANGE_FORMAT = BINARY
  LINES = 8743
  LINE_SAMPLES = 1596
  SAMPLE_TYPE = UNSIGNED_INTEGER
  SAMPLE_BITS = 8
  BANDS = 1
  BAND_STORAGE_TYPE = BAND_SEQUENTIAL
  MAXIMUM = 255
  MEAN = 126.753
  MINIMUM = 1
  STANDARD_DEVIATION = 31.7459
END_OBJECT = IMAGE
/* MAP OBJECT DEFINITIONS */
OBJECT = IMAGE_MAP_PROJECTION
  ^DATA_SET_MAP_PROJECTION_CATALOG= "DSMAP.CAT"
  A_AXIS_RADIUS = 3396.0
  B_AXIS_RADIUS = 3396.0
  C_AXIS_RADIUS = 3396.0
  CENTER_LATITUDE = 0.0
  CENTER_LONGITUDE = 258.0
  COORDINATE_SYSTEM_NAME = PLANETOGRAPHIC
  COORDINATE_SYSTEM_TYPE = "BODY-FIXED ROTATING"
  EASTERNMOST_LONGITUDE = 258.506
  FIRST_STANDARD_PARALLEL = "N/A"
  LINE_FIRST_PIXEL = 1
  LINE_LAST_PIXEL = 8743
  LINE_PROJECTION_OFFSET = -36689.125
  MAP_PROJECTION_ROTATION = 0.0
  MAP_PROJECTION_TYPE = SINUSOIDAL
  MAP_RESOLUTION = 1185.42760773333
  MAP_SCALE = 0.05
  MAXIMUM_LATITUDE = -30.9587
  MINIMUM_LATITUDE = -38.3407
  POSITIVE_LONGITUDE_DIRECTION = EAST
  REFERENCE_LATITUDE = "N/A"
  REFERENCE_LONGITUDE = "N/A"
  SAMPLE_FIRST_PIXEL = 1
  SAMPLE_LAST_PIXEL = 1596
  SAMPLE_PROJECTION_OFFSET = 1081.375
  SECOND_STANDARD_PARALLEL = "N/A"
  WESTERNMOST_LONGITUDE = 256.847
END_OBJECT = IMAGE_MAP_PROJECTION
END
