PDS_VERSION_ID = PDS3
/* FILE DATA ELEMENTS */
RECORD_TYPE = UNDEFINED
/* POINTERS TO DATA OBJECTS */
^IMAGE = ("HK951_0000_S24.TIF")
/* IDENTIFICATION DATA ELEMENTS */
DATA_SET_ID = "MEX-M-HRSC-4-REFDR-MAPPROJECT-EXT7-V4.0"
DATA_SET_NAME = "MARS EXPRESS HRSC MAP PROJECTED REFDR EXTENSION7 V4.0"
DETECTOR_ID = MEX_HRSC_S2
EVENT_TYPE = "MARS-REGIONAL-COLOR-Im-Pf-Ts"
INSTRUMENT_HOST_ID = MEX
INSTRUMENT_HOST_NAME = "MARS EXPRESS"
INSTRUMENT_ID = HRSC
INSTRUMENT_NAME = "HIGH RESOLUTION STEREO CAMERA"
MISSION_NAME = "MARS EXPRESS"
MISSION_PHASE_NAME = ME_Phase_43
PROCESSING_LEVEL_ID = 4
PRODUCT_CREATION_TIME = 2023-01-29T07:12:14.000Z
PRODUCT_ID = "HK951_0000_S24.TIF"
RELEASE_ID = 0004
REVISION_ID = 0000
/* QUALITY DATA ELEMENTS */
DATA_QUALITY_ID = 1
DATA_QUALITY_DESC = "Data calculated based on original SPICE kernels"
/* TIME DATA ELEMENTS */
SPACECRAFT_CLOCK_START_COUNT = "1/0544040538.23956"
SPACECRAFT_CLOCK_STOP_COUNT = "1/0544040740.39207"
START_TIME = 2020-07-28T18:22:51.242Z
STOP_TIME = 2020-07-28T18:24:38.255Z
/* ORBITAL DATA ELEMENTS */
ASCENDING_NODE_LONGITUDE = 182.16
MAXIMUM_RESOLUTION = 0.0294
FOOTPRINT_POINT_LATITUDE = (-40.0681,-40.0644,-40.0609,-40.0576, -40.0524,-40.0464,-40.0382,-40.0377, -39.9962,-39.8423,-39.6871,-39.5317, -39.38,-39.1576,-38.8989,-38.6384, -38.5063,-38.3731,-38.1128,-37.9177, -37.7195,-37.5226,-37.2599,-37.0631, -36.7358,-36.6041,-36.4721,-36.2095, -36.0769,-35.9451,-35.8122,-35.6794, -35.4165,-35.2194,-35.0862,-34.9526, -34.8193,-34.6863,-34.4867,-34.3536, -34.2201,-34.0863,-33.9523,-33.8189, -33.6187,-33.4851,-33.3517,-33.2851, -33.2588,-33.2617,-33.2651,-33.2671, -33.2692,-33.2718,-33.2729,-33.273, -33.2734,-33.4073,-33.5412,-33.6747, -33.8084,-33.9418,-34.0758,-34.2762, -34.4753,-34.608,-34.7411,-34.8738, -35.0067,-35.1397,-35.2733,-35.4067, -35.5394,-35.6733,-35.8066,-36.0061, -36.1386,-36.3359,-36.5994,-36.7972, -36.9291,-37.0609,-37.1926,-37.3243, -37.5211,-37.7834,-37.9151,-38.1125, -38.2446,-38.5069,-38.7639,-38.9563, -39.1439,-39.2867,-39.4433,-39.6022, -39.7506,-39.9095,-39.9935,-40.0681)
FOOTPRINT_POINT_LONGITUDE = (307.784,307.409,307.149,306.953, 306.693,306.433,306.123,306.107,306.088 ,306.096,306.103,306.111,306.12,306.132 ,306.145,306.157,306.162,306.167, 306.179,306.188,306.196,306.204,306.215 ,306.223,306.237,306.242,306.247, 306.257,306.261,306.266,306.271,306.275 ,306.285,306.292,306.296,306.3,306.304, 306.309,306.315,306.319,306.323,306.326 ,306.33,306.334,306.34,306.343,306.347, 306.349,306.35,306.545,306.77,306.938, 307.149,307.458,307.781,307.795,307.8, 307.8,307.801,307.801,307.801,307.801, 307.801,307.801,307.801,307.802,307.802 ,307.802,307.802,307.802,307.802, 307.802,307.802,307.801,307.801,307.801 ,307.801,307.801,307.801,307.802, 307.801,307.801,307.801,307.801,307.802 ,307.802,307.801,307.801,307.801,307.8, 307.802,307.803,307.806,307.806,307.805 ,307.804,307.806,307.804,307.802, 307.784)
ORBIT_NUMBER = 20951
ORBITAL_ECCENTRICITY = 0.577
ORBITAL_INCLINATION = 86.97
ORBITAL_SEMIMAJOR_AXIS = 8823.55
PERIAPSIS_ALTITUDE = 337.85
PERIAPSIS_ARGUMENT_ANGLE = 330.19
PERIAPSIS_TIME = 2020-07-28T18:26:04.000Z
SPACECRAFT_ORIENTATION = (0.0,1.0,0.0)
^MEX_ORIENTATION_DESC = "MEX_ORIENTATION_DESC.TXT"
SPACECRAFT_POINTING_MODE = NADIR
^MEX_POINTING_DESC = "MEX_POINTING_DESC.TXT"
RIGHT_ASCENSION = -1e+32
DECLINATION = -1e+32
OFFSET_ANGLE = -1e+32
SPACECRAFT_SOLAR_DISTANCE = 2.06685e+08
TARGET_NAME = MARS
/* CAMERA DATA ELEMENTS */
DETECTOR_TEMPERATURE = 18.3705
FOCAL_PLANE_TEMPERATURE = 7.9716
INST_CMPRS_NAME = "DISCRETE COSINE TRANSFORMATION (DCT)"
INST_CMPRS_RATIO = 10.8813
INST_CMPRS_QUALITY = 0
INST_CMPRS_QUANTZ_TBL_ID = 0
INSTRUMENT_TEMPERATURE = 11.234
LENS_TEMPERATURE = 8.5833
MACROPIXEL_SIZE = 2
MISSING_FRAMES = 0
PIXEL_SUBSAMPLING_FLAG = N
SIGNAL_CHAIN_ID = 1
/* RADIOMETRIC DATA ELEMENTS */
BANDWIDTH = 178.0
CENTER_FILTER_WAVELENGTH = 679.0
RADIANCE_OFFSET = 4.29297
RADIANCE_SCALING_FACTOR = 0.00729524
REFLECTANCE_SCALING_FACTOR = 0.00016504
MEX:REFLECTANCE_OFFSET = 0.0971197
/* IMAGE OBJECT DEFINITIONS */
OBJECT = IMAGE
  INTERCHANGE_FORMAT = BINARY
  LINES = 11268
  LINE_SAMPLES = 3120
  SAMPLE_TYPE = UNSIGNED_INTEGER
  SAMPLE_BITS = 8
  BANDS = 1
  BAND_STORAGE_TYPE = BAND_SEQUENTIAL
  MAXIMUM = 255
  MEAN = 122.793
  MINIMUM = 1
  STANDARD_DEVIATION = 27.2714
END_OBJECT = IMAGE
/* MAP OBJECT DEFINITIONS */
OBJECT = IMAGE_MAP_PROJECTION
  ^DATA_SET_MAP_PROJECTION_CATALOG= "DSMAP.CAT"
  A_AXIS_RADIUS = 3396.0
  B_AXIS_RADIUS = 3396.0
  C_AXIS_RADIUS = 3396.0
  CENTER_LATITUDE = 0.0
  CENTER_LONGITUDE = 307.0
  COORDINATE_SYSTEM_NAME = PLANETOGRAPHIC
  COORDINATE_SYSTEM_TYPE = "BODY-FIXED ROTATING"
  EASTERNMOST_LONGITUDE = 307.806
  FIRST_STANDARD_PARALLEL = "N/A"
  LINE_FIRST_PIXEL = 1
  LINE_LAST_PIXEL = 11268
  LINE_PROJECTION_OFFSET = -83593.75
  MAP_PROJECTION_ROTATION = 0.0
  MAP_PROJECTION_TYPE = SINUSOIDAL
  MAP_RESOLUTION = 2370.85521546667
  MAP_SCALE = 0.025
  MAXIMUM_LATITUDE = -33.2588
  MINIMUM_LATITUDE = -40.0681
  POSITIVE_LONGITUDE_DIRECTION = EAST
  REFERENCE_LATITUDE = "N/A"
  REFERENCE_LONGITUDE = "N/A"
  SAMPLE_FIRST_PIXEL = 1
  SAMPLE_LAST_PIXEL = 3120
  SAMPLE_PROJECTION_OFFSET = 1605.25
  SECOND_STANDARD_PARALLEL = "N/A"
  WESTERNMOST_LONGITUDE = 306.088
END_OBJECT = IMAGE_MAP_PROJECTION
END
