PDS_VERSION_ID = PDS3
/* FILE DATA ELEMENTS */
RECORD_TYPE = UNDEFINED
/* POINTERS TO DATA OBJECTS */
^IMAGE = ("HK949_0009_S24.TIF")
/* IDENTIFICATION DATA ELEMENTS */
DATA_SET_ID = "MEX-M-HRSC-4-REFDR-MAPPROJECT-EXT7-V4.0"
DATA_SET_NAME = "MARS EXPRESS HRSC MAP PROJECTED REFDR EXTENSION7 V4.0"
DETECTOR_ID = MEX_HRSC_S2
EVENT_TYPE = "MARS-REGIONAL-MAPPING-Im-Fl-Mw"
INSTRUMENT_HOST_ID = MEX
INSTRUMENT_HOST_NAME = "MARS EXPRESS"
INSTRUMENT_ID = HRSC
INSTRUMENT_NAME = "HIGH RESOLUTION STEREO CAMERA"
MISSION_NAME = "MARS EXPRESS"
MISSION_PHASE_NAME = ME_Phase_43
PROCESSING_LEVEL_ID = 4
PRODUCT_CREATION_TIME = 2023-01-29T07:12:14.000Z
PRODUCT_ID = "HK949_0009_S24.TIF"
RELEASE_ID = 0004
REVISION_ID = 0000
/* QUALITY DATA ELEMENTS */
DATA_QUALITY_ID = 1
DATA_QUALITY_DESC = "Data calculated based on original SPICE kernels"
/* TIME DATA ELEMENTS */
SPACECRAFT_CLOCK_START_COUNT = "1/0543990557.24875"
SPACECRAFT_CLOCK_STOP_COUNT = "1/0543990815.31001"
START_TIME = 2020-07-28T04:29:50.264Z
STOP_TIME = 2020-07-28T04:32:46.621Z
/* ORBITAL DATA ELEMENTS */
ASCENDING_NODE_LONGITUDE = 182.19
MAXIMUM_RESOLUTION = 0.0294
FOOTPRINT_POINT_LATITUDE = (-20.4952,-20.4944,-20.4928,-20.4859, -20.4857,-20.4763,-20.1554,-19.9408, -19.7269,-19.4061,-19.1913,-18.9775, -18.6571,-18.3359,-18.0135,-17.6912, -17.3688,-17.1538,-16.9385,-16.6158, -16.4008,-16.1853,-15.9689,-15.7523, -15.4284,-15.1047,-14.7816,-14.3519, -14.1321,-13.8743,-13.6189,-13.362, -13.1052,-12.7198,-12.4634,-12.207, -11.8227,-11.4364,-11.17,-10.9134, -10.6578,-10.4083,-10.154,-9.89321, -9.62973,-9.24616,-8.99038,-8.86267, -8.81808,-8.8195,-8.82514,-8.82104, -8.82091,-8.82138,-9.07803,-9.33323, -9.59186,-9.97853,-10.3654,-10.6233, -10.8808,-11.1357,-11.3916,-11.775, -12.0325,-12.2892,-12.5463,-12.9305, -13.3191,-13.5759,-13.8329,-14.0906, -14.3181,-14.5337,-14.8572,-15.0719, -15.2874,-15.5032,-15.7188,-16.0421, -16.2584,-16.5823,-16.7972,-17.0126, -17.2284,-17.5508,-17.7653,-17.981, -18.1956,-18.4103,-18.6249,-18.84, -19.0541,-19.4827,-19.6987,-19.913, -20.1273,-20.3424,-20.4504,-20.4952)
FOOTPRINT_POINT_LONGITUDE = (151.901,151.503,151.24,150.626,150.614 ,150.607,150.606,150.605,150.605, 150.604,150.603,150.602,150.601,150.599 ,150.597,150.595,150.592,150.591, 150.589,150.586,150.583,150.581,150.578 ,150.575,150.571,150.567,150.563, 150.558,150.554,150.55,150.547,150.543, 150.539,150.533,150.529,150.525,150.518 ,150.51,150.502,150.497,150.493,150.49, 150.485,150.479,150.47,150.462,150.457, 150.454,150.453,150.903,151.309,151.881 ,151.895,151.9,151.9,151.9,151.899, 151.898,151.898,151.897,151.897,151.897 ,151.898,151.898,151.898,151.898, 151.898,151.898,151.898,151.898,151.898 ,151.898,151.898,151.898,151.898, 151.898,151.898,151.898,151.898,151.899 ,151.899,151.899,151.899,151.899, 151.899,151.9,151.9,151.9,151.9,151.901 ,151.901,151.901,151.902,151.902, 151.902,151.903,151.903,151.903,151.903 ,151.901)
ORBIT_NUMBER = 20949
ORBITAL_ECCENTRICITY = 0.577
ORBITAL_INCLINATION = 86.96
ORBITAL_SEMIMAJOR_AXIS = 8824.78
PERIAPSIS_ALTITUDE = 338.32
PERIAPSIS_ARGUMENT_ANGLE = 330.53
PERIAPSIS_TIME = 2020-07-28T04:28:05.000Z
SPACECRAFT_ORIENTATION = (0.0,1.0,0.0)
^MEX_ORIENTATION_DESC = "MEX_ORIENTATION_DESC.TXT"
SPACECRAFT_POINTING_MODE = ACROSSTRACK
^MEX_POINTING_DESC = "MEX_POINTING_DESC.TXT"
RIGHT_ASCENSION = -1e+32
DECLINATION = -1e+32
OFFSET_ANGLE = 0.11
SPACECRAFT_SOLAR_DISTANCE = 2.06693e+08
TARGET_NAME = MARS
/* CAMERA DATA ELEMENTS */
DETECTOR_TEMPERATURE = 18.7783
FOCAL_PLANE_TEMPERATURE = 8.7872
INST_CMPRS_NAME = "DISCRETE COSINE TRANSFORMATION (DCT)"
INST_CMPRS_RATIO = 8.84632
INST_CMPRS_QUALITY = 0
INST_CMPRS_QUANTZ_TBL_ID = 0
INSTRUMENT_TEMPERATURE = 11.234
LENS_TEMPERATURE = 9.195
MACROPIXEL_SIZE = 2
MISSING_FRAMES = 0
PIXEL_SUBSAMPLING_FLAG = N
SIGNAL_CHAIN_ID = 1
/* RADIOMETRIC DATA ELEMENTS */
BANDWIDTH = 178.0
CENTER_FILTER_WAVELENGTH = 679.0
RADIANCE_OFFSET = 3.97815
RADIANCE_SCALING_FACTOR = 0.0117846
REFLECTANCE_SCALING_FACTOR = 0.000266622
MEX:REFLECTANCE_OFFSET = 0.090004
/* IMAGE OBJECT DEFINITIONS */
OBJECT = IMAGE
  INTERCHANGE_FORMAT = BINARY
  LINES = 27654
  LINE_SAMPLES = 3523
  SAMPLE_TYPE = UNSIGNED_INTEGER
  SAMPLE_BITS = 8
  BANDS = 1
  BAND_STORAGE_TYPE = BAND_SEQUENTIAL
  MAXIMUM = 255
  MEAN = 124.304
  MINIMUM = 1
  STANDARD_DEVIATION = 25.2759
END_OBJECT = IMAGE
/* MAP OBJECT DEFINITIONS */
OBJECT = IMAGE_MAP_PROJECTION
  ^DATA_SET_MAP_PROJECTION_CATALOG= "DSMAP.CAT"
  A_AXIS_RADIUS = 3396.0
  B_AXIS_RADIUS = 3396.0
  C_AXIS_RADIUS = 3396.0
  CENTER_LATITUDE = 0.0
  CENTER_LONGITUDE = 151.0
  COORDINATE_SYSTEM_NAME = PLANETOGRAPHIC
  COORDINATE_SYSTEM_TYPE = "BODY-FIXED ROTATING"
  EASTERNMOST_LONGITUDE = 151.903
  FIRST_STANDARD_PARALLEL = "N/A"
  LINE_FIRST_PIXEL = 1
  LINE_LAST_PIXEL = 27654
  LINE_PROJECTION_OFFSET = -20909.75
  MAP_PROJECTION_ROTATION = 0.0
  MAP_PROJECTION_TYPE = SINUSOIDAL
  MAP_RESOLUTION = 2370.85521546667
  MAP_SCALE = 0.025
  MAXIMUM_LATITUDE = -8.81808
  MINIMUM_LATITUDE = -20.4952
  POSITIVE_LONGITUDE_DIRECTION = EAST
  REFERENCE_LATITUDE = "N/A"
  REFERENCE_LONGITUDE = "N/A"
  SAMPLE_FIRST_PIXEL = 1
  SAMPLE_LAST_PIXEL = 3523
  SAMPLE_PROJECTION_OFFSET = 1346.75
  SECOND_STANDARD_PARALLEL = "N/A"
  WESTERNMOST_LONGITUDE = 150.453
END_OBJECT = IMAGE_MAP_PROJECTION
END
