PDS_VERSION_ID = PDS3
/* FILE DATA ELEMENTS */
RECORD_TYPE = UNDEFINED
/* POINTERS TO DATA OBJECTS */
^IMAGE = ("HK949_0009_S14.TIF")
/* IDENTIFICATION DATA ELEMENTS */
DATA_SET_ID = "MEX-M-HRSC-4-REFDR-MAPPROJECT-EXT7-V4.0"
DATA_SET_NAME = "MARS EXPRESS HRSC MAP PROJECTED REFDR EXTENSION7 V4.0"
DETECTOR_ID = MEX_HRSC_S1
EVENT_TYPE = "MARS-REGIONAL-MAPPING-Im-Fl-Mw"
INSTRUMENT_HOST_ID = MEX
INSTRUMENT_HOST_NAME = "MARS EXPRESS"
INSTRUMENT_ID = HRSC
INSTRUMENT_NAME = "HIGH RESOLUTION STEREO CAMERA"
MISSION_NAME = "MARS EXPRESS"
MISSION_PHASE_NAME = ME_Phase_43
PROCESSING_LEVEL_ID = 4
PRODUCT_CREATION_TIME = 2023-01-29T07:12:14.000Z
PRODUCT_ID = "HK949_0009_S14.TIF"
RELEASE_ID = 0004
REVISION_ID = 0000
/* QUALITY DATA ELEMENTS */
DATA_QUALITY_ID = 1
DATA_QUALITY_DESC = "Data calculated based on original SPICE kernels"
/* TIME DATA ELEMENTS */
SPACECRAFT_CLOCK_START_COUNT = "1/0543990557.24875"
SPACECRAFT_CLOCK_STOP_COUNT = "1/0543990815.31001"
START_TIME = 2020-07-28T04:30:53.861Z
STOP_TIME = 2020-07-28T04:34:06.367Z
/* ORBITAL DATA ELEMENTS */
ASCENDING_NODE_LONGITUDE = 182.19
MAXIMUM_RESOLUTION = 0.0306
FOOTPRINT_POINT_LATITUDE = (-20.4637,-20.4675,-20.4711,-20.474, -20.4761,-20.4762,-20.4841,-19.9716, -19.3576,-19.0512,-18.6431,-18.4319, -18.0697,-17.8277,-17.5867,-17.346, -17.1058,-16.866,-16.627,-16.3877, -16.1494,-15.9124,-15.6767,-15.4393, -15.2027,-14.8479,-14.4934,-14.257, -14.0232,-13.7878,-13.552,-13.2015, -12.9679,-12.7351,-12.499,-12.2602, -11.9024,-11.6652,-11.311,-11.0719, -10.8317,-10.5844,-10.3395,-10.0919, -9.85703,-9.61143,-9.36457,-8.98841, -8.86264,-8.85739,-8.85196,-8.84096, -8.83295,-8.82922,-8.82422,-8.82398, -8.82441,-9.1996,-9.44966,-9.69357, -9.93937,-10.3086,-10.5507,-10.7906, -11.0345,-11.2779,-11.5202,-11.759, -12.1161,-12.3548,-12.5932,-12.8267, -13.1765,-13.4101,-13.6448,-13.9967, -14.3501,-14.5857,-14.8223,-15.0594, -15.2969,-15.5343,-15.7722,-16.0107, -16.2493,-16.4871,-16.727,-16.9669, -17.3268,-17.5682,-17.8101,-18.0514, -18.2941,-18.6269,-19.0344,-19.5463, -20.0566,-20.3646,-20.4668,-20.4637)
FOOTPRINT_POINT_LONGITUDE = (151.929,151.54,151.15,150.838,150.603, 150.59,150.582,150.579,150.575,150.573, 150.57,150.569,150.565,150.562,150.56, 150.557,150.554,150.551,150.548,150.544 ,150.541,150.537,150.532,150.529, 150.525,150.519,150.513,150.509,150.504 ,150.5,150.496,150.489,150.484,150.479, 150.474,150.469,150.462,150.456,150.446 ,150.439,150.433,150.429,150.423, 150.417,150.407,150.401,150.394,150.384 ,150.381,150.381,150.706,151.155, 151.417,151.679,151.956,151.972,151.977 ,151.975,151.973,151.971,151.97,151.967 ,151.966,151.964,151.963,151.962, 151.961,151.96,151.959,151.958,151.956, 151.955,151.954,151.952,151.952,151.95, 151.949,151.948,151.947,151.946,151.945 ,151.944,151.943,151.943,151.942, 151.941,151.94,151.939,151.938,151.937, 151.937,151.936,151.936,151.935,151.934 ,151.934,151.932,151.931,151.931, 151.929)
ORBIT_NUMBER = 20949
ORBITAL_ECCENTRICITY = 0.577
ORBITAL_INCLINATION = 86.96
ORBITAL_SEMIMAJOR_AXIS = 8824.78
PERIAPSIS_ALTITUDE = 338.32
PERIAPSIS_ARGUMENT_ANGLE = 330.53
PERIAPSIS_TIME = 2020-07-28T04:28:05.000Z
SPACECRAFT_ORIENTATION = (0.0,1.0,0.0)
^MEX_ORIENTATION_DESC = "MEX_ORIENTATION_DESC.TXT"
SPACECRAFT_POINTING_MODE = ACROSSTRACK
^MEX_POINTING_DESC = "MEX_POINTING_DESC.TXT"
RIGHT_ASCENSION = -1e+32
DECLINATION = -1e+32
OFFSET_ANGLE = 0.11
SPACECRAFT_SOLAR_DISTANCE = 2.06693e+08
TARGET_NAME = MARS
/* CAMERA DATA ELEMENTS */
DETECTOR_TEMPERATURE = 17.7588
FOCAL_PLANE_TEMPERATURE = 8.7872
INST_CMPRS_NAME = "DISCRETE COSINE TRANSFORMATION (DCT)"
INST_CMPRS_RATIO = 8.24427
INST_CMPRS_QUALITY = 0
INST_CMPRS_QUANTZ_TBL_ID = 0
INSTRUMENT_TEMPERATURE = 11.234
LENS_TEMPERATURE = 9.195
MACROPIXEL_SIZE = 2
MISSING_FRAMES = 0
PIXEL_SUBSAMPLING_FLAG = N
SIGNAL_CHAIN_ID = 1
/* RADIOMETRIC DATA ELEMENTS */
BANDWIDTH = 180.0
CENTER_FILTER_WAVELENGTH = 677.0
RADIANCE_OFFSET = 4.19425
RADIANCE_SCALING_FACTOR = 0.0114374
REFLECTANCE_SCALING_FACTOR = 0.00025493
MEX:REFLECTANCE_OFFSET = 0.0934864
/* IMAGE OBJECT DEFINITIONS */
OBJECT = IMAGE
  INTERCHANGE_FORMAT = BINARY
  LINES = 27654
  LINE_SAMPLES = 3523
  SAMPLE_TYPE = UNSIGNED_INTEGER
  SAMPLE_BITS = 8
  BANDS = 1
  BAND_STORAGE_TYPE = BAND_SEQUENTIAL
  MAXIMUM = 255
  MEAN = 126.809
  MINIMUM = 1
  STANDARD_DEVIATION = 27.5505
END_OBJECT = IMAGE
/* MAP OBJECT DEFINITIONS */
OBJECT = IMAGE_MAP_PROJECTION
  ^DATA_SET_MAP_PROJECTION_CATALOG= "DSMAP.CAT"
  A_AXIS_RADIUS = 3396.0
  B_AXIS_RADIUS = 3396.0
  C_AXIS_RADIUS = 3396.0
  CENTER_LATITUDE = 0.0
  CENTER_LONGITUDE = 151.0
  COORDINATE_SYSTEM_NAME = PLANETOGRAPHIC
  COORDINATE_SYSTEM_TYPE = "BODY-FIXED ROTATING"
  EASTERNMOST_LONGITUDE = 151.977
  FIRST_STANDARD_PARALLEL = "N/A"
  LINE_FIRST_PIXEL = 1
  LINE_LAST_PIXEL = 27654
  LINE_PROJECTION_OFFSET = -20909.75
  MAP_PROJECTION_ROTATION = 0.0
  MAP_PROJECTION_TYPE = SINUSOIDAL
  MAP_RESOLUTION = 2370.85521546667
  MAP_SCALE = 0.025
  MAXIMUM_LATITUDE = -8.823980000000001
  MINIMUM_LATITUDE = -20.4841
  POSITIVE_LONGITUDE_DIRECTION = EAST
  REFERENCE_LATITUDE = "N/A"
  REFERENCE_LONGITUDE = "N/A"
  SAMPLE_FIRST_PIXEL = 1
  SAMPLE_LAST_PIXEL = 3523
  SAMPLE_PROJECTION_OFFSET = 1346.75
  SECOND_STANDARD_PARALLEL = "N/A"
  WESTERNMOST_LONGITUDE = 150.381
END_OBJECT = IMAGE_MAP_PROJECTION
END
