PDS_VERSION_ID = PDS3
/* FILE DATA ELEMENTS */
RECORD_TYPE = UNDEFINED
/* POINTERS TO DATA OBJECTS */
^IMAGE = ("HK949_0009_ND4.TIF")
/* IDENTIFICATION DATA ELEMENTS */
DATA_SET_ID = "MEX-M-HRSC-4-REFDR-MAPPROJECT-EXT7-V4.0"
DATA_SET_NAME = "MARS EXPRESS HRSC MAP PROJECTED REFDR EXTENSION7 V4.0"
DETECTOR_ID = MEX_HRSC_NADIR
EVENT_TYPE = "MARS-REGIONAL-MAPPING-Im-Fl-Mw"
INSTRUMENT_HOST_ID = MEX
INSTRUMENT_HOST_NAME = "MARS EXPRESS"
INSTRUMENT_ID = HRSC
INSTRUMENT_NAME = "HIGH RESOLUTION STEREO CAMERA"
MISSION_NAME = "MARS EXPRESS"
MISSION_PHASE_NAME = ME_Phase_43
PROCESSING_LEVEL_ID = 4
PRODUCT_CREATION_TIME = 2023-01-29T07:12:14.000Z
PRODUCT_ID = "HK949_0009_ND4.TIF"
RELEASE_ID = 0004
REVISION_ID = 0000
/* QUALITY DATA ELEMENTS */
DATA_QUALITY_ID = 1
DATA_QUALITY_DESC = "Data calculated based on original SPICE kernels"
/* TIME DATA ELEMENTS */
SPACECRAFT_CLOCK_START_COUNT = "1/0543990557.24875"
SPACECRAFT_CLOCK_STOP_COUNT = "1/0543990815.31001"
START_TIME = 2020-07-28T04:30:21.350Z
STOP_TIME = 2020-07-28T04:33:24.347Z
/* ORBITAL DATA ELEMENTS */
ASCENDING_NODE_LONGITUDE = 182.19
MAXIMUM_RESOLUTION = 0.0141
FOOTPRINT_POINT_LATITUDE = (-20.4809,-20.4821,-20.4829,-20.4832, -20.4828,-20.4828,-20.4824,-20.1661, -19.9553,-19.7447,-19.3237,-18.903, -18.4827,-18.0629,-17.6435,-17.2245, -16.8059,-16.3879,-16.1509,-15.9018, -15.6529,-15.4042,-15.1556,-14.9073, -14.6591,-14.4113,-14.1635,-13.916, -13.6687,-13.4216,-13.1747,-12.928, -12.6815,-12.4353,-12.1893,-11.9435, -11.698,-11.4526,-11.2074,-10.9626, -10.718,-10.4737,-10.2297,-9.97945, -9.60414,-9.3544,-8.97965,-8.8518, -8.8347,-8.83095,-8.82785,-8.82235, -8.8193,-8.81911,-8.81928,-9.07316, -9.32292,-9.573,-9.82341,-10.074, -10.3218,-10.5664,-10.8111,-11.0561, -11.3013,-11.5468,-11.7925,-12.0385, -12.2846,-12.531,-12.7777,-13.0245, -13.2716,-13.5189,-13.7664,-14.0141, -14.262,-14.5101,-14.7584,-15.0069, -15.2556,-15.5045,-15.7536,-16.0029, -16.3675,-16.786,-17.205,-17.6244, -18.0443,-18.4647,-18.8854,-19.0959, -19.3065,-19.5172,-19.728,-19.9389, -20.1499,-20.361,-20.4666,-20.4809)
FOOTPRINT_POINT_LONGITUDE = (151.909,151.626,151.331,151.009, 150.621,150.608,150.599,150.598,150.597 ,150.596,150.594,150.592,150.589, 150.586,150.582,150.578,150.574,150.569 ,150.566,150.563,150.559,150.555, 150.551,150.548,150.544,150.541,150.537 ,150.533,150.529,150.525,150.521, 150.516,150.512,150.507,150.503,150.498 ,150.493,150.488,150.48,150.474,150.469 ,150.466,150.461,150.456,150.443, 150.438,150.429,150.426,150.425,150.842 ,151.153,151.656,151.906,151.921, 151.928,151.927,151.927,151.926,151.925 ,151.924,151.923,151.922,151.921, 151.921,151.921,151.92,151.92,151.92, 151.919,151.919,151.918,151.918,151.917 ,151.917,151.916,151.916,151.916, 151.915,151.915,151.914,151.914,151.914 ,151.913,151.913,151.913,151.912, 151.912,151.911,151.911,151.911,151.911 ,151.911,151.911,151.911,151.911, 151.911,151.911,151.911,151.91,151.909)
ORBIT_NUMBER = 20949
ORBITAL_ECCENTRICITY = 0.577
ORBITAL_INCLINATION = 86.96
ORBITAL_SEMIMAJOR_AXIS = 8824.78
PERIAPSIS_ALTITUDE = 338.32
PERIAPSIS_ARGUMENT_ANGLE = 330.53
PERIAPSIS_TIME = 2020-07-28T04:28:05.000Z
SPACECRAFT_ORIENTATION = (0.0,1.0,0.0)
^MEX_ORIENTATION_DESC = "MEX_ORIENTATION_DESC.TXT"
SPACECRAFT_POINTING_MODE = ACROSSTRACK
^MEX_POINTING_DESC = "MEX_POINTING_DESC.TXT"
RIGHT_ASCENSION = -1e+32
DECLINATION = -1e+32
OFFSET_ANGLE = 0.11
SPACECRAFT_SOLAR_DISTANCE = 2.06693e+08
TARGET_NAME = MARS
/* CAMERA DATA ELEMENTS */
DETECTOR_TEMPERATURE = 18.3705
FOCAL_PLANE_TEMPERATURE = 8.7872
INST_CMPRS_NAME = "DISCRETE COSINE TRANSFORMATION (DCT)"
INST_CMPRS_RATIO = 6.13893
INST_CMPRS_QUALITY = 0
INST_CMPRS_QUANTZ_TBL_ID = 0
INSTRUMENT_TEMPERATURE = 11.234
LENS_TEMPERATURE = 9.195
MACROPIXEL_SIZE = 1
MISSING_FRAMES = 0
PIXEL_SUBSAMPLING_FLAG = N
SIGNAL_CHAIN_ID = 0
/* RADIOMETRIC DATA ELEMENTS */
BANDWIDTH = 177.0
CENTER_FILTER_WAVELENGTH = 677.5
RADIANCE_OFFSET = 3.36542
RADIANCE_SCALING_FACTOR = 0.0114526
REFLECTANCE_SCALING_FACTOR = 0.000259919
MEX:REFLECTANCE_OFFSET = 0.0763791
/* IMAGE OBJECT DEFINITIONS */
OBJECT = IMAGE
  INTERCHANGE_FORMAT = BINARY
  LINES = 55307
  LINE_SAMPLES = 7045
  SAMPLE_TYPE = UNSIGNED_INTEGER
  SAMPLE_BITS = 8
  BANDS = 1
  BAND_STORAGE_TYPE = BAND_SEQUENTIAL
  MAXIMUM = 255
  MEAN = 123.345
  MINIMUM = 1
  STANDARD_DEVIATION = 26.4836
END_OBJECT = IMAGE
/* MAP OBJECT DEFINITIONS */
OBJECT = IMAGE_MAP_PROJECTION
  ^DATA_SET_MAP_PROJECTION_CATALOG= "DSMAP.CAT"
  A_AXIS_RADIUS = 3396.0
  B_AXIS_RADIUS = 3396.0
  C_AXIS_RADIUS = 3396.0
  CENTER_LATITUDE = 0.0
  CENTER_LONGITUDE = 151.0
  COORDINATE_SYSTEM_NAME = PLANETOGRAPHIC
  COORDINATE_SYSTEM_TYPE = "BODY-FIXED ROTATING"
  EASTERNMOST_LONGITUDE = 151.928
  FIRST_STANDARD_PARALLEL = "N/A"
  LINE_FIRST_PIXEL = 1
  LINE_LAST_PIXEL = 55307
  LINE_PROJECTION_OFFSET = -41819.0
  MAP_PROJECTION_ROTATION = 0.0
  MAP_PROJECTION_TYPE = SINUSOIDAL
  MAP_RESOLUTION = 4741.71043093333
  MAP_SCALE = 0.0125
  MAXIMUM_LATITUDE = -8.81911
  MINIMUM_LATITUDE = -20.4832
  POSITIVE_LONGITUDE_DIRECTION = EAST
  REFERENCE_LATITUDE = "N/A"
  REFERENCE_LONGITUDE = "N/A"
  SAMPLE_FIRST_PIXEL = 1
  SAMPLE_LAST_PIXEL = 7045
  SAMPLE_PROJECTION_OFFSET = 2694.0
  SECOND_STANDARD_PARALLEL = "N/A"
  WESTERNMOST_LONGITUDE = 150.425
END_OBJECT = IMAGE_MAP_PROJECTION
END
