PDS_VERSION_ID = PDS3
/* FILE DATA ELEMENTS */
RECORD_TYPE = UNDEFINED
/* POINTERS TO DATA OBJECTS */
^IMAGE = ("HK947_0000_IR4.TIF")
/* IDENTIFICATION DATA ELEMENTS */
DATA_SET_ID = "MEX-M-HRSC-4-REFDR-MAPPROJECT-EXT7-V4.0"
DATA_SET_NAME = "MARS EXPRESS HRSC MAP PROJECTED REFDR EXTENSION7 V4.0"
DETECTOR_ID = MEX_HRSC_IR
EVENT_TYPE = "MARS-REGIONAL-MAPPING-Im-Fl"
INSTRUMENT_HOST_ID = MEX
INSTRUMENT_HOST_NAME = "MARS EXPRESS"
INSTRUMENT_ID = HRSC
INSTRUMENT_NAME = "HIGH RESOLUTION STEREO CAMERA"
MISSION_NAME = "MARS EXPRESS"
MISSION_PHASE_NAME = ME_Phase_43
PROCESSING_LEVEL_ID = 4
PRODUCT_CREATION_TIME = 2023-01-29T07:12:14.000Z
PRODUCT_ID = "HK947_0000_IR4.TIF"
RELEASE_ID = 0004
REVISION_ID = 0000
/* QUALITY DATA ELEMENTS */
DATA_QUALITY_ID = 1
DATA_QUALITY_DESC = "Data calculated based on original SPICE kernels"
/* TIME DATA ELEMENTS */
SPACECRAFT_CLOCK_START_COUNT = "1/0543939843.25665"
SPACECRAFT_CLOCK_STOP_COUNT = "1/0543940138.58389"
START_TIME = 2020-07-27T14:25:48.199Z
STOP_TIME = 2020-07-27T14:29:24.678Z
/* ORBITAL DATA ELEMENTS */
ASCENDING_NODE_LONGITUDE = 182.24
MAXIMUM_RESOLUTION = 0.0566
FOOTPRINT_POINT_LATITUDE = (-47.2004,-47.1955,-47.1869,-47.1688, -47.1684,-47.2094,-46.8895,-46.5738, -46.2559,-45.937,-45.6187,-45.1416, -44.8224,-44.5041,-44.1853,-43.8678, -43.5493,-43.0717,-42.7531,-42.4335, -42.1653,-41.7636,-41.4961,-41.0952, -40.8275,-40.5602,-40.2916,-40.0223, -39.487,-39.2184,-38.9507,-38.6838, -38.282,-38.0136,-37.7448,-37.3427, -37.0745,-36.8051,-36.5372,-36.1354, -35.8679,-35.4664,-35.1987,-34.7972, -34.5295,-34.2627,-33.9952,-33.728, -33.4612,-33.1942,-33.0608,-33.0001, -32.9995,-33.0019,-33.0018,-33.0036, -33.5332,-33.9345,-34.2023,-34.6038, -34.8719,-35.274,-35.5415,-35.8101, -36.0786,-36.4813,-36.7502,-37.1526, -37.5551,-37.9582,-38.2268,-38.495, -38.7656,-39.1698,-39.4399,-39.7114, -40.2412,-40.5095,-40.779,-41.0471, -41.3162,-41.5855,-41.854,-42.1224, -42.3907,-42.6994,-43.0195,-43.3399, -43.6599,-44.1398,-44.4593,-44.9386, -45.26,-45.7401,-46.0587,-46.3778, -46.6933,-47.0123,-47.1716,-47.2004)
FOOTPRINT_POINT_LONGITUDE = (355.807,355.362,354.766,353.827, 353.808,353.767,353.799,353.827,353.855 ,353.884,353.911,353.951,353.977, 354.001,354.026,354.048,354.071,354.104 ,354.125,354.147,354.164,354.19,354.206 ,354.229,354.245,354.26,354.275,354.291 ,354.319,354.333,354.346,354.358, 354.377,354.389,354.402,354.42,354.431, 354.443,354.454,354.469,354.479,354.494 ,354.503,354.517,354.526,354.534, 354.542,354.551,354.558,354.566,354.569 ,354.571,355.234,355.97,355.983,355.987 ,355.983,355.98,355.978,355.976,355.974 ,355.971,355.969,355.967,355.965, 355.962,355.96,355.956,355.953,355.949, 355.947,355.944,355.942,355.938,355.936 ,355.934,355.926,355.923,355.92,355.917 ,355.914,355.911,355.907,355.904,355.9, 355.896,355.891,355.887,355.882,355.875 ,355.87,355.862,355.857,355.849,355.843 ,355.837,355.83,355.824,355.821, 355.807)
ORBIT_NUMBER = 20947
ORBITAL_ECCENTRICITY = 0.577
ORBITAL_INCLINATION = 86.97
ORBITAL_SEMIMAJOR_AXIS = 8825.09
PERIAPSIS_ALTITUDE = 338.04
PERIAPSIS_ARGUMENT_ANGLE = 330.84
PERIAPSIS_TIME = 2020-07-27T14:30:00.000Z
SPACECRAFT_ORIENTATION = (0.0,1.0,0.0)
^MEX_ORIENTATION_DESC = "MEX_ORIENTATION_DESC.TXT"
SPACECRAFT_POINTING_MODE = ACROSSTRACK
^MEX_POINTING_DESC = "MEX_POINTING_DESC.TXT"
RIGHT_ASCENSION = -1e+32
DECLINATION = -1e+32
OFFSET_ANGLE = 0.269
SPACECRAFT_SOLAR_DISTANCE = 2.06701e+08
TARGET_NAME = MARS
/* CAMERA DATA ELEMENTS */
DETECTOR_TEMPERATURE = 17.5549
FOCAL_PLANE_TEMPERATURE = 8.1755
INST_CMPRS_NAME = "DISCRETE COSINE TRANSFORMATION (DCT)"
INST_CMPRS_RATIO = 7.61579
INST_CMPRS_QUALITY = 0
INST_CMPRS_QUANTZ_TBL_ID = 0
INSTRUMENT_TEMPERATURE = 11.0301
LENS_TEMPERATURE = 8.5833
MACROPIXEL_SIZE = 4
MISSING_FRAMES = 0
PIXEL_SUBSAMPLING_FLAG = N
SIGNAL_CHAIN_ID = 2
/* RADIOMETRIC DATA ELEMENTS */
BANDWIDTH = 81.0
CENTER_FILTER_WAVELENGTH = 955.5
RADIANCE_OFFSET = 0.920538
RADIANCE_SCALING_FACTOR = 0.00254141
REFLECTANCE_SCALING_FACTOR = 0.000234254
MEX:REFLECTANCE_OFFSET = 0.0848506
/* IMAGE OBJECT DEFINITIONS */
OBJECT = IMAGE
  INTERCHANGE_FORMAT = BINARY
  LINES = 16918
  LINE_SAMPLES = 2014
  SAMPLE_TYPE = UNSIGNED_INTEGER
  SAMPLE_BITS = 8
  BANDS = 1
  BAND_STORAGE_TYPE = BAND_SEQUENTIAL
  MAXIMUM = 255
  MEAN = 148.536
  MINIMUM = 1
  STANDARD_DEVIATION = 29.2144
END_OBJECT = IMAGE
/* MAP OBJECT DEFINITIONS */
OBJECT = IMAGE_MAP_PROJECTION
  ^DATA_SET_MAP_PROJECTION_CATALOG= "DSMAP.CAT"
  A_AXIS_RADIUS = 3396.0
  B_AXIS_RADIUS = 3396.0
  C_AXIS_RADIUS = 3396.0
  CENTER_LATITUDE = 0.0
  CENTER_LONGITUDE = 355.0
  COORDINATE_SYSTEM_NAME = PLANETOGRAPHIC
  COORDINATE_SYSTEM_TYPE = "BODY-FIXED ROTATING"
  EASTERNMOST_LONGITUDE = 355.987
  FIRST_STANDARD_PARALLEL = "N/A"
  LINE_FIRST_PIXEL = 1
  LINE_LAST_PIXEL = 16918
  LINE_PROJECTION_OFFSET = -39130.625
  MAP_PROJECTION_ROTATION = 0.0
  MAP_PROJECTION_TYPE = SINUSOIDAL
  MAP_RESOLUTION = 1185.42760773333
  MAP_SCALE = 0.05
  MAXIMUM_LATITUDE = -32.9995
  MINIMUM_LATITUDE = -47.2094
  POSITIVE_LONGITUDE_DIRECTION = EAST
  REFERENCE_LATITUDE = "N/A"
  REFERENCE_LONGITUDE = "N/A"
  SAMPLE_FIRST_PIXEL = 1
  SAMPLE_LAST_PIXEL = 2014
  SAMPLE_PROJECTION_OFFSET = 1029.625
  SECOND_STANDARD_PARALLEL = "N/A"
  WESTERNMOST_LONGITUDE = 353.767
END_OBJECT = IMAGE_MAP_PROJECTION
END
