PDS_VERSION_ID = PDS3
/* FILE DATA ELEMENTS */
RECORD_TYPE = UNDEFINED
/* POINTERS TO DATA OBJECTS */
^IMAGE = ("HK946_0000_ND4.TIF")
/* IDENTIFICATION DATA ELEMENTS */
DATA_SET_ID = "MEX-M-HRSC-4-REFDR-MAPPROJECT-EXT7-V4.0"
DATA_SET_NAME = "MARS EXPRESS HRSC MAP PROJECTED REFDR EXTENSION7 V4.0"
DETECTOR_ID = MEX_HRSC_NADIR
EVENT_TYPE = "MARS-REGIONAL-MAPPING-Im-Fl"
INSTRUMENT_HOST_ID = MEX
INSTRUMENT_HOST_NAME = "MARS EXPRESS"
INSTRUMENT_ID = HRSC
INSTRUMENT_NAME = "HIGH RESOLUTION STEREO CAMERA"
MISSION_NAME = "MARS EXPRESS"
MISSION_PHASE_NAME = ME_Phase_43
PROCESSING_LEVEL_ID = 4
PRODUCT_CREATION_TIME = 2023-01-29T07:12:14.000Z
PRODUCT_ID = "HK946_0000_ND4.TIF"
RELEASE_ID = 0004
REVISION_ID = 0000
/* QUALITY DATA ELEMENTS */
DATA_QUALITY_ID = 1
DATA_QUALITY_DESC = "Data calculated based on original SPICE kernels"
/* TIME DATA ELEMENTS */
SPACECRAFT_CLOCK_START_COUNT = "1/0543915286.23983"
SPACECRAFT_CLOCK_STOP_COUNT = "1/0543915655.56254"
START_TIME = 2020-07-27T07:35:56.106Z
STOP_TIME = 2020-07-27T07:40:18.107Z
/* ORBITAL DATA ELEMENTS */
ASCENDING_NODE_LONGITUDE = 182.25
MAXIMUM_RESOLUTION = 0.0163
FOOTPRINT_POINT_LATITUDE = (-9.90292,-9.90612,-9.90876,-9.91096, -9.91101,-9.91095,-9.09204,-8.53364, -7.97648,-7.40831,-7.12385,-6.83971, -6.4046,-6.11449,-5.82481,-5.38229, -5.08668,-4.79154,-4.49042,-4.18923, -3.8885,-3.58251,-3.27585,-2.96972, -2.65783,-2.19019,-1.87477,-1.55734, -1.24055,-0.917561,-0.595191,-0.105591, 0.221945,0.719951,1.05252,1.39098, 1.72877,2.07184,2.41478,2.76236,3.11029 ,3.46348,3.99583,4.35391,4.71586, 5.26292,5.63072,5.81683,5.82723,5.83656 ,5.84367,5.8521,5.85861,5.86736,5.86771 ,5.86754,5.31207,4.7635,4.40056,4.04153 ,3.5077,3.15358,2.80482,2.45621,2.11257 ,1.76857,1.43005,1.0907,0.757362, 0.25805,-0.070272,-0.560993,-0.884018, -1.20769,-1.52529,-1.84331,-2.15946, -2.62813,-2.94083,-3.24753,-3.5548, -3.86156,-4.16285,-4.46459,-4.76647, -5.06218,-5.35833,-5.80186,-6.09206, -6.38268,-6.81868,-7.10325,-7.38818, -7.6735,-7.95756,-8.51575,-9.34833, -9.75856,-9.89546,-9.90292)
FOOTPRINT_POINT_LONGITUDE = (97.2318,96.772,96.2999,95.7528,95.7373 ,95.7396,95.7226,95.7103,95.7017, 95.6903,95.6821,95.6693,95.657,95.6493, 95.6421,95.6304,95.6229,95.6162,95.6093 ,95.6021,95.5921,95.5819,95.5721, 95.5627,95.5545,95.5453,95.5286,95.5144 ,95.5024,95.4943,95.4834,95.4638,95.451 ,95.433,95.417,95.4015,95.3877,95.3728, 95.3573,95.3426,95.3294,95.3121,95.2845 ,95.2693,95.2504,95.2217,95.204,95.1936 ,95.1931,95.644,96.0088,96.4499,96.8033 ,97.2953,97.3157,97.3257,97.321,97.3165 ,97.3134,97.3109,97.3072,97.3044, 97.3019,97.2998,97.2971,97.2948,97.2925 ,97.2905,97.2885,97.2857,97.2844, 97.2811,97.2791,97.2772,97.2754,97.2736 ,97.2718,97.2695,97.2679,97.2662, 97.2648,97.2633,97.2619,97.2602,97.2586 ,97.2572,97.2556,97.2536,97.2523, 97.2508,97.2483,97.2473,97.2459,97.2447 ,97.2434,97.2411,97.2368,97.2347,97.234 ,97.2318)
ORBIT_NUMBER = 20946
ORBITAL_ECCENTRICITY = 0.578
ORBITAL_INCLINATION = 86.97
ORBITAL_SEMIMAJOR_AXIS = 8830.28
PERIAPSIS_ALTITUDE = 337.21
PERIAPSIS_ARGUMENT_ANGLE = 331.0
PERIAPSIS_TIME = 2020-07-27T07:31:01.000Z
SPACECRAFT_ORIENTATION = (0.0,1.0,0.0)
^MEX_ORIENTATION_DESC = "MEX_ORIENTATION_DESC.TXT"
SPACECRAFT_POINTING_MODE = ACROSSTRACK
^MEX_POINTING_DESC = "MEX_POINTING_DESC.TXT"
RIGHT_ASCENSION = -1e+32
DECLINATION = -1e+32
OFFSET_ANGLE = 1.186
SPACECRAFT_SOLAR_DISTANCE = 2.06705e+08
TARGET_NAME = MARS
/* CAMERA DATA ELEMENTS */
DETECTOR_TEMPERATURE = 17.9627
FOCAL_PLANE_TEMPERATURE = 8.7872
INST_CMPRS_NAME = "DISCRETE COSINE TRANSFORMATION (DCT)"
INST_CMPRS_RATIO = 6.64877
INST_CMPRS_QUALITY = 0
INST_CMPRS_QUANTZ_TBL_ID = 0
INSTRUMENT_TEMPERATURE = 11.6418
LENS_TEMPERATURE = 8.3794
MACROPIXEL_SIZE = 1
MISSING_FRAMES = 0
PIXEL_SUBSAMPLING_FLAG = N
SIGNAL_CHAIN_ID = 0
/* RADIOMETRIC DATA ELEMENTS */
BANDWIDTH = 177.0
CENTER_FILTER_WAVELENGTH = 677.5
RADIANCE_OFFSET = 2.80667
RADIANCE_SCALING_FACTOR = 0.0101811
REFLECTANCE_SCALING_FACTOR = 0.00023109
MEX:REFLECTANCE_OFFSET = 0.0637058
/* IMAGE OBJECT DEFINITIONS */
OBJECT = IMAGE
  INTERCHANGE_FORMAT = BINARY
  LINES = 74820
  LINE_SAMPLES = 10068
  SAMPLE_TYPE = UNSIGNED_INTEGER
  SAMPLE_BITS = 8
  BANDS = 1
  BAND_STORAGE_TYPE = BAND_SEQUENTIAL
  MAXIMUM = 255
  MEAN = 98.6853
  MINIMUM = 1
  STANDARD_DEVIATION = 33.3241
END_OBJECT = IMAGE
/* MAP OBJECT DEFINITIONS */
OBJECT = IMAGE_MAP_PROJECTION
  ^DATA_SET_MAP_PROJECTION_CATALOG= "DSMAP.CAT"
  A_AXIS_RADIUS = 3396.0
  B_AXIS_RADIUS = 3396.0
  C_AXIS_RADIUS = 3396.0
  CENTER_LATITUDE = 0.0
  CENTER_LONGITUDE = 96.0
  COORDINATE_SYSTEM_NAME = PLANETOGRAPHIC
  COORDINATE_SYSTEM_TYPE = "BODY-FIXED ROTATING"
  EASTERNMOST_LONGITUDE = 97.3257
  FIRST_STANDARD_PARALLEL = "N/A"
  LINE_FIRST_PIXEL = 1
  LINE_LAST_PIXEL = 74820
  LINE_PROJECTION_OFFSET = 27822.0
  MAP_PROJECTION_ROTATION = 0.0
  MAP_PROJECTION_TYPE = SINUSOIDAL
  MAP_RESOLUTION = 4741.71043093333
  MAP_SCALE = 0.0125
  MAXIMUM_LATITUDE = 5.86771
  MINIMUM_LATITUDE = -9.911009999999999
  POSITIVE_LONGITUDE_DIRECTION = EAST
  REFERENCE_LATITUDE = "N/A"
  REFERENCE_LONGITUDE = "N/A"
  SAMPLE_FIRST_PIXEL = 1
  SAMPLE_LAST_PIXEL = 10068
  SAMPLE_PROJECTION_OFFSET = 3813.0
  SECOND_STANDARD_PARALLEL = "N/A"
  WESTERNMOST_LONGITUDE = 95.1931
END_OBJECT = IMAGE_MAP_PROJECTION
END
