PDS_VERSION_ID = PDS3
/* FILE DATA ELEMENTS */
RECORD_TYPE = UNDEFINED
/* POINTERS TO DATA OBJECTS */
^IMAGE = ("HK944_0000_S24.TIF")
/* IDENTIFICATION DATA ELEMENTS */
DATA_SET_ID = "MEX-M-HRSC-4-REFDR-MAPPROJECT-EXT7-V4.0"
DATA_SET_NAME = "MARS EXPRESS HRSC MAP PROJECTED REFDR EXTENSION7 V4.0"
DETECTOR_ID = MEX_HRSC_S2
EVENT_TYPE = "MARS-REGIONAL-COLOR-Te-Ts"
INSTRUMENT_HOST_ID = MEX
INSTRUMENT_HOST_NAME = "MARS EXPRESS"
INSTRUMENT_ID = HRSC
INSTRUMENT_NAME = "HIGH RESOLUTION STEREO CAMERA"
MISSION_NAME = "MARS EXPRESS"
MISSION_PHASE_NAME = ME_Phase_43
PROCESSING_LEVEL_ID = 4
PRODUCT_CREATION_TIME = 2023-01-29T07:12:14.000Z
PRODUCT_ID = "HK944_0000_S24.TIF"
RELEASE_ID = 0004
REVISION_ID = 0000
/* QUALITY DATA ELEMENTS */
DATA_QUALITY_ID = 1
DATA_QUALITY_DESC = "Data calculated based on original SPICE kernels"
/* TIME DATA ELEMENTS */
SPACECRAFT_CLOCK_START_COUNT = "1/0543864546.23961"
SPACECRAFT_CLOCK_STOP_COUNT = "1/0543864779.13689"
START_TIME = 2020-07-26T17:29:39.230Z
STOP_TIME = 2020-07-26T17:32:29.445Z
/* ORBITAL DATA ELEMENTS */
ASCENDING_NODE_LONGITUDE = 182.29
MAXIMUM_RESOLUTION = 0.0288
FOOTPRINT_POINT_LATITUDE = (-39.694,-39.7005,-39.702,-39.6999, -39.6998,-39.6626,-39.3005,-39.0544, -38.6873,-38.4423,-38.0752,-37.8354, -37.4235,-37.1135,-36.9068,-36.6993, -36.4921,-36.2851,-36.068,-35.7562, -35.5482,-35.2378,-34.9239,-34.7148, -34.401,-34.1909,-33.9812,-33.771, -33.4546,-33.2434,-33.0327,-32.8216, -32.6108,-32.3998,-32.1883,-31.9758, -31.7637,-31.4458,-31.2328,-30.9141, -30.7013,-30.4879,-30.1681,-29.9547, -29.6342,-29.3141,-29.1009,-28.9936, -28.8879,-28.8769,-28.8699,-28.8611, -28.8608,-28.861,-29.0753,-29.289, -29.5031,-29.7169,-29.9306,-30.1444, -30.3581,-30.5712,-30.7845,-30.998, -31.2111,-31.4233,-31.6363,-31.8487, -32.0608,-32.2731,-32.4852,-32.6971, -32.9086,-33.2253,-33.4358,-33.7516, -33.9622,-34.1723,-34.3835,-34.6991, -34.9082,-35.117,-35.3254,-35.5339, -35.8467,-36.159,-36.4805,-36.6875, -36.8949,-37.1012,-37.3079,-37.7207, -38.0652,-38.3104,-38.5552,-38.8, -39.0466,-39.4146,-39.5374,-39.694)
FOOTPRINT_POINT_LONGITUDE = (303.162,302.53,302.002,301.478,301.462 ,301.452,301.468,301.479,301.494, 301.504,301.519,301.528,301.543,301.555 ,301.562,301.569,301.576,301.583,301.59 ,301.599,301.606,301.615,301.624,301.63 ,301.638,301.644,301.649,301.654, 301.661,301.666,301.671,301.676,301.68, 301.684,301.689,301.693,301.697,301.702 ,301.706,301.711,301.715,301.718, 301.723,301.726,301.73,301.734,301.737, 301.738,301.739,302.408,302.714,303.088 ,303.102,303.107,303.108,303.11,303.111 ,303.113,303.114,303.115,303.117, 303.118,303.119,303.121,303.122,303.124 ,303.125,303.126,303.128,303.129,303.13 ,303.131,303.133,303.135,303.137, 303.139,303.14,303.142,303.143,303.145, 303.146,303.148,303.15,303.152,303.154, 303.157,303.159,303.161,303.163,303.165 ,303.167,303.17,303.173,303.175,303.178 ,303.18,303.181,303.183,303.183, 303.162)
ORBIT_NUMBER = 20944
ORBITAL_ECCENTRICITY = 0.577
ORBITAL_INCLINATION = 86.97
ORBITAL_SEMIMAJOR_AXIS = 8826.5
PERIAPSIS_ALTITUDE = 338.13
PERIAPSIS_ARGUMENT_ANGLE = 331.38
PERIAPSIS_TIME = 2020-07-26T17:33:05.000Z
SPACECRAFT_ORIENTATION = (0.0,1.0,0.0)
^MEX_ORIENTATION_DESC = "MEX_ORIENTATION_DESC.TXT"
SPACECRAFT_POINTING_MODE = ACROSSTRACK
^MEX_POINTING_DESC = "MEX_POINTING_DESC.TXT"
RIGHT_ASCENSION = -1e+32
DECLINATION = -1e+32
OFFSET_ANGLE = -0.35
SPACECRAFT_SOLAR_DISTANCE = 2.06715e+08
TARGET_NAME = MARS
/* CAMERA DATA ELEMENTS */
DETECTOR_TEMPERATURE = 18.9822
FOCAL_PLANE_TEMPERATURE = 8.5833
INST_CMPRS_NAME = "DISCRETE COSINE TRANSFORMATION (DCT)"
INST_CMPRS_RATIO = 11.4569
INST_CMPRS_QUALITY = 0
INST_CMPRS_QUANTZ_TBL_ID = 0
INSTRUMENT_TEMPERATURE = 11.4379
LENS_TEMPERATURE = 8.9911
MACROPIXEL_SIZE = 2
MISSING_FRAMES = 3
PIXEL_SUBSAMPLING_FLAG = N
SIGNAL_CHAIN_ID = 1
/* RADIOMETRIC DATA ELEMENTS */
BANDWIDTH = 178.0
CENTER_FILTER_WAVELENGTH = 679.0
RADIANCE_OFFSET = 3.83505
RADIANCE_SCALING_FACTOR = 0.00673407
REFLECTANCE_SCALING_FACTOR = 0.000152388
MEX:REFLECTANCE_OFFSET = 0.0867848
/* IMAGE OBJECT DEFINITIONS */
OBJECT = IMAGE
  INTERCHANGE_FORMAT = BINARY
  LINES = 25579
  LINE_SAMPLES = 3225
  SAMPLE_TYPE = UNSIGNED_INTEGER
  SAMPLE_BITS = 8
  BANDS = 1
  BAND_STORAGE_TYPE = BAND_SEQUENTIAL
  MAXIMUM = 255
  MEAN = 128.116
  MINIMUM = 1
  STANDARD_DEVIATION = 34.7219
END_OBJECT = IMAGE
/* MAP OBJECT DEFINITIONS */
OBJECT = IMAGE_MAP_PROJECTION
  ^DATA_SET_MAP_PROJECTION_CATALOG= "DSMAP.CAT"
  A_AXIS_RADIUS = 3396.0
  B_AXIS_RADIUS = 3396.0
  C_AXIS_RADIUS = 3396.0
  CENTER_LATITUDE = 0.0
  CENTER_LONGITUDE = 302.0
  COORDINATE_SYSTEM_NAME = PLANETOGRAPHIC
  COORDINATE_SYSTEM_TYPE = "BODY-FIXED ROTATING"
  EASTERNMOST_LONGITUDE = 303.183
  FIRST_STANDARD_PARALLEL = "N/A"
  LINE_FIRST_PIXEL = 1
  LINE_LAST_PIXEL = 25579
  LINE_PROJECTION_OFFSET = -68447.75
  MAP_PROJECTION_ROTATION = 0.0
  MAP_PROJECTION_TYPE = SINUSOIDAL
  MAP_RESOLUTION = 2370.85521546667
  MAP_SCALE = 0.025
  MAXIMUM_LATITUDE = -28.8608
  MINIMUM_LATITUDE = -39.702
  POSITIVE_LONGITUDE_DIRECTION = EAST
  REFERENCE_LATITUDE = "N/A"
  REFERENCE_LONGITUDE = "N/A"
  SAMPLE_FIRST_PIXEL = 1
  SAMPLE_LAST_PIXEL = 3225
  SAMPLE_PROJECTION_OFFSET = 949.75
  SECOND_STANDARD_PARALLEL = "N/A"
  WESTERNMOST_LONGITUDE = 301.452
END_OBJECT = IMAGE_MAP_PROJECTION
END
