PDS_VERSION_ID = PDS3
/* FILE DATA ELEMENTS */
RECORD_TYPE = UNDEFINED
/* POINTERS TO DATA OBJECTS */
^IMAGE = ("HK944_0000_P24.TIF")
/* IDENTIFICATION DATA ELEMENTS */
DATA_SET_ID = "MEX-M-HRSC-4-REFDR-MAPPROJECT-EXT7-V4.0"
DATA_SET_NAME = "MARS EXPRESS HRSC MAP PROJECTED REFDR EXTENSION7 V4.0"
DETECTOR_ID = MEX_HRSC_P2
EVENT_TYPE = "MARS-REGIONAL-COLOR-Te-Ts"
INSTRUMENT_HOST_ID = MEX
INSTRUMENT_HOST_NAME = "MARS EXPRESS"
INSTRUMENT_ID = HRSC
INSTRUMENT_NAME = "HIGH RESOLUTION STEREO CAMERA"
MISSION_NAME = "MARS EXPRESS"
MISSION_PHASE_NAME = ME_Phase_43
PROCESSING_LEVEL_ID = 4
PRODUCT_CREATION_TIME = 2023-01-29T07:12:14.000Z
PRODUCT_ID = "HK944_0000_P24.TIF"
RELEASE_ID = 0004
REVISION_ID = 0000
/* QUALITY DATA ELEMENTS */
DATA_QUALITY_ID = 1
DATA_QUALITY_DESC = "Data calculated based on original SPICE kernels"
/* TIME DATA ELEMENTS */
SPACECRAFT_CLOCK_START_COUNT = "1/0543864546.23961"
SPACECRAFT_CLOCK_STOP_COUNT = "1/0543864779.13689"
START_TIME = 2020-07-26T17:29:51.480Z
STOP_TIME = 2020-07-26T17:32:39.974Z
/* ORBITAL DATA ELEMENTS */
ASCENDING_NODE_LONGITUDE = 182.29
MAXIMUM_RESOLUTION = 0.0278
FOOTPRINT_POINT_LATITUDE = (-39.6773,-39.6803,-39.6794,-39.6755, -39.6753,-39.6505,-39.2816,-39.0326, -38.7839,-38.5447,-38.3365,-38.1285, -37.9204,-37.6072,-37.3985,-37.0844, -36.7694,-36.455,-36.2455,-36.0355, -35.8258,-35.6108,-35.2969,-34.98, -34.7687,-34.4517,-34.2398,-34.0281, -33.8161,-33.4971,-33.2845,-32.9655, -32.7528,-32.5404,-32.3274,-32.1139, -31.9004,-31.6874,-31.3664,-31.1522, -30.9389,-30.6175,-30.403,-30.1889, -29.9745,-29.7599,-29.5455,-29.2239, -29.009,-28.9023,-28.8791,-28.8746, -28.869,-28.8614,-28.8612,-28.8615, -29.1839,-29.3988,-29.7211,-29.9359, -30.2581,-30.4725,-30.6869,-30.9014, -31.1161,-31.3297,-31.5441,-31.7578, -32.0784,-32.2921,-32.5056,-32.719, -32.9321,-33.145,-33.4637,-33.6762, -33.9949,-34.2071,-34.4202,-34.6326, -34.9498,-35.2659,-35.4769,-35.6917, -36.0076,-36.323,-36.5333,-36.7432, -36.953,-37.267,-37.4765,-37.6857, -37.9994,-38.3125,-38.7557,-39.0055, -39.2542,-39.5031,-39.6275,-39.6773)
FOOTPRINT_POINT_LONGITUDE = (303.145,302.523,302.003,301.488, 301.472,301.461,301.478,301.488,301.498 ,301.508,301.516,301.524,301.532, 301.544,301.551,301.562,301.573,301.583 ,301.59,301.596,301.603,301.609,301.619 ,301.627,301.633,301.641,301.647, 301.652,301.657,301.664,301.669,301.676 ,301.68,301.685,301.689,301.693,301.697 ,301.701,301.706,301.71,301.713,301.718 ,301.721,301.724,301.727,301.73,301.733 ,301.736,301.739,301.74,301.74,302.209, 302.617,303.082,303.095,303.1,303.102, 303.104,303.106,303.107,303.109,303.11, 303.111,303.112,303.113,303.115,303.116 ,303.117,303.119,303.12,303.121,303.122 ,303.123,303.125,303.127,303.128,303.13 ,303.132,303.132,303.133,303.135, 303.138,303.14,303.141,303.143,303.145, 303.147,303.148,303.15,303.153,303.154, 303.156,303.158,303.16,303.163,303.164, 303.165,303.166,303.166,303.145)
ORBIT_NUMBER = 20944
ORBITAL_ECCENTRICITY = 0.577
ORBITAL_INCLINATION = 86.97
ORBITAL_SEMIMAJOR_AXIS = 8826.5
PERIAPSIS_ALTITUDE = 338.13
PERIAPSIS_ARGUMENT_ANGLE = 331.38
PERIAPSIS_TIME = 2020-07-26T17:33:05.000Z
SPACECRAFT_ORIENTATION = (0.0,1.0,0.0)
^MEX_ORIENTATION_DESC = "MEX_ORIENTATION_DESC.TXT"
SPACECRAFT_POINTING_MODE = ACROSSTRACK
^MEX_POINTING_DESC = "MEX_POINTING_DESC.TXT"
RIGHT_ASCENSION = -1e+32
DECLINATION = -1e+32
OFFSET_ANGLE = -0.35
SPACECRAFT_SOLAR_DISTANCE = 2.06715e+08
TARGET_NAME = MARS
/* CAMERA DATA ELEMENTS */
DETECTOR_TEMPERATURE = 18.9822
FOCAL_PLANE_TEMPERATURE = 8.5833
INST_CMPRS_NAME = "DISCRETE COSINE TRANSFORMATION (DCT)"
INST_CMPRS_RATIO = 6.63947
INST_CMPRS_QUALITY = 0
INST_CMPRS_QUANTZ_TBL_ID = 0
INSTRUMENT_TEMPERATURE = 11.4379
LENS_TEMPERATURE = 8.9911
MACROPIXEL_SIZE = 2
MISSING_FRAMES = 1
PIXEL_SUBSAMPLING_FLAG = N
SIGNAL_CHAIN_ID = 3
/* RADIOMETRIC DATA ELEMENTS */
BANDWIDTH = 177.0
CENTER_FILTER_WAVELENGTH = 676.5
RADIANCE_OFFSET = 3.53577
RADIANCE_SCALING_FACTOR = 0.00647069
REFLECTANCE_SCALING_FACTOR = 0.000146606
MEX:REFLECTANCE_OFFSET = 0.0801094
/* IMAGE OBJECT DEFINITIONS */
OBJECT = IMAGE
  INTERCHANGE_FORMAT = BINARY
  LINES = 25579
  LINE_SAMPLES = 3225
  SAMPLE_TYPE = UNSIGNED_INTEGER
  SAMPLE_BITS = 8
  BANDS = 1
  BAND_STORAGE_TYPE = BAND_SEQUENTIAL
  MAXIMUM = 255
  MEAN = 132.07
  MINIMUM = 1
  STANDARD_DEVIATION = 33.4466
END_OBJECT = IMAGE
/* MAP OBJECT DEFINITIONS */
OBJECT = IMAGE_MAP_PROJECTION
  ^DATA_SET_MAP_PROJECTION_CATALOG= "DSMAP.CAT"
  A_AXIS_RADIUS = 3396.0
  B_AXIS_RADIUS = 3396.0
  C_AXIS_RADIUS = 3396.0
  CENTER_LATITUDE = 0.0
  CENTER_LONGITUDE = 302.0
  COORDINATE_SYSTEM_NAME = PLANETOGRAPHIC
  COORDINATE_SYSTEM_TYPE = "BODY-FIXED ROTATING"
  EASTERNMOST_LONGITUDE = 303.166
  FIRST_STANDARD_PARALLEL = "N/A"
  LINE_FIRST_PIXEL = 1
  LINE_LAST_PIXEL = 25579
  LINE_PROJECTION_OFFSET = -68447.75
  MAP_PROJECTION_ROTATION = 0.0
  MAP_PROJECTION_TYPE = SINUSOIDAL
  MAP_RESOLUTION = 2370.85521546667
  MAP_SCALE = 0.025
  MAXIMUM_LATITUDE = -28.8612
  MINIMUM_LATITUDE = -39.6803
  POSITIVE_LONGITUDE_DIRECTION = EAST
  REFERENCE_LATITUDE = "N/A"
  REFERENCE_LONGITUDE = "N/A"
  SAMPLE_FIRST_PIXEL = 1
  SAMPLE_LAST_PIXEL = 3225
  SAMPLE_PROJECTION_OFFSET = 949.75
  SECOND_STANDARD_PARALLEL = "N/A"
  WESTERNMOST_LONGITUDE = 301.461
END_OBJECT = IMAGE_MAP_PROJECTION
END
