PDS_VERSION_ID = PDS3
/* FILE DATA ELEMENTS */
RECORD_TYPE = UNDEFINED
/* POINTERS TO DATA OBJECTS */
^IMAGE = ("HK940_0000_P14.TIF")
/* IDENTIFICATION DATA ELEMENTS */
DATA_SET_ID = "MEX-M-HRSC-4-REFDR-MAPPROJECT-EXT7-V4.0"
DATA_SET_NAME = "MARS EXPRESS HRSC MAP PROJECTED REFDR EXTENSION7 V4.0"
DETECTOR_ID = MEX_HRSC_P1
EVENT_TYPE = "MARS-REGIONAL-MAPPING-Im-Fl"
INSTRUMENT_HOST_ID = MEX
INSTRUMENT_HOST_NAME = "MARS EXPRESS"
INSTRUMENT_ID = HRSC
INSTRUMENT_NAME = "HIGH RESOLUTION STEREO CAMERA"
MISSION_NAME = "MARS EXPRESS"
MISSION_PHASE_NAME = ME_Phase_43
PROCESSING_LEVEL_ID = 4
PRODUCT_CREATION_TIME = 2023-01-29T07:12:14.000Z
PRODUCT_ID = "HK940_0000_P14.TIF"
RELEASE_ID = 0004
REVISION_ID = 0000
/* QUALITY DATA ELEMENTS */
DATA_QUALITY_ID = 1
DATA_QUALITY_DESC = "Data calculated based on original SPICE kernels"
/* TIME DATA ELEMENTS */
SPACECRAFT_CLOCK_START_COUNT = "1/0543764107.25671"
SPACECRAFT_CLOCK_STOP_COUNT = "1/0543764277.07821"
START_TIME = 2020-07-25T13:36:31.241Z
STOP_TIME = 2020-07-25T13:38:17.506Z
/* ORBITAL DATA ELEMENTS */
ASCENDING_NODE_LONGITUDE = 182.36
MAXIMUM_RESOLUTION = 0.0277
FOOTPRINT_POINT_LATITUDE = (-30.9234,-30.9244,-30.9252,-30.9256, -30.9259,-30.926,-30.9258,-30.9257, -30.9404,-30.7295,-30.5886,-30.4493, -30.3128,-30.108,-29.9718,-29.7676, -29.6312,-29.4271,-29.2231,-29.087, -28.9507,-28.7411,-28.4679,-28.3321, -28.1966,-28.0606,-27.9245,-27.7885, -27.6523,-27.4503,-27.1788,-26.9092, -26.7727,-26.5692,-26.4313,-26.2913, -26.0816,-25.9415,-25.7315,-25.5918, -25.4514,-25.1784,-24.9699,-24.8309, -24.6913,-24.5493,-24.4067,-24.2677, -24.1291,-24.0595,-24.0348,-24.0335, -24.0317,-24.0301,-24.0281,-24.0262, -24.0227,-24.0226,-24.023,-24.2318, -24.4405,-24.5797,-24.7893,-24.9289, -25.0687,-25.208,-25.3473,-25.487, -25.6968,-25.8365,-25.9765,-26.1863, -26.3263,-26.5362,-26.6729,-26.8783, -27.2137,-27.3496,-27.4854,-27.621, -27.7573,-28.0339,-28.3016,-28.4377, -28.6419,-28.7781,-28.9143,-29.1252, -29.2617,-29.4669,-29.6706,-29.8071, -30.0118,-30.2168,-30.4222,-30.5611, -30.702,-30.8425,-30.9132,-30.9234)
FOOTPRINT_POINT_LONGITUDE = (350.904,350.694,350.484,350.312,350.1, 349.888,349.554,349.54,349.524,349.528, 349.531,349.534,349.536,349.541,349.544 ,349.547,349.55,349.554,349.557,349.559 ,349.562,349.564,349.57,349.572,349.573 ,349.575,349.577,349.579,349.582, 349.583,349.587,349.589,349.591,349.593 ,349.594,349.596,349.598,349.599, 349.601,349.603,349.604,349.602,349.603 ,349.603,349.604,349.607,349.611, 349.611,349.611,349.612,349.612,349.766 ,349.984,350.176,350.405,350.596, 350.912,350.924,350.929,350.928,350.928 ,350.927,350.927,350.927,350.926, 350.926,350.926,350.925,350.925,350.924 ,350.924,350.923,350.923,350.923, 350.923,350.923,350.921,350.92,350.92, 350.919,350.919,350.92,350.917,350.917, 350.916,350.916,350.916,350.915,350.914 ,350.914,350.913,350.913,350.912, 350.911,350.911,350.91,350.91,350.909, 350.909,350.904)
ORBIT_NUMBER = 20940
ORBITAL_ECCENTRICITY = 0.577
ORBITAL_INCLINATION = 86.97
ORBITAL_SEMIMAJOR_AXIS = 8826.14
PERIAPSIS_ALTITUDE = 338.33
PERIAPSIS_ARGUMENT_ANGLE = 332.03
PERIAPSIS_TIME = 2020-07-25T13:36:58.000Z
SPACECRAFT_ORIENTATION = (0.0,1.0,0.0)
^MEX_ORIENTATION_DESC = "MEX_ORIENTATION_DESC.TXT"
SPACECRAFT_POINTING_MODE = ACROSSTRACK
^MEX_POINTING_DESC = "MEX_POINTING_DESC.TXT"
RIGHT_ASCENSION = -1e+32
DECLINATION = -1e+32
OFFSET_ANGLE = 0.269
SPACECRAFT_SOLAR_DISTANCE = 2.06735e+08
TARGET_NAME = MARS
/* CAMERA DATA ELEMENTS */
DETECTOR_TEMPERATURE = 16.5354
FOCAL_PLANE_TEMPERATURE = 7.9716
INST_CMPRS_NAME = "DISCRETE COSINE TRANSFORMATION (DCT)"
INST_CMPRS_RATIO = 8.58271
INST_CMPRS_QUALITY = 0
INST_CMPRS_QUANTZ_TBL_ID = 0
INSTRUMENT_TEMPERATURE = 10.8262
LENS_TEMPERATURE = 7.9716
MACROPIXEL_SIZE = 2
MISSING_FRAMES = 2
PIXEL_SUBSAMPLING_FLAG = N
SIGNAL_CHAIN_ID = 3
/* RADIOMETRIC DATA ELEMENTS */
BANDWIDTH = 174.0
CENTER_FILTER_WAVELENGTH = 675.0
RADIANCE_OFFSET = 3.76078
RADIANCE_SCALING_FACTOR = 0.00638823
REFLECTANCE_SCALING_FACTOR = 0.000146858
MEX:REFLECTANCE_OFFSET = 0.0864557
/* IMAGE OBJECT DEFINITIONS */
OBJECT = IMAGE
  INTERCHANGE_FORMAT = BINARY
  LINES = 16403
  LINE_SAMPLES = 2974
  SAMPLE_TYPE = UNSIGNED_INTEGER
  SAMPLE_BITS = 8
  BANDS = 1
  BAND_STORAGE_TYPE = BAND_SEQUENTIAL
  MAXIMUM = 255
  MEAN = 125.828
  MINIMUM = 1
  STANDARD_DEVIATION = 34.5338
END_OBJECT = IMAGE
/* MAP OBJECT DEFINITIONS */
OBJECT = IMAGE_MAP_PROJECTION
  ^DATA_SET_MAP_PROJECTION_CATALOG= "DSMAP.CAT"
  A_AXIS_RADIUS = 3396.0
  B_AXIS_RADIUS = 3396.0
  C_AXIS_RADIUS = 3396.0
  CENTER_LATITUDE = 0.0
  CENTER_LONGITUDE = 350.0
  COORDINATE_SYSTEM_NAME = PLANETOGRAPHIC
  COORDINATE_SYSTEM_TYPE = "BODY-FIXED ROTATING"
  EASTERNMOST_LONGITUDE = 350.929
  FIRST_STANDARD_PARALLEL = "N/A"
  LINE_FIRST_PIXEL = 1
  LINE_LAST_PIXEL = 16403
  LINE_PROJECTION_OFFSET = -56980.75
  MAP_PROJECTION_ROTATION = 0.0
  MAP_PROJECTION_TYPE = SINUSOIDAL
  MAP_RESOLUTION = 2370.85521546667
  MAP_SCALE = 0.025
  MAXIMUM_LATITUDE = -24.0226
  MINIMUM_LATITUDE = -30.9404
  POSITIVE_LONGITUDE_DIRECTION = EAST
  REFERENCE_LATITUDE = "N/A"
  REFERENCE_LONGITUDE = "N/A"
  SAMPLE_FIRST_PIXEL = 1
  SAMPLE_LAST_PIXEL = 2974
  SAMPLE_PROJECTION_OFFSET = 975.25
  SECOND_STANDARD_PARALLEL = "N/A"
  WESTERNMOST_LONGITUDE = 349.524
END_OBJECT = IMAGE_MAP_PROJECTION
END
