PDS_VERSION_ID = PDS3
/* FILE DATA ELEMENTS */
RECORD_TYPE = UNDEFINED
/* POINTERS TO DATA OBJECTS */
^IMAGE = ("HK927_0000_S14.TIF")
/* IDENTIFICATION DATA ELEMENTS */
DATA_SET_ID = "MEX-M-HRSC-4-REFDR-MAPPROJECT-EXT7-V4.0"
DATA_SET_NAME = "MARS EXPRESS HRSC MAP PROJECTED REFDR EXTENSION7 V4.0"
DETECTOR_ID = MEX_HRSC_S1
EVENT_TYPE = "MARS-REGIONAL-STEREO-Vo-Te"
INSTRUMENT_HOST_ID = MEX
INSTRUMENT_HOST_NAME = "MARS EXPRESS"
INSTRUMENT_ID = HRSC
INSTRUMENT_NAME = "HIGH RESOLUTION STEREO CAMERA"
MISSION_NAME = "MARS EXPRESS"
MISSION_PHASE_NAME = ME_Phase_43
PROCESSING_LEVEL_ID = 4
PRODUCT_CREATION_TIME = 2023-01-29T07:12:14.000Z
PRODUCT_ID = "HK927_0000_S14.TIF"
RELEASE_ID = 0004
REVISION_ID = 0000
/* QUALITY DATA ELEMENTS */
DATA_QUALITY_ID = 1
DATA_QUALITY_DESC = "Data calculated based on original SPICE kernels"
/* TIME DATA ELEMENTS */
SPACECRAFT_CLOCK_START_COUNT = "1/0543437242.23973"
SPACECRAFT_CLOCK_STOP_COUNT = "1/0543437457.00835"
START_TIME = 2020-07-21T18:48:57.805Z
STOP_TIME = 2020-07-21T18:51:27.804Z
/* ORBITAL DATA ELEMENTS */
ASCENDING_NODE_LONGITUDE = 182.6
MAXIMUM_RESOLUTION = 0.0142
FOOTPRINT_POINT_LATITUDE = (-31.2,-31.198,-31.1962,-31.1922, -31.1921,-31.2005,-30.9002,-30.7001, -30.4996,-30.3043,-30.1,-29.9003, -29.6011,-29.4013,-29.2024,-28.9128, -28.7199,-28.5272,-28.2383,-28.0457, -27.8532,-27.6609,-27.3725,-27.1803, -26.9883,-26.796,-26.604,-26.4123, -26.2201,-26.0277,-25.6462,-25.1672, -24.785,-24.4987,-24.3028,-24.1054, -23.9083,-23.7115,-23.515,-23.3183, -23.122,-22.9258,-22.7294,-22.5335, -22.3375,-22.1413,-21.9457,-21.5543, -21.4566,-21.4367,-21.4359,-21.4338, -21.432,-21.432,-21.4322,-21.6276, -21.8235,-22.0194,-22.2153,-22.4118, -22.6079,-22.8041,-23.0008,-23.1974, -23.3938,-23.6892,-23.8861,-24.0832, -24.2807,-24.4774,-24.8599,-25.1469, -25.5294,-25.7218,-26.105,-26.2973, -26.5856,-26.7779,-26.97,-27.1625, -27.3548,-27.5473,-27.7401,-27.9326, -28.2214,-28.511,-28.7041,-28.9937, -29.1871,-29.3856,-29.6855,-29.8855, -30.0856,-30.2854,-30.4857,-30.6858, -30.8863,-31.0864,-31.1866,-31.2)
FOOTPRINT_POINT_LONGITUDE = (238.927,238.436,238.122,237.563, 237.549,237.539,237.545,237.549,237.553 ,237.555,237.561,237.564,237.569, 237.572,237.576,237.58,237.583,237.585, 237.589,237.592,237.594,237.596,237.6, 237.602,237.604,237.606,237.608,237.609 ,237.611,237.613,237.615,237.619, 237.621,237.622,237.623,237.624,237.625 ,237.626,237.626,237.627,237.627, 237.628,237.628,237.628,237.628,237.629 ,237.629,237.628,237.628,237.628, 237.932,238.475,238.891,238.904,238.91, 238.911,238.911,238.911,238.912,238.912 ,238.913,238.913,238.914,238.914, 238.914,238.915,238.915,238.916,238.916 ,238.917,238.917,238.918,238.919, 238.919,238.92,238.92,238.921,238.921, 238.922,238.922,238.922,238.923,238.923 ,238.924,238.924,238.925,238.925, 238.926,238.926,238.926,238.927,238.927 ,238.928,238.928,238.928,238.929, 238.929,238.929,238.929,238.927)
ORBIT_NUMBER = 20927
ORBITAL_ECCENTRICITY = 0.578
ORBITAL_INCLINATION = 86.97
ORBITAL_SEMIMAJOR_AXIS = 8836.84
PERIAPSIS_ALTITUDE = 338.43
PERIAPSIS_ARGUMENT_ANGLE = 334.23
PERIAPSIS_TIME = 2020-07-21T18:49:53.000Z
SPACECRAFT_ORIENTATION = (0.0,1.0,0.0)
^MEX_ORIENTATION_DESC = "MEX_ORIENTATION_DESC.TXT"
SPACECRAFT_POINTING_MODE = NADIR
^MEX_POINTING_DESC = "MEX_POINTING_DESC.TXT"
RIGHT_ASCENSION = -1e+32
DECLINATION = -1e+32
OFFSET_ANGLE = -1e+32
SPACECRAFT_SOLAR_DISTANCE = 2.06823e+08
TARGET_NAME = MARS
/* CAMERA DATA ELEMENTS */
DETECTOR_TEMPERATURE = 17.5549
FOCAL_PLANE_TEMPERATURE = 7.7677
INST_CMPRS_NAME = "DISCRETE COSINE TRANSFORMATION (DCT)"
INST_CMPRS_RATIO = 6.74905
INST_CMPRS_QUALITY = 0
INST_CMPRS_QUANTZ_TBL_ID = 0
INSTRUMENT_TEMPERATURE = 11.0301
LENS_TEMPERATURE = 8.3794
MACROPIXEL_SIZE = 1
MISSING_FRAMES = 0
PIXEL_SUBSAMPLING_FLAG = N
SIGNAL_CHAIN_ID = 2
/* RADIOMETRIC DATA ELEMENTS */
BANDWIDTH = 180.0
CENTER_FILTER_WAVELENGTH = 677.0
RADIANCE_OFFSET = 3.92602
RADIANCE_SCALING_FACTOR = 0.0101419
REFLECTANCE_SCALING_FACTOR = 0.000226339
MEX:REFLECTANCE_OFFSET = 0.0876178
/* IMAGE OBJECT DEFINITIONS */
OBJECT = IMAGE
  INTERCHANGE_FORMAT = BINARY
  LINES = 46382
  LINE_SAMPLES = 5863
  SAMPLE_TYPE = UNSIGNED_INTEGER
  SAMPLE_BITS = 8
  BANDS = 1
  BAND_STORAGE_TYPE = BAND_SEQUENTIAL
  MAXIMUM = 255
  MEAN = 112.709
  MINIMUM = 1
  STANDARD_DEVIATION = 17.6755
END_OBJECT = IMAGE
/* MAP OBJECT DEFINITIONS */
OBJECT = IMAGE_MAP_PROJECTION
  ^DATA_SET_MAP_PROJECTION_CATALOG= "DSMAP.CAT"
  A_AXIS_RADIUS = 3396.0
  B_AXIS_RADIUS = 3396.0
  C_AXIS_RADIUS = 3396.0
  CENTER_LATITUDE = 0.0
  CENTER_LONGITUDE = 238.0
  COORDINATE_SYSTEM_NAME = PLANETOGRAPHIC
  COORDINATE_SYSTEM_TYPE = "BODY-FIXED ROTATING"
  EASTERNMOST_LONGITUDE = 238.929
  FIRST_STANDARD_PARALLEL = "N/A"
  LINE_FIRST_PIXEL = 1
  LINE_LAST_PIXEL = 46382
  LINE_PROJECTION_OFFSET = -101748.0
  MAP_PROJECTION_ROTATION = 0.0
  MAP_PROJECTION_TYPE = SINUSOIDAL
  MAP_RESOLUTION = 4741.71043093333
  MAP_SCALE = 0.0125
  MAXIMUM_LATITUDE = -21.432
  MINIMUM_LATITUDE = -31.2005
  POSITIVE_LONGITUDE_DIRECTION = EAST
  REFERENCE_LATITUDE = "N/A"
  REFERENCE_LONGITUDE = "N/A"
  SAMPLE_FIRST_PIXEL = 1
  SAMPLE_LAST_PIXEL = 5863
  SAMPLE_PROJECTION_OFFSET = 1897.0
  SECOND_STANDARD_PARALLEL = "N/A"
  WESTERNMOST_LONGITUDE = 237.539
END_OBJECT = IMAGE_MAP_PROJECTION
END
