PDS_VERSION_ID = PDS3
/* FILE DATA ELEMENTS */
RECORD_TYPE = UNDEFINED
/* POINTERS TO DATA OBJECTS */
^IMAGE = ("HK927_0000_P14.TIF")
/* IDENTIFICATION DATA ELEMENTS */
DATA_SET_ID = "MEX-M-HRSC-4-REFDR-MAPPROJECT-EXT7-V4.0"
DATA_SET_NAME = "MARS EXPRESS HRSC MAP PROJECTED REFDR EXTENSION7 V4.0"
DETECTOR_ID = MEX_HRSC_P1
EVENT_TYPE = "MARS-REGIONAL-STEREO-Vo-Te"
INSTRUMENT_HOST_ID = MEX
INSTRUMENT_HOST_NAME = "MARS EXPRESS"
INSTRUMENT_ID = HRSC
INSTRUMENT_NAME = "HIGH RESOLUTION STEREO CAMERA"
MISSION_NAME = "MARS EXPRESS"
MISSION_PHASE_NAME = ME_Phase_43
PROCESSING_LEVEL_ID = 4
PRODUCT_CREATION_TIME = 2023-01-29T07:12:14.000Z
PRODUCT_ID = "HK927_0000_P14.TIF"
RELEASE_ID = 0004
REVISION_ID = 0000
/* QUALITY DATA ELEMENTS */
DATA_QUALITY_ID = 1
DATA_QUALITY_DESC = "Data calculated based on original SPICE kernels"
/* TIME DATA ELEMENTS */
SPACECRAFT_CLOCK_START_COUNT = "1/0543437242.23973"
SPACECRAFT_CLOCK_STOP_COUNT = "1/0543437457.00835"
START_TIME = 2020-07-21T18:48:47.300Z
STOP_TIME = 2020-07-21T18:51:17.191Z
/* ORBITAL DATA ELEMENTS */
ASCENDING_NODE_LONGITUDE = 182.6
MAXIMUM_RESOLUTION = 0.0275
FOOTPRINT_POINT_LATITUDE = (-31.2176,-31.2161,-31.2126,-31.2093, -31.2091,-31.2144,-31.0149,-30.8152, -30.6158,-30.4162,-30.2195,-30.0177, -29.8183,-29.6191,-29.4198,-29.2206, -29.0215,-28.8223,-28.6232,-28.4281, -28.2357,-28.0431,-27.7544,-27.562, -27.3697,-27.1774,-26.889,-26.6968, -26.5046,-26.3125,-26.12,-25.7368, -25.4491,-25.2572,-25.0653,-24.6821, -24.2034,-23.8208,-23.6242,-23.3282, -23.1309,-22.9336,-22.7365,-22.4409, -22.2439,-21.9487,-21.7518,-21.5553, -21.457,-21.4441,-21.443,-21.4419, -21.4403,-21.4403,-21.4406,-21.7359, -21.9327,-22.1298,-22.4256,-22.7215, -22.9188,-23.1163,-23.3137,-23.5113, -23.8072,-24.2861,-24.4777,-24.6697, -24.8614,-25.0531,-25.245,-25.5327, -25.7252,-25.9173,-26.2056,-26.3981, -26.5904,-26.783,-26.9753,-27.1678, -27.3603,-27.5529,-27.7456,-28.0344, -28.227,-28.4199,-28.6149,-28.8144, -29.0137,-29.2132,-29.5124,-29.8117, -30.0114,-30.2108,-30.4105,-30.6102, -30.8099,-31.1094,-31.2094,-31.2176)
FOOTPRINT_POINT_LONGITUDE = (238.927,238.511,237.949,237.561, 237.547,237.54,237.544,237.548,237.552, 237.556,237.558,237.563,237.567,237.57, 237.574,237.577,237.58,237.583,237.586, 237.589,237.591,237.594,237.598,237.6, 237.602,237.605,237.608,237.61,237.612, 237.613,237.615,237.618,237.62,237.622, 237.623,237.626,237.628,237.63,237.631, 237.632,237.632,237.633,237.633,237.634 ,237.634,237.634,237.634,237.634, 237.634,237.634,238.163,238.507,238.888 ,238.901,238.905,238.906,238.906, 238.907,238.908,238.908,238.909,238.909 ,238.91,238.91,238.911,238.912,238.913, 238.914,238.914,238.914,238.915,238.916 ,238.916,238.917,238.917,238.918, 238.918,238.919,238.919,238.92,238.92, 238.921,238.921,238.922,238.922,238.923 ,238.923,238.924,238.924,238.925, 238.925,238.926,238.927,238.927,238.928 ,238.928,238.928,238.929,238.929, 238.927)
ORBIT_NUMBER = 20927
ORBITAL_ECCENTRICITY = 0.578
ORBITAL_INCLINATION = 86.97
ORBITAL_SEMIMAJOR_AXIS = 8836.84
PERIAPSIS_ALTITUDE = 338.43
PERIAPSIS_ARGUMENT_ANGLE = 334.23
PERIAPSIS_TIME = 2020-07-21T18:49:53.000Z
SPACECRAFT_ORIENTATION = (0.0,1.0,0.0)
^MEX_ORIENTATION_DESC = "MEX_ORIENTATION_DESC.TXT"
SPACECRAFT_POINTING_MODE = NADIR
^MEX_POINTING_DESC = "MEX_POINTING_DESC.TXT"
RIGHT_ASCENSION = -1e+32
DECLINATION = -1e+32
OFFSET_ANGLE = -1e+32
SPACECRAFT_SOLAR_DISTANCE = 2.06823e+08
TARGET_NAME = MARS
/* CAMERA DATA ELEMENTS */
DETECTOR_TEMPERATURE = 17.5549
FOCAL_PLANE_TEMPERATURE = 7.7677
INST_CMPRS_NAME = "DISCRETE COSINE TRANSFORMATION (DCT)"
INST_CMPRS_RATIO = 9.14374
INST_CMPRS_QUALITY = 0
INST_CMPRS_QUANTZ_TBL_ID = 0
INSTRUMENT_TEMPERATURE = 11.0301
LENS_TEMPERATURE = 8.3794
MACROPIXEL_SIZE = 2
MISSING_FRAMES = 0
PIXEL_SUBSAMPLING_FLAG = N
SIGNAL_CHAIN_ID = 3
/* RADIOMETRIC DATA ELEMENTS */
BANDWIDTH = 174.0
CENTER_FILTER_WAVELENGTH = 675.0
RADIANCE_OFFSET = 3.81401
RADIANCE_SCALING_FACTOR = 0.0102337
REFLECTANCE_SCALING_FACTOR = 0.000235458
MEX:REFLECTANCE_OFFSET = 0.0877535
/* IMAGE OBJECT DEFINITIONS */
OBJECT = IMAGE
  INTERCHANGE_FORMAT = BINARY
  LINES = 23191
  LINE_SAMPLES = 2932
  SAMPLE_TYPE = UNSIGNED_INTEGER
  SAMPLE_BITS = 8
  BANDS = 1
  BAND_STORAGE_TYPE = BAND_SEQUENTIAL
  MAXIMUM = 255
  MEAN = 105.184
  MINIMUM = 1
  STANDARD_DEVIATION = 16.7288
END_OBJECT = IMAGE
/* MAP OBJECT DEFINITIONS */
OBJECT = IMAGE_MAP_PROJECTION
  ^DATA_SET_MAP_PROJECTION_CATALOG= "DSMAP.CAT"
  A_AXIS_RADIUS = 3396.0
  B_AXIS_RADIUS = 3396.0
  C_AXIS_RADIUS = 3396.0
  CENTER_LATITUDE = 0.0
  CENTER_LONGITUDE = 238.0
  COORDINATE_SYSTEM_NAME = PLANETOGRAPHIC
  COORDINATE_SYSTEM_TYPE = "BODY-FIXED ROTATING"
  EASTERNMOST_LONGITUDE = 238.929
  FIRST_STANDARD_PARALLEL = "N/A"
  LINE_FIRST_PIXEL = 1
  LINE_LAST_PIXEL = 23191
  LINE_PROJECTION_OFFSET = -50874.25
  MAP_PROJECTION_ROTATION = 0.0
  MAP_PROJECTION_TYPE = SINUSOIDAL
  MAP_RESOLUTION = 2370.85521546667
  MAP_SCALE = 0.025
  MAXIMUM_LATITUDE = -21.4403
  MINIMUM_LATITUDE = -31.2176
  POSITIVE_LONGITUDE_DIRECTION = EAST
  REFERENCE_LATITUDE = "N/A"
  REFERENCE_LONGITUDE = "N/A"
  SAMPLE_FIRST_PIXEL = 1
  SAMPLE_LAST_PIXEL = 2932
  SAMPLE_PROJECTION_OFFSET = 948.25
  SECOND_STANDARD_PARALLEL = "N/A"
  WESTERNMOST_LONGITUDE = 237.54
END_OBJECT = IMAGE_MAP_PROJECTION
END
