PDS_VERSION_ID = PDS3
/* FILE DATA ELEMENTS */
RECORD_TYPE = UNDEFINED
/* POINTERS TO DATA OBJECTS */
^IMAGE = ("HK917_0000_P24.TIF")
/* IDENTIFICATION DATA ELEMENTS */
DATA_SET_ID = "MEX-M-HRSC-4-REFDR-MAPPROJECT-EXT7-V4.0"
DATA_SET_NAME = "MARS EXPRESS HRSC MAP PROJECTED REFDR EXTENSION7 V4.0"
DETECTOR_ID = MEX_HRSC_P2
EVENT_TYPE = "MARS-REGIONAL-MAPPING-Im-Fl"
INSTRUMENT_HOST_ID = MEX
INSTRUMENT_HOST_NAME = "MARS EXPRESS"
INSTRUMENT_ID = HRSC
INSTRUMENT_NAME = "HIGH RESOLUTION STEREO CAMERA"
MISSION_NAME = "MARS EXPRESS"
MISSION_PHASE_NAME = ME_Phase_43
PROCESSING_LEVEL_ID = 4
PRODUCT_CREATION_TIME = 2023-01-29T07:12:14.000Z
PRODUCT_ID = "HK917_0000_P24.TIF"
RELEASE_ID = 0004
REVISION_ID = 0000
/* QUALITY DATA ELEMENTS */
DATA_QUALITY_ID = 1
DATA_QUALITY_DESC = "Data calculated based on original SPICE kernels"
/* TIME DATA ELEMENTS */
SPACECRAFT_CLOCK_START_COUNT = "1/0543185853.24905"
SPACECRAFT_CLOCK_STOP_COUNT = "1/0543186051.09086"
START_TIME = 2020-07-18T20:58:17.415Z
STOP_TIME = 2020-07-18T21:00:31.164Z
/* ORBITAL DATA ELEMENTS */
ASCENDING_NODE_LONGITUDE = 182.78
MAXIMUM_RESOLUTION = 0.0279
FOOTPRINT_POINT_LATITUDE = (-29.8746,-29.8718,-29.8688,-29.8653, -29.8613,-29.8567,-29.8505,-29.8502, -29.8315,-29.4057,-29.2313,-28.9762, -28.6336,-28.4623,-28.2909,-27.951, -27.7789,-27.6059,-27.4327,-27.2602, -27.0877,-26.7465,-26.5731,-26.3993, -26.2269,-26.055,-25.8828,-25.7102, -25.5373,-25.3645,-25.192,-25.0191, -24.76,-24.5868,-24.4112,-24.2357, -24.0624,-23.7198,-23.5463,-23.2859, -23.1124,-22.939,-22.6787,-22.5044, -22.3304,-22.1562,-21.9821,-21.8084, -21.5473,-21.2881,-21.2011,-21.1916, -21.194,-21.2001,-21.2033,-21.2022, -21.2023,-21.2027,-21.3788,-21.5526, -21.7269,-21.988,-22.1622,-22.3349, -22.5089,-22.683,-22.8564,-23.0292, -23.2046,-23.4677,-23.6412,-23.815, -24.1566,-24.3307,-24.5085,-24.6812, -24.8544,-25.1142,-25.3721,-25.5472, -25.7201,-25.8928,-26.0655,-26.3253, -26.4985,-26.8424,-27.1013,-27.2741, -27.5313,-27.7069,-27.8803,-28.0525, -28.2239,-28.5641,-28.9058,-29.0772, -29.4196,-29.7613,-29.8467,-29.8746)
FOOTPRINT_POINT_LONGITUDE = (179.9,179.643,179.425,179.207,178.989, 178.77,178.508,178.495,178.478,178.489, 178.49,178.497,178.504,178.508,178.511, 178.52,178.523,178.525,178.527,178.53, 178.533,178.54,178.542,178.544,178.547, 178.55,178.552,178.555,178.557,178.559, 178.562,178.564,178.567,178.569,178.569 ,178.57,178.571,178.577,178.579,178.581 ,178.583,178.584,178.586,178.587, 178.588,178.589,178.59,178.591,178.592, 178.595,178.595,178.595,178.942,179.339 ,179.561,179.856,179.869,179.873, 179.873,179.874,179.875,179.876,179.876 ,179.877,179.878,179.879,179.88,179.88, 179.881,179.881,179.882,179.882,179.885 ,179.886,179.885,179.886,179.887, 179.888,179.889,179.889,179.89,179.891, 179.892,179.892,179.893,179.895,179.895 ,179.896,179.897,179.897,179.897, 179.898,179.898,179.901,179.902,179.903 ,179.904,179.906,179.906,179.9)
ORBIT_NUMBER = 20917
ORBITAL_ECCENTRICITY = 0.577
ORBITAL_INCLINATION = 86.98
ORBITAL_SEMIMAJOR_AXIS = 8828.74
PERIAPSIS_ALTITUDE = 339.93
PERIAPSIS_ARGUMENT_ANGLE = 336.0
PERIAPSIS_TIME = 2020-07-18T21:00:09.000Z
SPACECRAFT_ORIENTATION = (0.0,1.0,0.0)
^MEX_ORIENTATION_DESC = "MEX_ORIENTATION_DESC.TXT"
SPACECRAFT_POINTING_MODE = ACROSSTRACK
^MEX_POINTING_DESC = "MEX_POINTING_DESC.TXT"
RIGHT_ASCENSION = -1e+32
DECLINATION = -1e+32
OFFSET_ANGLE = 0.229
SPACECRAFT_SOLAR_DISTANCE = 2.06911e+08
TARGET_NAME = MARS
/* CAMERA DATA ELEMENTS */
DETECTOR_TEMPERATURE = 18.5744
FOCAL_PLANE_TEMPERATURE = 8.5833
INST_CMPRS_NAME = "DISCRETE COSINE TRANSFORMATION (DCT)"
INST_CMPRS_RATIO = 6.79117
INST_CMPRS_QUALITY = 0
INST_CMPRS_QUANTZ_TBL_ID = 0
INSTRUMENT_TEMPERATURE = 11.234
LENS_TEMPERATURE = 8.7872
MACROPIXEL_SIZE = 2
MISSING_FRAMES = 0
PIXEL_SUBSAMPLING_FLAG = N
SIGNAL_CHAIN_ID = 3
/* RADIOMETRIC DATA ELEMENTS */
BANDWIDTH = 177.0
CENTER_FILTER_WAVELENGTH = 676.5
RADIANCE_OFFSET = 3.29493
RADIANCE_SCALING_FACTOR = 0.00719569
REFLECTANCE_SCALING_FACTOR = 0.000163342
MEX:REFLECTANCE_OFFSET = 0.0747948
/* IMAGE OBJECT DEFINITIONS */
OBJECT = IMAGE
  INTERCHANGE_FORMAT = BINARY
  LINES = 20540
  LINE_SAMPLES = 2981
  SAMPLE_TYPE = UNSIGNED_INTEGER
  SAMPLE_BITS = 8
  BANDS = 1
  BAND_STORAGE_TYPE = BAND_SEQUENTIAL
  MAXIMUM = 255
  MEAN = 111.228
  MINIMUM = 1
  STANDARD_DEVIATION = 37.4056
END_OBJECT = IMAGE
/* MAP OBJECT DEFINITIONS */
OBJECT = IMAGE_MAP_PROJECTION
  ^DATA_SET_MAP_PROJECTION_CATALOG= "DSMAP.CAT"
  A_AXIS_RADIUS = 3396.0
  B_AXIS_RADIUS = 3396.0
  C_AXIS_RADIUS = 3396.0
  CENTER_LATITUDE = 0.0
  CENTER_LONGITUDE = 179.0
  COORDINATE_SYSTEM_NAME = PLANETOGRAPHIC
  COORDINATE_SYSTEM_TYPE = "BODY-FIXED ROTATING"
  EASTERNMOST_LONGITUDE = 179.906
  FIRST_STANDARD_PARALLEL = "N/A"
  LINE_FIRST_PIXEL = 1
  LINE_LAST_PIXEL = 20540
  LINE_PROJECTION_OFFSET = -50232.25
  MAP_PROJECTION_ROTATION = 0.0
  MAP_PROJECTION_TYPE = SINUSOIDAL
  MAP_RESOLUTION = 2370.85521546667
  MAP_SCALE = 0.025
  MAXIMUM_LATITUDE = -21.1916
  MINIMUM_LATITUDE = -29.8746
  POSITIVE_LONGITUDE_DIRECTION = EAST
  REFERENCE_LATITUDE = "N/A"
  REFERENCE_LONGITUDE = "N/A"
  SAMPLE_FIRST_PIXEL = 1
  SAMPLE_LAST_PIXEL = 2981
  SAMPLE_PROJECTION_OFFSET = 1050.75
  SECOND_STANDARD_PARALLEL = "N/A"
  WESTERNMOST_LONGITUDE = 178.478
END_OBJECT = IMAGE_MAP_PROJECTION
END
