PDS_VERSION_ID = PDS3
/* FILE DATA ELEMENTS */
RECORD_TYPE = UNDEFINED
/* POINTERS TO DATA OBJECTS */
^IMAGE = ("HK905_0000_BL4.TIF")
/* IDENTIFICATION DATA ELEMENTS */
DATA_SET_ID = "MEX-M-HRSC-4-REFDR-MAPPROJECT-EXT7-V4.0"
DATA_SET_NAME = "MARS EXPRESS HRSC MAP PROJECTED REFDR EXTENSION7 V4.0"
DETECTOR_ID = MEX_HRSC_BLUE
EVENT_TYPE = "MARS-REGIONAL-MAPPING-Gl-Pf"
INSTRUMENT_HOST_ID = MEX
INSTRUMENT_HOST_NAME = "MARS EXPRESS"
INSTRUMENT_ID = HRSC
INSTRUMENT_NAME = "HIGH RESOLUTION STEREO CAMERA"
MISSION_NAME = "MARS EXPRESS"
MISSION_PHASE_NAME = ME_Phase_43
PROCESSING_LEVEL_ID = 4
PRODUCT_CREATION_TIME = 2023-01-29T07:12:14.000Z
PRODUCT_ID = "HK905_0000_BL4.TIF"
RELEASE_ID = 0004
REVISION_ID = 0000
/* QUALITY DATA ELEMENTS */
DATA_QUALITY_ID = 1
DATA_QUALITY_DESC = "Data calculated based on original SPICE kernels"
/* TIME DATA ELEMENTS */
SPACECRAFT_CLOCK_START_COUNT = "1/0542883907.25688"
SPACECRAFT_CLOCK_STOP_COUNT = "1/0542884231.15216"
START_TIME = 2020-07-15T09:06:20.150Z
STOP_TIME = 2020-07-15T09:10:25.386Z
/* ORBITAL DATA ELEMENTS */
ASCENDING_NODE_LONGITUDE = 183.0
MAXIMUM_RESOLUTION = 0.057 <m/pixel>
FOOTPRINT_POINT_LATITUDE = (-44.9858,-44.9794,-44.9676,-44.9482, -44.9476,-44.9308,-44.439,-44.1181, -43.7983,-43.475,-43.1597,-42.8453, -42.3728,-42.0633,-41.7533,-41.2896, -40.9861,-40.53,-40.2258,-39.6308, -39.0342,-38.7352,-38.286,-37.9866, -37.6867,-37.235,-36.9336,-36.63, -36.3276,-36.025,-35.7222,-35.4194, -35.1176,-34.8164,-34.5116,-34.2057, -33.7475,-33.4412,-32.9823,-32.6761, -32.3698,-31.9111,-31.6039,-31.1427, -30.8357,-30.5282,-30.2203,-29.757, -29.6024,-29.5877,-29.59,-29.5917, -29.5918,-29.5918,-29.5928,-30.055, -30.3647,-30.6743,-30.9827,-31.4444, -31.7522,-32.0597,-32.367,-32.6739, -32.9806,-33.287,-33.5928,-33.8985, -34.204,-34.5091,-34.8138,-35.1177, -35.5733,-35.8767,-36.1795,-36.4825, -36.7861,-37.0878,-37.39,-37.6914, -38.1428,-38.4435,-38.8937,-39.4923, -39.9397,-40.5428,-40.9996,-41.3036, -41.7684,-42.0784,-42.3892,-42.7061, -43.023,-43.497,-43.8199,-44.1426, -44.4641,-44.7927,-44.9572,-44.9858)
FOOTPRINT_POINT_LONGITUDE = (325.97,325.32,324.59,323.757,323.736, 323.705,323.744,323.769,323.797,323.819 ,323.841,323.866,323.897,323.917, 323.937,323.965,323.983,324.01,324.027, 324.059,324.09,324.105,324.127,324.142, 324.156,324.175,324.188,324.198,324.21, 324.221,324.233,324.245,324.258,324.273 ,324.282,324.29,324.304,324.312,324.325 ,324.333,324.342,324.356,324.364, 324.375,324.383,324.39,324.397,324.406, 324.409,324.409,324.765,325.136,325.815 ,325.828,325.833,325.841,325.841, 325.842,325.845,325.851,325.854,325.857 ,325.86,325.863,325.866,325.869,325.872 ,325.876,325.879,325.882,325.885,325.89 ,325.896,325.9,325.904,325.907,325.908, 325.913,325.915,325.919,325.924,325.927 ,325.931,325.938,325.945,325.951, 325.957,325.962,325.966,325.972,325.974 ,325.973,325.978,325.985,325.989, 325.994,326.0,326.004,326.006,325.97)
ORBIT_NUMBER = 20905
ORBITAL_ECCENTRICITY = 0.577
ORBITAL_INCLINATION = 86.98
ORBITAL_SEMIMAJOR_AXIS = 8831.27
PERIAPSIS_ALTITUDE = 340.53
PERIAPSIS_ARGUMENT_ANGLE = 338.06
PERIAPSIS_TIME = 2020-07-15T09:12:30.000Z
SPACECRAFT_ORIENTATION = (0.0,1.0,0.0)
^MEX_ORIENTATION_DESC = "MEX_ORIENTATION_DESC.TXT"
SPACECRAFT_POINTING_MODE = ACROSSTRACK
^MEX_POINTING_DESC = "MEX_POINTING_DESC.TXT"
RIGHT_ASCENSION = -1e+32
DECLINATION = -1e+32
OFFSET_ANGLE = -0.15
SPACECRAFT_SOLAR_DISTANCE = 2.07041e+08
TARGET_NAME = MARS
/* CAMERA DATA ELEMENTS */
DETECTOR_TEMPERATURE = 17.7588 <degC>
FOCAL_PLANE_TEMPERATURE = 8.7872 <degC>
INST_CMPRS_NAME = "DISCRETE COSINE TRANSFORMATION (DCT)"
INST_CMPRS_RATIO = 15.4222
INST_CMPRS_QUALITY = 0
INST_CMPRS_QUANTZ_TBL_ID = 0
INSTRUMENT_TEMPERATURE = 11.8457 <degC>
LENS_TEMPERATURE = 8.5833 <degC>
MACROPIXEL_SIZE = 4
MISSING_FRAMES = 0
PIXEL_SUBSAMPLING_FLAG = N
SIGNAL_CHAIN_ID = 2
/* RADIOMETRIC DATA ELEMENTS */
BANDWIDTH = 76.0 <nm>
CENTER_FILTER_WAVELENGTH = 444.0 <nm>
RADIANCE_OFFSET = 0.491151 <W*m**-2*sr**-1>
RADIANCE_SCALING_FACTOR = 0.00131182 <W*m**-2*sr**-1>
REFLECTANCE_SCALING_FACTOR = 5.77752e-05
MEX:REFLECTANCE_OFFSET = 0.0216313
/* IMAGE OBJECT DEFINITIONS */
OBJECT = IMAGE
  INTERCHANGE_FORMAT = BINARY
  LINES = 18228
  LINE_SAMPLES = 1950
  SAMPLE_TYPE = UNSIGNED_INTEGER
  SAMPLE_BITS = 8
  BANDS = 1
  BAND_STORAGE_TYPE = BAND_SEQUENTIAL
  MAXIMUM = 255
  MEAN = 111.907
  MINIMUM = 1
  STANDARD_DEVIATION = 63.1128
END_OBJECT = IMAGE
/* MAP OBJECT DEFINITIONS */
OBJECT = IMAGE_MAP_PROJECTION
  ^DATA_SET_MAP_PROJECTION_CATALOG= "DSMAP.CAT"
  A_AXIS_RADIUS = 3396.0 <km>
  B_AXIS_RADIUS = 3396.0 <km>
  C_AXIS_RADIUS = 3396.0 <km>
  CENTER_LATITUDE = 0.0
  CENTER_LONGITUDE = 325.0
  COORDINATE_SYSTEM_NAME = PLANETOGRAPHIC
  COORDINATE_SYSTEM_TYPE = "BODY-FIXED ROTATING"
  EASTERNMOST_LONGITUDE = 326.006
  FIRST_STANDARD_PARALLEL = "N/A"
  LINE_FIRST_PIXEL = 1
  LINE_LAST_PIXEL = 18228
  LINE_PROJECTION_OFFSET = -35086.375
  MAP_PROJECTION_ROTATION = 0.0
  MAP_PROJECTION_TYPE = SINUSOIDAL
  MAP_RESOLUTION = 1185.42760773333 <pixel/degree>
  MAP_SCALE = 0.05 <km/pixel>
  MAXIMUM_LATITUDE = -29.5877
  MINIMUM_LATITUDE = -44.9858
  POSITIVE_LONGITUDE_DIRECTION = EAST
  REFERENCE_LATITUDE = "N/A"
  REFERENCE_LONGITUDE = "N/A"
  SAMPLE_FIRST_PIXEL = 1
  SAMPLE_LAST_PIXEL = 1950
  SAMPLE_PROJECTION_OFFSET = 1088.875
  SECOND_STANDARD_PARALLEL = "N/A"
  WESTERNMOST_LONGITUDE = 323.705
END_OBJECT = IMAGE_MAP_PROJECTION
END
