PDS_VERSION_ID = PDS3
/* FILE DATA ELEMENTS */
RECORD_TYPE = UNDEFINED
/* POINTERS TO DATA OBJECTS */
^IMAGE = ("HK900_0000_P14.TIF")
/* IDENTIFICATION DATA ELEMENTS */
DATA_SET_ID = "MEX-M-HRSC-4-REFDR-MAPPROJECT-EXT7-V4.0"
DATA_SET_NAME = "MARS EXPRESS HRSC MAP PROJECTED REFDR EXTENSION7 V4.0"
DETECTOR_ID = MEX_HRSC_P1
EVENT_TYPE = "MARS-REGIONAL-MAPPING-Vo-Im"
INSTRUMENT_HOST_ID = MEX
INSTRUMENT_HOST_NAME = "MARS EXPRESS"
INSTRUMENT_ID = HRSC
INSTRUMENT_NAME = "HIGH RESOLUTION STEREO CAMERA"
MISSION_NAME = "MARS EXPRESS"
MISSION_PHASE_NAME = ME_Phase_43
PROCESSING_LEVEL_ID = 4
PRODUCT_CREATION_TIME = 2023-01-29T07:12:14.000Z
PRODUCT_ID = "HK900_0000_P14.TIF"
RELEASE_ID = 0004
REVISION_ID = 0000
/* QUALITY DATA ELEMENTS */
DATA_QUALITY_ID = 1
DATA_QUALITY_DESC = "Data calculated based on original SPICE kernels"
/* TIME DATA ELEMENTS */
SPACECRAFT_CLOCK_START_COUNT = "1/0542758585.24882"
SPACECRAFT_CLOCK_STOP_COUNT = "1/0542758792.56861"
START_TIME = 2020-07-13T22:17:49.144Z
STOP_TIME = 2020-07-13T22:20:12.516Z
/* ORBITAL DATA ELEMENTS */
ASCENDING_NODE_LONGITUDE = 183.09
MAXIMUM_RESOLUTION = 0.0279
FOOTPRINT_POINT_LATITUDE = (-21.9137,-21.9215,-21.9252,-21.9289, -21.9325,-21.9373,-21.9375,-21.9413, -21.7548,-21.5684,-21.3816,-21.1949, -21.0082,-20.8218,-20.5421,-20.2627, -20.0769,-19.7975,-19.6113,-19.426, -19.2401,-19.0545,-18.869,-18.6834, -18.4979,-18.3127,-18.1272,-17.942, -17.7565,-17.5712,-17.3862,-17.1089, -16.924,-16.7394,-16.5549,-16.3704, -16.0936,-15.9097,-15.7257,-15.3626, -15.1778,-14.9905,-14.6233,-14.3481, -14.0732,-13.7073,-13.3422,-12.886, -12.7948,-12.7042,-12.6972,-12.6904, -12.6803,-12.6706,-12.6703,-12.6705, -13.0354,-13.3092,-13.6756,-13.9504, -14.1363,-14.5006,-14.7764,-14.9603, -15.3277,-15.6039,-15.7881,-15.9723, -16.1568,-16.3414,-16.5261,-16.7109, -16.8959,-17.0807,-17.3582,-17.5433, -17.7286,-17.9139,-18.0995,-18.2847, -18.4705,-18.6567,-18.8425,-19.0284, -19.2143,-19.4,-19.5861,-19.7722, -19.9586,-20.145,-20.3309,-20.5174, -20.704,-20.8906,-21.0774,-21.2641, -21.4507,-21.7311,-21.8246,-21.9137)
FOOTPRINT_POINT_LONGITUDE = (115.618,115.226,115.028,114.828, 114.627,114.349,114.336,114.328,114.329 ,114.33,114.332,114.334,114.335,114.336 ,114.338,114.339,114.34,114.341,114.342 ,114.342,114.343,114.343,114.343, 114.343,114.344,114.344,114.344,114.344 ,114.344,114.344,114.344,114.344, 114.344,114.343,114.343,114.342,114.342 ,114.341,114.34,114.334,114.334,114.336 ,114.334,114.333,114.331,114.328, 114.325,114.321,114.32,114.32,114.586, 114.837,115.211,115.592,115.604,115.608 ,115.608,115.609,115.609,115.609, 115.609,115.61,115.61,115.61,115.61, 115.611,115.611,115.611,115.611,115.611 ,115.612,115.612,115.612,115.612, 115.613,115.613,115.613,115.613,115.614 ,115.614,115.614,115.614,115.614, 115.615,115.615,115.615,115.615,115.616 ,115.616,115.616,115.616,115.617, 115.617,115.617,115.617,115.618,115.618 ,115.618,115.618,115.618)
ORBIT_NUMBER = 20900
ORBITAL_ECCENTRICITY = 0.578
ORBITAL_INCLINATION = 86.96
ORBITAL_SEMIMAJOR_AXIS = 8839.85
PERIAPSIS_ALTITUDE = 340.47
PERIAPSIS_ARGUMENT_ANGLE = 338.91
PERIAPSIS_TIME = 2020-07-13T22:17:43.000Z
SPACECRAFT_ORIENTATION = (0.0,1.0,0.0)
^MEX_ORIENTATION_DESC = "MEX_ORIENTATION_DESC.TXT"
SPACECRAFT_POINTING_MODE = ACROSSTRACK
^MEX_POINTING_DESC = "MEX_POINTING_DESC.TXT"
RIGHT_ASCENSION = -1e+32
DECLINATION = -1e+32
OFFSET_ANGLE = 0.51
SPACECRAFT_SOLAR_DISTANCE = 2.07102e+08
TARGET_NAME = MARS
/* CAMERA DATA ELEMENTS */
DETECTOR_TEMPERATURE = 16.9432
FOCAL_PLANE_TEMPERATURE = 7.7677
INST_CMPRS_NAME = "DISCRETE COSINE TRANSFORMATION (DCT)"
INST_CMPRS_RATIO = 50.3985
INST_CMPRS_QUALITY = 0
INST_CMPRS_QUANTZ_TBL_ID = 0
INSTRUMENT_TEMPERATURE = 11.0301
LENS_TEMPERATURE = 8.5833
MACROPIXEL_SIZE = 2
MISSING_FRAMES = 0
PIXEL_SUBSAMPLING_FLAG = N
SIGNAL_CHAIN_ID = 3
/* RADIOMETRIC DATA ELEMENTS */
BANDWIDTH = 174.0
CENTER_FILTER_WAVELENGTH = 675.0
RADIANCE_OFFSET = 2.5795
RADIANCE_SCALING_FACTOR = 0.000367101
REFLECTANCE_SCALING_FACTOR = 8.46911e-06
MEX:REFLECTANCE_OFFSET = 0.0595096
/* IMAGE OBJECT DEFINITIONS */
OBJECT = IMAGE
  INTERCHANGE_FORMAT = BINARY
  LINES = 21895
  LINE_SAMPLES = 2936
  SAMPLE_TYPE = UNSIGNED_INTEGER
  SAMPLE_BITS = 8
  BANDS = 1
  BAND_STORAGE_TYPE = BAND_SEQUENTIAL
  MAXIMUM = 255
  MEAN = 254.999
  MINIMUM = 39
  STANDARD_DEVIATION = 0.259208
END_OBJECT = IMAGE
/* MAP OBJECT DEFINITIONS */
OBJECT = IMAGE_MAP_PROJECTION
  ^DATA_SET_MAP_PROJECTION_CATALOG= "DSMAP.CAT"
  A_AXIS_RADIUS = 3396.0
  B_AXIS_RADIUS = 3396.0
  C_AXIS_RADIUS = 3396.0
  CENTER_LATITUDE = 0.0
  CENTER_LONGITUDE = 115.0
  COORDINATE_SYSTEM_NAME = PLANETOGRAPHIC
  COORDINATE_SYSTEM_TYPE = "BODY-FIXED ROTATING"
  EASTERNMOST_LONGITUDE = 115.618
  FIRST_STANDARD_PARALLEL = "N/A"
  LINE_FIRST_PIXEL = 1
  LINE_LAST_PIXEL = 21895
  LINE_PROJECTION_OFFSET = -30099.25
  MAP_PROJECTION_ROTATION = 0.0
  MAP_PROJECTION_TYPE = SINUSOIDAL
  MAP_RESOLUTION = 2370.85521546667
  MAP_SCALE = 0.025
  MAXIMUM_LATITUDE = -12.6703
  MINIMUM_LATITUDE = -21.9413
  POSITIVE_LONGITUDE_DIRECTION = EAST
  REFERENCE_LATITUDE = "N/A"
  REFERENCE_LONGITUDE = "N/A"
  SAMPLE_FIRST_PIXEL = 1
  SAMPLE_LAST_PIXEL = 2936
  SAMPLE_PROJECTION_OFFSET = 1550.75
  SECOND_STANDARD_PARALLEL = "N/A"
  WESTERNMOST_LONGITUDE = 114.32
END_OBJECT = IMAGE_MAP_PROJECTION
END
