PDS_VERSION_ID = PDS3
/* FILE DATA ELEMENTS */
RECORD_TYPE = UNDEFINED
/* POINTERS TO DATA OBJECTS */
^IMAGE = ("HK888_0000_S24.TIF")
/* IDENTIFICATION DATA ELEMENTS */
DATA_SET_ID = "MEX-M-HRSC-4-REFDR-MAPPROJECT-EXT7-V4.0"
DATA_SET_NAME = "MARS EXPRESS HRSC MAP PROJECTED REFDR EXTENSION7 V4.0"
DETECTOR_ID = MEX_HRSC_S2
EVENT_TYPE = "MARS-REGIONAL-MAPPING-Vo-Te-Im"
INSTRUMENT_HOST_ID = MEX
INSTRUMENT_HOST_NAME = "MARS EXPRESS"
INSTRUMENT_ID = HRSC
INSTRUMENT_NAME = "HIGH RESOLUTION STEREO CAMERA"
MISSION_NAME = "MARS EXPRESS"
MISSION_PHASE_NAME = ME_Phase_43
PROCESSING_LEVEL_ID = 4
PRODUCT_CREATION_TIME = 2023-01-29T07:12:14.000Z
PRODUCT_ID = "HK888_0000_S24.TIF"
RELEASE_ID = 0004
REVISION_ID = 0000
/* QUALITY DATA ELEMENTS */
DATA_QUALITY_ID = 1
DATA_QUALITY_DESC = "Data calculated based on original SPICE kernels"
/* TIME DATA ELEMENTS */
SPACECRAFT_CLOCK_START_COUNT = "1/0542456535.25667"
SPACECRAFT_CLOCK_STOP_COUNT = "1/0542456807.58143"
START_TIME = 2020-07-10T10:22:48.162Z
STOP_TIME = 2020-07-10T10:26:07.374Z
/* ORBITAL DATA ELEMENTS */
ASCENDING_NODE_LONGITUDE = 183.31
MAXIMUM_RESOLUTION = 0.0335
FOOTPRINT_POINT_LATITUDE = (-44.2072,-44.1941,-44.1791,-44.1622, -44.1432,-44.1221,-44.0899,-44.0883, -44.0403,-43.6605,-43.2856,-43.0346, -42.7872,-42.5413,-42.2952,-42.0527, -41.8114,-41.5733,-41.3375,-41.0979, -40.8592,-40.6195,-40.3833,-40.1462, -39.7905,-39.5572,-39.3228,-38.9707, -38.7424,-38.5147,-38.2851,-38.0541, -37.8287,-37.4903,-37.2642,-37.04, -36.8212,-36.6008,-36.3821,-36.1614, -35.8319,-35.6149,-35.1838,-34.9649, -34.6485,-34.2229,-33.7924,-33.4733, -33.0515,-32.7345,-32.629,-32.5956, -32.6146,-32.6278,-32.6415,-32.6629, -32.6634,-32.6641,-33.0894,-33.5113, -33.9349,-34.1516,-34.3688,-34.696, -35.1193,-35.3359,-35.5534,-35.7727, -36.1002,-36.3236,-36.5484,-36.7708, -37.1038,-37.3282,-37.5552,-37.8942, -38.1178,-38.3469,-38.6899,-38.9183, -39.1491,-39.3839,-39.7404,-39.9778, -40.3299,-40.5649,-40.9248,-41.1685, -41.4092,-41.6488,-41.8917,-42.2564, -42.6214,-42.8709,-43.1132,-43.4896, -43.7409,-43.9952,-44.123,-44.2072)
FOOTPRINT_POINT_LONGITUDE = (261.149,260.763,260.376,259.987, 259.597,259.205,258.662,258.637,258.602 ,258.642,258.679,258.703,258.727, 258.751,258.774,258.797,258.82,258.845, 258.869,258.889,258.91,258.929,258.948, 258.966,258.993,259.01,259.027,259.051, 259.068,259.085,259.1,259.115,259.13, 259.152,259.167,259.182,259.197,259.211 ,259.227,259.241,259.26,259.273,259.3, 259.312,259.331,259.355,259.376,259.39, 259.409,259.423,259.428,259.429,259.817 ,260.106,260.441,261.057,261.073, 261.079,261.081,261.084,261.086,261.088 ,261.089,261.09,261.094,261.096,261.097 ,261.099,261.101,261.102,261.103, 261.105,261.107,261.109,261.11,261.112, 261.114,261.116,261.118,261.12,261.122, 261.123,261.125,261.126,261.129,261.131 ,261.133,261.134,261.136,261.137, 261.139,261.142,261.146,261.147,261.15, 261.153,261.155,261.156,261.157, 261.149)
ORBIT_NUMBER = 20888
ORBITAL_ECCENTRICITY = 0.578
ORBITAL_INCLINATION = 86.96
ORBITAL_SEMIMAJOR_AXIS = 8849.11
PERIAPSIS_ALTITUDE = 341.11
PERIAPSIS_ARGUMENT_ANGLE = 340.98
PERIAPSIS_TIME = 2020-07-10T10:30:16.000Z
SPACECRAFT_ORIENTATION = (0.0,1.0,0.0)
^MEX_ORIENTATION_DESC = "MEX_ORIENTATION_DESC.TXT"
SPACECRAFT_POINTING_MODE = ACROSSTRACK
^MEX_POINTING_DESC = "MEX_POINTING_DESC.TXT"
RIGHT_ASCENSION = -1e+32
DECLINATION = -1e+32
OFFSET_ANGLE = 0.539
SPACECRAFT_SOLAR_DISTANCE = 2.07268e+08
TARGET_NAME = MARS
/* CAMERA DATA ELEMENTS */
DETECTOR_TEMPERATURE = 18.7783
FOCAL_PLANE_TEMPERATURE = 8.3794
INST_CMPRS_NAME = "DISCRETE COSINE TRANSFORMATION (DCT)"
INST_CMPRS_RATIO = 10.8574
INST_CMPRS_QUALITY = 0
INST_CMPRS_QUANTZ_TBL_ID = 0
INSTRUMENT_TEMPERATURE = 9.6028
LENS_TEMPERATURE = 8.5833
MACROPIXEL_SIZE = 2
MISSING_FRAMES = 0
PIXEL_SUBSAMPLING_FLAG = N
SIGNAL_CHAIN_ID = 1
/* RADIOMETRIC DATA ELEMENTS */
BANDWIDTH = 178.0
CENTER_FILTER_WAVELENGTH = 679.0
RADIANCE_OFFSET = 2.71193
RADIANCE_SCALING_FACTOR = 0.00901444
REFLECTANCE_SCALING_FACTOR = 0.000205085
MEX:REFLECTANCE_OFFSET = 0.0616984
/* IMAGE OBJECT DEFINITIONS */
OBJECT = IMAGE
  INTERCHANGE_FORMAT = BINARY
  LINES = 27356
  LINE_SAMPLES = 4297
  SAMPLE_TYPE = UNSIGNED_INTEGER
  SAMPLE_BITS = 8
  BANDS = 1
  BAND_STORAGE_TYPE = BAND_SEQUENTIAL
  MAXIMUM = 255
  MEAN = 126.686
  MINIMUM = 1
  STANDARD_DEVIATION = 37.1105
END_OBJECT = IMAGE
/* MAP OBJECT DEFINITIONS */
OBJECT = IMAGE_MAP_PROJECTION
  ^DATA_SET_MAP_PROJECTION_CATALOG= "DSMAP.CAT"
  A_AXIS_RADIUS = 3396.0
  B_AXIS_RADIUS = 3396.0
  C_AXIS_RADIUS = 3396.0
  CENTER_LATITUDE = 0.0
  CENTER_LONGITUDE = 260.0
  COORDINATE_SYSTEM_NAME = PLANETOGRAPHIC
  COORDINATE_SYSTEM_TYPE = "BODY-FIXED ROTATING"
  EASTERNMOST_LONGITUDE = 261.157
  FIRST_STANDARD_PARALLEL = "N/A"
  LINE_FIRST_PIXEL = 1
  LINE_LAST_PIXEL = 27356
  LINE_PROJECTION_OFFSET = -77202.75
  MAP_PROJECTION_ROTATION = 0.0
  MAP_PROJECTION_TYPE = SINUSOIDAL
  MAP_RESOLUTION = 2370.85521546667
  MAP_SCALE = 0.025
  MAXIMUM_LATITUDE = -32.5956
  MINIMUM_LATITUDE = -44.2072
  POSITIVE_LONGITUDE_DIRECTION = EAST
  REFERENCE_LATITUDE = "N/A"
  REFERENCE_LONGITUDE = "N/A"
  SAMPLE_FIRST_PIXEL = 1
  SAMPLE_LAST_PIXEL = 4297
  SAMPLE_PROJECTION_OFFSET = 2209.25
  SECOND_STANDARD_PARALLEL = "N/A"
  WESTERNMOST_LONGITUDE = 258.602
END_OBJECT = IMAGE_MAP_PROJECTION
END
