PDS_VERSION_ID = PDS3
/* FILE DATA ELEMENTS */
RECORD_TYPE = UNDEFINED
/* POINTERS TO DATA OBJECTS */
^IMAGE = ("HK887_0000_S24.TIF")
/* IDENTIFICATION DATA ELEMENTS */
DATA_SET_ID = "MEX-M-HRSC-4-REFDR-MAPPROJECT-EXT7-V4.0"
DATA_SET_NAME = "MARS EXPRESS HRSC MAP PROJECTED REFDR EXTENSION7 V4.0"
DETECTOR_ID = MEX_HRSC_S2
EVENT_TYPE = "MARS-REGIONAL-MAPPING-Im-Fl-Gl"
INSTRUMENT_HOST_ID = MEX
INSTRUMENT_HOST_NAME = "MARS EXPRESS"
INSTRUMENT_ID = HRSC
INSTRUMENT_NAME = "HIGH RESOLUTION STEREO CAMERA"
MISSION_NAME = "MARS EXPRESS"
MISSION_PHASE_NAME = ME_Phase_43
PROCESSING_LEVEL_ID = 4
PRODUCT_CREATION_TIME = 2023-01-29T07:12:14.000Z
PRODUCT_ID = "HK887_0000_S24.TIF"
RELEASE_ID = 0004
REVISION_ID = 0000
/* QUALITY DATA ELEMENTS */
DATA_QUALITY_ID = 1
DATA_QUALITY_DESC = "Data calculated based on original SPICE kernels"
/* TIME DATA ELEMENTS */
SPACECRAFT_CLOCK_START_COUNT = "1/0542431450.23979"
SPACECRAFT_CLOCK_STOP_COUNT = "1/0542431722.56962"
START_TIME = 2020-07-10T03:24:43.115Z
STOP_TIME = 2020-07-10T03:28:07.110Z
/* ORBITAL DATA ELEMENTS */
ASCENDING_NODE_LONGITUDE = 183.34
MAXIMUM_RESOLUTION = 0.0319
FOOTPRINT_POINT_LATITUDE = (-40.7873,-40.7876,-40.7861,-40.783, -40.7732,-40.7654,-40.7649,-40.7203, -40.459,-40.2006,-39.9431,-39.6854, -39.4324,-39.1788,-38.7985,-38.425, -38.1758,-37.8026,-37.5579,-37.3126, -36.9439,-36.5825,-36.3411,-36.099, -35.8577,-35.6216,-35.385,-35.0311, -34.7916,-34.3265,-34.0904,-33.8553, -33.395,-33.1589,-32.9229,-32.5695, -32.3335,-32.093,-31.7309,-31.3841, -31.0266,-30.7879,-30.4291,-30.1899, -29.9498,-29.7093,-29.4685,-29.2276, -28.9856,-28.7434,-28.6222,-28.6092, -28.6103,-28.6094,-28.6043,-28.6041, -28.6046,-28.847,-29.2093,-29.5713, -29.9339,-30.1744,-30.4145,-30.6543, -30.8932,-31.1332,-31.372,-31.6083, -31.8475,-32.0846,-32.3212,-32.5573, -32.7942,-33.0312,-33.3865,-33.8514, -34.3154,-34.7849,-35.0229,-35.2613, -35.499,-35.7353,-35.9746,-36.217, -36.5799,-36.9418,-37.312,-37.5583, -37.8037,-38.1777,-38.4276,-38.8017, -39.1834,-39.4377,-39.6913,-39.9497, -40.2087,-40.5915,-40.7305,-40.7873)
FOOTPRINT_POINT_LONGITUDE = (4.21102,3.72019,3.3795,3.03944,2.40364 ,2.04338,2.0222,2.00355,2.02067,2.03693 ,2.0533,2.06939,2.08476,2.09986,2.12214 ,2.14328,2.15717,2.17728,2.19021, 2.20287,2.22151,2.2391,2.25055,2.26174, 2.27276,2.28348,2.29399,2.30981,2.31926 ,2.33806,2.34643,2.355,2.3744,2.38247, 2.39051,2.40259,2.41044,2.4171,2.42665, 2.43983,2.4502,2.45695,2.46674,2.47319, 2.47935,2.48535,2.49121,2.49695,2.50239 ,2.50771,2.51033,2.51062,3.00242, 3.48151,3.99196,4.00657,4.01185,4.01534 ,4.02086,4.02628,4.03117,4.03483,4.0385 ,4.04216,4.0461,4.04945,4.05315,4.05778 ,4.06108,4.06513,4.06928,4.07346, 4.07721,4.08074,4.08587,4.09604,4.10608 ,4.11308,4.11747,4.1218,4.12624,4.13117 ,4.1355,4.14021,4.14722,4.15428,4.16149 ,4.16623,4.17123,4.17869,4.18398, 4.19182,4.19961,4.20486,4.21019,4.21565 ,4.22087,4.23157,4.23087,4.21102)
ORBIT_NUMBER = 20887
ORBITAL_ECCENTRICITY = 0.577
ORBITAL_INCLINATION = 86.96
ORBITAL_SEMIMAJOR_AXIS = 8838.74
PERIAPSIS_ALTITUDE = 341.82
PERIAPSIS_ARGUMENT_ANGLE = 341.16
PERIAPSIS_TIME = 2020-07-10T03:31:13.000Z
SPACECRAFT_ORIENTATION = (0.0,1.0,0.0)
^MEX_ORIENTATION_DESC = "MEX_ORIENTATION_DESC.TXT"
SPACECRAFT_POINTING_MODE = ACROSSTRACK
^MEX_POINTING_DESC = "MEX_POINTING_DESC.TXT"
RIGHT_ASCENSION = -1e+32
DECLINATION = -1e+32
OFFSET_ANGLE = -0.15
SPACECRAFT_SOLAR_DISTANCE = 2.07283e+08
TARGET_NAME = MARS
/* CAMERA DATA ELEMENTS */
DETECTOR_TEMPERATURE = 18.7783
FOCAL_PLANE_TEMPERATURE = 8.3794
INST_CMPRS_NAME = "DISCRETE COSINE TRANSFORMATION (DCT)"
INST_CMPRS_RATIO = 10.5255
INST_CMPRS_QUALITY = 0
INST_CMPRS_QUANTZ_TBL_ID = 0
INSTRUMENT_TEMPERATURE = 10.8262
LENS_TEMPERATURE = 8.5833
MACROPIXEL_SIZE = 2
MISSING_FRAMES = 0
PIXEL_SUBSAMPLING_FLAG = N
SIGNAL_CHAIN_ID = 1
/* RADIOMETRIC DATA ELEMENTS */
BANDWIDTH = 178.0
CENTER_FILTER_WAVELENGTH = 679.0
RADIANCE_OFFSET = 2.97079
RADIANCE_SCALING_FACTOR = 0.00595453
REFLECTANCE_SCALING_FACTOR = 0.00013549
MEX:REFLECTANCE_OFFSET = 0.0675977
/* IMAGE OBJECT DEFINITIONS */
OBJECT = IMAGE
  INTERCHANGE_FORMAT = BINARY
  LINES = 28756
  LINE_SAMPLES = 3734
  SAMPLE_TYPE = UNSIGNED_INTEGER
  SAMPLE_BITS = 8
  BANDS = 1
  BAND_STORAGE_TYPE = BAND_SEQUENTIAL
  MAXIMUM = 255
  MEAN = 130.676
  MINIMUM = 1
  STANDARD_DEVIATION = 53.549
END_OBJECT = IMAGE
/* MAP OBJECT DEFINITIONS */
OBJECT = IMAGE_MAP_PROJECTION
  ^DATA_SET_MAP_PROJECTION_CATALOG= "DSMAP.CAT"
  A_AXIS_RADIUS = 3396.0
  B_AXIS_RADIUS = 3396.0
  C_AXIS_RADIUS = 3396.0
  CENTER_LATITUDE = 0.0
  CENTER_LONGITUDE = 3.0
  COORDINATE_SYSTEM_NAME = PLANETOGRAPHIC
  COORDINATE_SYSTEM_TYPE = "BODY-FIXED ROTATING"
  EASTERNMOST_LONGITUDE = 4.23157
  FIRST_STANDARD_PARALLEL = "N/A"
  LINE_FIRST_PIXEL = 1
  LINE_LAST_PIXEL = 28756
  LINE_PROJECTION_OFFSET = -67790.75
  MAP_PROJECTION_ROTATION = 0.0
  MAP_PROJECTION_TYPE = SINUSOIDAL
  MAP_RESOLUTION = 2370.85521546667
  MAP_SCALE = 0.025
  MAXIMUM_LATITUDE = -28.6041
  MINIMUM_LATITUDE = -40.7876
  POSITIVE_LONGITUDE_DIRECTION = EAST
  REFERENCE_LATITUDE = "N/A"
  REFERENCE_LONGITUDE = "N/A"
  SAMPLE_FIRST_PIXEL = 1
  SAMPLE_LAST_PIXEL = 3734
  SAMPLE_PROJECTION_OFFSET = 1662.25
  SECOND_STANDARD_PARALLEL = "N/A"
  WESTERNMOST_LONGITUDE = 2.00355
END_OBJECT = IMAGE_MAP_PROJECTION
END
