PDS_VERSION_ID = PDS3
/* FILE DATA ELEMENTS */
RECORD_TYPE = UNDEFINED
/* POINTERS TO DATA OBJECTS */
^IMAGE = ("HK887_0000_P24.TIF")
/* IDENTIFICATION DATA ELEMENTS */
DATA_SET_ID = "MEX-M-HRSC-4-REFDR-MAPPROJECT-EXT7-V4.0"
DATA_SET_NAME = "MARS EXPRESS HRSC MAP PROJECTED REFDR EXTENSION7 V4.0"
DETECTOR_ID = MEX_HRSC_P2
EVENT_TYPE = "MARS-REGIONAL-MAPPING-Im-Fl-Gl"
INSTRUMENT_HOST_ID = MEX
INSTRUMENT_HOST_NAME = "MARS EXPRESS"
INSTRUMENT_ID = HRSC
INSTRUMENT_NAME = "HIGH RESOLUTION STEREO CAMERA"
MISSION_NAME = "MARS EXPRESS"
MISSION_PHASE_NAME = ME_Phase_43
PROCESSING_LEVEL_ID = 4
PRODUCT_CREATION_TIME = 2023-01-29T07:12:14.000Z
PRODUCT_ID = "HK887_0000_P24.TIF"
RELEASE_ID = 0004
REVISION_ID = 0000
/* QUALITY DATA ELEMENTS */
DATA_QUALITY_ID = 1
DATA_QUALITY_DESC = "Data calculated based on original SPICE kernels"
/* TIME DATA ELEMENTS */
SPACECRAFT_CLOCK_START_COUNT = "1/0542431450.23979"
SPACECRAFT_CLOCK_STOP_COUNT = "1/0542431722.56962"
START_TIME = 2020-07-10T03:24:59.867Z
STOP_TIME = 2020-07-10T03:28:19.108Z
/* ORBITAL DATA ELEMENTS */
ASCENDING_NODE_LONGITUDE = 183.34
MAXIMUM_RESOLUTION = 0.0305
FOOTPRINT_POINT_LATITUDE = (-40.7615,-40.7608,-40.7587,-40.752, -40.7389,-40.7384,-40.7086,-40.4515, -40.1958,-39.9386,-39.6834,-39.4321, -39.1803,-38.9283,-38.6785,-38.4314, -38.1841,-37.9364,-37.5701,-37.2058, -36.9627,-36.6007,-36.3622,-36.1236, -35.8847,-35.5288,-35.0632,-34.8272, -34.3576,-34.1204,-33.5342,-33.1789, -32.9414,-32.7023,-32.2288,-31.9846, -31.7452,-31.3924,-31.1531,-30.9132, -30.6733,-30.3126,-30.0722,-29.8311, -29.5897,-29.348,-28.9846,-28.7421, -28.6209,-28.6056,-28.6071,-28.6063, -28.6034,-28.6031,-28.6036,-28.8465, -29.21,-29.5729,-29.936,-30.1774, -30.4183,-30.6592,-30.8995,-31.1403, -31.3801,-31.6191,-31.8586,-32.0973, -32.3356,-32.5737,-32.8123,-33.0506, -33.2895,-33.7601,-33.9963,-34.3485, -34.7032,-35.1731,-35.6408,-35.8804, -36.1199,-36.3591,-36.5978,-36.8383, -37.0824,-37.3263,-37.5699,-37.8128, -38.0611,-38.3092,-38.557,-38.8043, -39.0573,-39.4362,-39.6881,-39.944, -40.2022,-40.5828,-40.7163,-40.7615)
FOOTPRINT_POINT_LONGITUDE = (4.17576,3.69859,3.34704,2.76934, 2.06943,2.04886,2.02987,2.04623,2.06227 ,2.07759,2.09306,2.10781,2.12234, 2.13669,2.15058,2.16401,2.17729,2.19035 ,2.20919,2.22728,2.23918,2.25628, 2.26715,2.27791,2.2885,2.30398,2.32433, 2.33315,2.35156,2.3598,2.38277,2.395, 2.40283,2.41005,2.4261,2.43117,2.43808, 2.45075,2.45758,2.46412,2.4706,2.47994, 2.48613,2.49199,2.49771,2.50328,2.51122 ,2.51639,2.51895,2.51926,3.16112, 3.59098,3.97937,3.99388,3.99908,4.00228 ,4.00733,4.01238,4.01704,4.02037, 4.02384,4.02715,4.03067,4.03373,4.03722 ,4.04113,4.04449,4.04822,4.05201, 4.05581,4.05906,4.06231,4.065,4.07451, 4.07841,4.08529,4.09012,4.09777,4.10616 ,4.11019,4.11426,4.11833,4.12248, 4.12661,4.13087,4.13509,4.13923,4.14355 ,4.14804,4.15261,4.15706,4.16167, 4.16623,4.17301,4.17768,4.18231,4.1862, 4.19621,4.19573,4.17576)
ORBIT_NUMBER = 20887
ORBITAL_ECCENTRICITY = 0.577
ORBITAL_INCLINATION = 86.96
ORBITAL_SEMIMAJOR_AXIS = 8838.74
PERIAPSIS_ALTITUDE = 341.82
PERIAPSIS_ARGUMENT_ANGLE = 341.16
PERIAPSIS_TIME = 2020-07-10T03:31:13.000Z
SPACECRAFT_ORIENTATION = (0.0,1.0,0.0)
^MEX_ORIENTATION_DESC = "MEX_ORIENTATION_DESC.TXT"
SPACECRAFT_POINTING_MODE = ACROSSTRACK
^MEX_POINTING_DESC = "MEX_POINTING_DESC.TXT"
RIGHT_ASCENSION = -1e+32
DECLINATION = -1e+32
OFFSET_ANGLE = -0.15
SPACECRAFT_SOLAR_DISTANCE = 2.07283e+08
TARGET_NAME = MARS
/* CAMERA DATA ELEMENTS */
DETECTOR_TEMPERATURE = 18.7783
FOCAL_PLANE_TEMPERATURE = 8.3794
INST_CMPRS_NAME = "DISCRETE COSINE TRANSFORMATION (DCT)"
INST_CMPRS_RATIO = 9.28917
INST_CMPRS_QUALITY = 0
INST_CMPRS_QUANTZ_TBL_ID = 0
INSTRUMENT_TEMPERATURE = 10.8262
LENS_TEMPERATURE = 8.5833
MACROPIXEL_SIZE = 2
MISSING_FRAMES = 0
PIXEL_SUBSAMPLING_FLAG = N
SIGNAL_CHAIN_ID = 3
/* RADIOMETRIC DATA ELEMENTS */
BANDWIDTH = 177.0
CENTER_FILTER_WAVELENGTH = 676.5
RADIANCE_OFFSET = 2.71075
RADIANCE_SCALING_FACTOR = 0.00517891
REFLECTANCE_SCALING_FACTOR = 0.000117984
MEX:REFLECTANCE_OFFSET = 0.0617555
/* IMAGE OBJECT DEFINITIONS */
OBJECT = IMAGE
  INTERCHANGE_FORMAT = BINARY
  LINES = 28756
  LINE_SAMPLES = 3734
  SAMPLE_TYPE = UNSIGNED_INTEGER
  SAMPLE_BITS = 8
  BANDS = 1
  BAND_STORAGE_TYPE = BAND_SEQUENTIAL
  MAXIMUM = 255
  MEAN = 146.425
  MINIMUM = 1
  STANDARD_DEVIATION = 55.6295
END_OBJECT = IMAGE
/* MAP OBJECT DEFINITIONS */
OBJECT = IMAGE_MAP_PROJECTION
  ^DATA_SET_MAP_PROJECTION_CATALOG= "DSMAP.CAT"
  A_AXIS_RADIUS = 3396.0
  B_AXIS_RADIUS = 3396.0
  C_AXIS_RADIUS = 3396.0
  CENTER_LATITUDE = 0.0
  CENTER_LONGITUDE = 3.0
  COORDINATE_SYSTEM_NAME = PLANETOGRAPHIC
  COORDINATE_SYSTEM_TYPE = "BODY-FIXED ROTATING"
  EASTERNMOST_LONGITUDE = 4.19621
  FIRST_STANDARD_PARALLEL = "N/A"
  LINE_FIRST_PIXEL = 1
  LINE_LAST_PIXEL = 28756
  LINE_PROJECTION_OFFSET = -67790.75
  MAP_PROJECTION_ROTATION = 0.0
  MAP_PROJECTION_TYPE = SINUSOIDAL
  MAP_RESOLUTION = 2370.85521546667
  MAP_SCALE = 0.025
  MAXIMUM_LATITUDE = -28.6031
  MINIMUM_LATITUDE = -40.7615
  POSITIVE_LONGITUDE_DIRECTION = EAST
  REFERENCE_LATITUDE = "N/A"
  REFERENCE_LONGITUDE = "N/A"
  SAMPLE_FIRST_PIXEL = 1
  SAMPLE_LAST_PIXEL = 3734
  SAMPLE_PROJECTION_OFFSET = 1662.25
  SECOND_STANDARD_PARALLEL = "N/A"
  WESTERNMOST_LONGITUDE = 2.02987
END_OBJECT = IMAGE_MAP_PROJECTION
END
