PDS_VERSION_ID = PDS3
/* FILE DATA ELEMENTS */
RECORD_TYPE = UNDEFINED
/* POINTERS TO DATA OBJECTS */
^IMAGE = ("HK885_0000_S14.TIF")
/* IDENTIFICATION DATA ELEMENTS */
DATA_SET_ID = "MEX-M-HRSC-4-REFDR-MAPPROJECT-EXT7-V4.0"
DATA_SET_NAME = "MARS EXPRESS HRSC MAP PROJECTED REFDR EXTENSION7 V4.0"
DETECTOR_ID = MEX_HRSC_S1
EVENT_TYPE = "MARS-REGIONAL-MAPPING-Vo-Te-Im"
INSTRUMENT_HOST_ID = MEX
INSTRUMENT_HOST_NAME = "MARS EXPRESS"
INSTRUMENT_ID = HRSC
INSTRUMENT_NAME = "HIGH RESOLUTION STEREO CAMERA"
MISSION_NAME = "MARS EXPRESS"
MISSION_PHASE_NAME = ME_Phase_43
PROCESSING_LEVEL_ID = 4
PRODUCT_CREATION_TIME = 2023-01-29T07:12:14.000Z
PRODUCT_ID = "HK885_0000_S14.TIF"
RELEASE_ID = 0004
REVISION_ID = 0000
/* QUALITY DATA ELEMENTS */
DATA_QUALITY_ID = 1
DATA_QUALITY_DESC = "Data calculated based on original SPICE kernels"
/* TIME DATA ELEMENTS */
SPACECRAFT_CLOCK_START_COUNT = "1/0542381146.23997"
SPACECRAFT_CLOCK_STOP_COUNT = "1/0542381351.12894"
START_TIME = 2020-07-09T13:27:49.354Z
STOP_TIME = 2020-07-09T13:29:41.976Z
/* ORBITAL DATA ELEMENTS */
ASCENDING_NODE_LONGITUDE = 183.37
MAXIMUM_RESOLUTION = 0.0326
FOOTPRINT_POINT_LATITUDE = (-41.6908,-41.6872,-41.6836,-41.6782, -41.6735,-41.6683,-41.6637,-41.6633, -41.6997,-41.5471,-41.3197,-41.1655, -40.9339,-40.777,-40.6247,-40.4736, -40.3246,-40.1036,-39.8821,-39.733, -39.4399,-39.22,-39.0736,-38.9256, -38.7773,-38.5588,-38.2697,-38.0496, -37.758,-37.5412,-37.2527,-37.0332, -36.8868,-36.7411,-36.5947,-36.3754, -36.0849,-35.9371,-35.7905,-35.5715, -35.4255,-35.0616,-34.8423,-34.6961, -34.5496,-34.4033,-34.3302,-34.3206, -34.3231,-34.3253,-34.3277,-34.33, -34.3319,-34.3327,-34.3327,-34.3334, -34.4804,-34.6271,-34.7736,-34.92, -35.0662,-35.2133,-35.5042,-35.6511, -35.798,-35.9445,-36.0926,-36.2392, -36.3847,-36.5315,-36.7514,-36.8978, -37.0439,-37.263,-37.4095,-37.5555, -37.8469,-38.0649,-38.2103,-38.428, -38.648,-38.7946,-39.0846,-39.2306, -39.451,-39.6,-39.7491,-39.9732, -40.1227,-40.2713,-40.4206,-40.5704, -40.7227,-40.8762,-41.1101,-41.2631, -41.4923,-41.6451,-41.7214,-41.6908)
FOOTPRINT_POINT_LONGITUDE = (208.167,207.775,207.462,207.05,206.737 ,206.424,206.169,206.149,206.126, 206.136,206.15,206.16,206.175,206.185, 206.194,206.203,206.212,206.223,206.235 ,206.243,206.257,206.269,206.277, 206.286,206.295,206.306,206.319,206.331 ,206.344,206.354,206.366,206.376, 206.383,206.389,206.395,206.405,206.416 ,206.423,206.429,206.437,206.443, 206.456,206.464,206.47,206.475,206.48, 206.483,206.483,206.751,206.956,207.193 ,207.493,207.762,208.093,208.109, 208.115,208.116,208.118,208.119,208.12, 208.122,208.123,208.125,208.127,208.129 ,208.13,208.132,208.134,208.135,208.136 ,208.139,208.14,208.141,208.143,208.145 ,208.146,208.149,208.15,208.151,208.153 ,208.156,208.157,208.159,208.161, 208.163,208.164,208.165,208.167,208.169 ,208.17,208.171,208.173,208.174,208.176 ,208.178,208.18,208.182,208.183,208.184 ,208.167)
ORBIT_NUMBER = 20885
ORBITAL_ECCENTRICITY = 0.577
ORBITAL_INCLINATION = 86.98
ORBITAL_SEMIMAJOR_AXIS = 8837.38
PERIAPSIS_ALTITUDE = 341.64
PERIAPSIS_ARGUMENT_ANGLE = 341.5
PERIAPSIS_TIME = 2020-07-09T13:33:14.000Z
SPACECRAFT_ORIENTATION = (0.0,1.0,0.0)
^MEX_ORIENTATION_DESC = "MEX_ORIENTATION_DESC.TXT"
SPACECRAFT_POINTING_MODE = NADIR
^MEX_POINTING_DESC = "MEX_POINTING_DESC.TXT"
RIGHT_ASCENSION = -1e+32
DECLINATION = -1e+32
OFFSET_ANGLE = -1e+32
SPACECRAFT_SOLAR_DISTANCE = 2.07314e+08
TARGET_NAME = MARS
/* CAMERA DATA ELEMENTS */
DETECTOR_TEMPERATURE = 17.351
FOCAL_PLANE_TEMPERATURE = 7.9716
INST_CMPRS_NAME = "DISCRETE COSINE TRANSFORMATION (DCT)"
INST_CMPRS_RATIO = 8.9401
INST_CMPRS_QUALITY = 0
INST_CMPRS_QUANTZ_TBL_ID = 0
INSTRUMENT_TEMPERATURE = 11.4379
LENS_TEMPERATURE = 8.5833
MACROPIXEL_SIZE = 2
MISSING_FRAMES = 1
PIXEL_SUBSAMPLING_FLAG = N
SIGNAL_CHAIN_ID = 1
/* RADIOMETRIC DATA ELEMENTS */
BANDWIDTH = 180.0
CENTER_FILTER_WAVELENGTH = 677.0
RADIANCE_OFFSET = 3.3268
RADIANCE_SCALING_FACTOR = 0.0073204
REFLECTANCE_SCALING_FACTOR = 0.000164148
MEX:REFLECTANCE_OFFSET = 0.0745978
/* IMAGE OBJECT DEFINITIONS */
OBJECT = IMAGE
  INTERCHANGE_FORMAT = BINARY
  LINES = 17595
  LINE_SAMPLES = 3883
  SAMPLE_TYPE = UNSIGNED_INTEGER
  SAMPLE_BITS = 8
  BANDS = 1
  BAND_STORAGE_TYPE = BAND_SEQUENTIAL
  MAXIMUM = 255
  MEAN = 90.4366
  MINIMUM = 1
  STANDARD_DEVIATION = 30.4902
END_OBJECT = IMAGE
/* MAP OBJECT DEFINITIONS */
OBJECT = IMAGE_MAP_PROJECTION
  ^DATA_SET_MAP_PROJECTION_CATALOG= "DSMAP.CAT"
  A_AXIS_RADIUS = 3396.0
  B_AXIS_RADIUS = 3396.0
  C_AXIS_RADIUS = 3396.0
  CENTER_LATITUDE = 0.0
  CENTER_LONGITUDE = 207.0
  COORDINATE_SYSTEM_NAME = PLANETOGRAPHIC
  COORDINATE_SYSTEM_TYPE = "BODY-FIXED ROTATING"
  EASTERNMOST_LONGITUDE = 208.184
  FIRST_STANDARD_PARALLEL = "N/A"
  LINE_FIRST_PIXEL = 1
  LINE_LAST_PIXEL = 17595
  LINE_PROJECTION_OFFSET = -81424.75
  MAP_PROJECTION_ROTATION = 0.0
  MAP_PROJECTION_TYPE = SINUSOIDAL
  MAP_RESOLUTION = 2370.85521546667
  MAP_SCALE = 0.025
  MAXIMUM_LATITUDE = -34.3206
  MINIMUM_LATITUDE = -41.7214
  POSITIVE_LONGITUDE_DIRECTION = EAST
  REFERENCE_LATITUDE = "N/A"
  REFERENCE_LONGITUDE = "N/A"
  SAMPLE_FIRST_PIXEL = 1
  SAMPLE_LAST_PIXEL = 3883
  SAMPLE_PROJECTION_OFFSET = 1654.25
  SECOND_STANDARD_PARALLEL = "N/A"
  WESTERNMOST_LONGITUDE = 206.126
END_OBJECT = IMAGE_MAP_PROJECTION
END
